| Back to Multiple platform build/check report for BioC 3.15 |
|
This page was generated on 2022-03-18 11:06:59 -0400 (Fri, 18 Mar 2022).
| Hostname | OS | Arch (*) | R version | Installed pkgs |
|---|---|---|---|---|
| nebbiolo1 | Linux (Ubuntu 20.04.4 LTS) | x86_64 | R Under development (unstable) (2022-02-17 r81757) -- "Unsuffered Consequences" | 4334 |
| riesling1 | Windows Server 2019 Standard | x64 | R Under development (unstable) (2021-11-21 r81221) -- "Unsuffered Consequences" | 4097 |
| palomino3 | Windows Server 2022 Datacenter | x64 | R Under development (unstable) (2022-02-17 r81757 ucrt) -- "Unsuffered Consequences" | 4083 |
| merida1 | macOS 10.14.6 Mojave | x86_64 | R Under development (unstable) (2022-03-02 r81842) -- "Unsuffered Consequences" | 4134 |
| Click on any hostname to see more info about the system (e.g. compilers) (*) as reported by 'uname -p', except on Windows and Mac OS X | ||||
|
To the developers/maintainers of the bcSeq package: - Please allow up to 24 hours (and sometimes 48 hours) for your latest push to git@git.bioconductor.org:packages/bcSeq.git to reflect on this report. See How and When does the builder pull? When will my changes propagate? here for more information. - Make sure to use the following settings in order to reproduce any error or warning you see on this page. |
| Package 127/2090 | Hostname | OS / Arch | INSTALL | BUILD | CHECK | BUILD BIN | ||||||||
| bcSeq 1.17.0 (landing page) Jiaxing Lin
| nebbiolo1 | Linux (Ubuntu 20.04.4 LTS) / x86_64 | OK | OK | WARNINGS | |||||||||
| riesling1 | Windows Server 2019 Standard / x64 | OK | OK | WARNINGS | OK | |||||||||
| palomino3 | Windows Server 2022 Datacenter / x64 | OK | OK | WARNINGS | OK | |||||||||
| merida1 | macOS 10.14.6 Mojave / x86_64 | OK | OK | OK | OK | |||||||||
| Package: bcSeq |
| Version: 1.17.0 |
| Command: D:\biocbuild\bbs-3.15-bioc\R\bin\R.exe CMD INSTALL bcSeq |
| StartedAt: 2022-03-17 15:38:56 -0400 (Thu, 17 Mar 2022) |
| EndedAt: 2022-03-17 15:40:38 -0400 (Thu, 17 Mar 2022) |
| EllapsedTime: 103.0 seconds |
| RetCode: 0 |
| Status: OK |
##############################################################################
##############################################################################
###
### Running command:
###
### D:\biocbuild\bbs-3.15-bioc\R\bin\R.exe CMD INSTALL bcSeq
###
##############################################################################
##############################################################################
* installing to library 'D:/biocbuild/bbs-3.15-bioc/R/library'
* installing *source* package 'bcSeq' ...
** using staged installation
** libs
"C:/rtools40/mingw64/bin/"g++ -std=gnu++11 -I"D:/biocbuild/bbs-3.15-bioc/R/include" -DNDEBUG -I'D:/biocbuild/bbs-3.15-bioc/R/library/Rcpp/include' -I'D:/biocbuild/bbs-3.15-bioc/R/library/Matrix/include' -I"C:/extsoft/include" -fopenmp -O2 -Wall -mfpmath=sse -msse2 -mstackrealign -fno-reorder-blocks-and-partition -c CRISPR_matching.cpp -o CRISPR_matching.o
In file included from helper/../structures/Trie.h:16,
from helper/count.h:5,
from CRISPR_matching.cpp:3:
helper/../structures/NodePool.h: In member function 'void Pool::resize()':
helper/../structures/NodePool.h:58:52: warning: 'void* memcpy(void*, const void*, size_t)' writing to an object of non-trivially copyable type 'struct Node'; use copy-assignment or copy-initialization instead [-Wclass-memaccess]
std::memcpy(x, buff.get(), count * sizeof(Node));
^
In file included from helper/../structures/Trie.h:15,
from helper/count.h:5,
from CRISPR_matching.cpp:3:
helper/../structures/Node.h:11:8: note: 'struct Node' declared here
struct Node {
^~~~
"C:/rtools40/mingw64/bin/"g++ -std=gnu++11 -I"D:/biocbuild/bbs-3.15-bioc/R/include" -DNDEBUG -I'D:/biocbuild/bbs-3.15-bioc/R/library/Rcpp/include' -I'D:/biocbuild/bbs-3.15-bioc/R/library/Matrix/include' -I"C:/extsoft/include" -fopenmp -O2 -Wall -mfpmath=sse -msse2 -mstackrealign -fno-reorder-blocks-and-partition -c RcppExports.cpp -o RcppExports.o
"C:/rtools40/mingw64/bin/"g++ -std=gnu++11 -I"D:/biocbuild/bbs-3.15-bioc/R/include" -DNDEBUG -I'D:/biocbuild/bbs-3.15-bioc/R/library/Rcpp/include' -I'D:/biocbuild/bbs-3.15-bioc/R/library/Matrix/include' -I"C:/extsoft/include" -fopenmp -O2 -Wall -mfpmath=sse -msse2 -mstackrealign -fno-reorder-blocks-and-partition -c Trie_edit.cpp -o Trie_edit.o
In file included from structures/Trie.h:16,
from Trie_edit.cpp:1:
structures/NodePool.h: In member function 'void Pool::resize()':
structures/NodePool.h:58:52: warning: 'void* memcpy(void*, const void*, size_t)' writing to an object of non-trivially copyable type 'struct Node'; use copy-assignment or copy-initialization instead [-Wclass-memaccess]
std::memcpy(x, buff.get(), count * sizeof(Node));
^
In file included from structures/Trie.h:15,
from Trie_edit.cpp:1:
structures/Node.h:11:8: note: 'struct Node' declared here
struct Node {
^~~~
"C:/rtools40/mingw64/bin/"g++ -std=gnu++11 -I"D:/biocbuild/bbs-3.15-bioc/R/include" -DNDEBUG -I'D:/biocbuild/bbs-3.15-bioc/R/library/Rcpp/include' -I'D:/biocbuild/bbs-3.15-bioc/R/library/Matrix/include' -I"C:/extsoft/include" -fopenmp -O2 -Wall -mfpmath=sse -msse2 -mstackrealign -fno-reorder-blocks-and-partition -c Trie_hamming.cpp -o Trie_hamming.o
In file included from structures/Trie.h:16,
from Trie_hamming.cpp:1:
structures/NodePool.h: In member function 'void Pool::resize()':
structures/NodePool.h:58:52: warning: 'void* memcpy(void*, const void*, size_t)' writing to an object of non-trivially copyable type 'struct Node'; use copy-assignment or copy-initialization instead [-Wclass-memaccess]
std::memcpy(x, buff.get(), count * sizeof(Node));
^
In file included from structures/Trie.h:15,
from Trie_hamming.cpp:1:
structures/Node.h:11:8: note: 'struct Node' declared here
struct Node {
^~~~
"C:/rtools40/mingw64/bin/"g++ -std=gnu++11 -I"D:/biocbuild/bbs-3.15-bioc/R/include" -DNDEBUG -I'D:/biocbuild/bbs-3.15-bioc/R/library/Rcpp/include' -I'D:/biocbuild/bbs-3.15-bioc/R/library/Matrix/include' -I"C:/extsoft/include" -fopenmp -O2 -Wall -mfpmath=sse -msse2 -mstackrealign -fno-reorder-blocks-and-partition -c Trie_util.cpp -o Trie_util.o
In file included from structures/Trie.h:16,
from Trie_util.cpp:2:
structures/NodePool.h: In member function 'void Pool::resize()':
structures/NodePool.h:58:52: warning: 'void* memcpy(void*, const void*, size_t)' writing to an object of non-trivially copyable type 'struct Node'; use copy-assignment or copy-initialization instead [-Wclass-memaccess]
std::memcpy(x, buff.get(), count * sizeof(Node));
^
In file included from structures/Trie.h:15,
from Trie_util.cpp:2:
structures/Node.h:11:8: note: 'struct Node' declared here
struct Node {
^~~~
"C:/rtools40/mingw64/bin/"g++ -std=gnu++11 -I"D:/biocbuild/bbs-3.15-bioc/R/include" -DNDEBUG -I'D:/biocbuild/bbs-3.15-bioc/R/library/Rcpp/include' -I'D:/biocbuild/bbs-3.15-bioc/R/library/Matrix/include' -I"C:/extsoft/include" -fopenmp -O2 -Wall -mfpmath=sse -msse2 -mstackrealign -fno-reorder-blocks-and-partition -c alignment.cpp -o alignment.o
"C:/rtools40/mingw64/bin/"gcc -I"D:/biocbuild/bbs-3.15-bioc/R/include" -DNDEBUG -I'D:/biocbuild/bbs-3.15-bioc/R/library/Rcpp/include' -I'D:/biocbuild/bbs-3.15-bioc/R/library/Matrix/include' -I"C:/extsoft/include" -O2 -Wall -std=gnu99 -mfpmath=sse -msse2 -mstackrealign -fno-reorder-blocks-and-partition -c init.c -o init.o
"C:/rtools40/mingw64/bin/"g++ -std=gnu++11 -I"D:/biocbuild/bbs-3.15-bioc/R/include" -DNDEBUG -I'D:/biocbuild/bbs-3.15-bioc/R/library/Rcpp/include' -I'D:/biocbuild/bbs-3.15-bioc/R/library/Matrix/include' -I"C:/extsoft/include" -fopenmp -O2 -Wall -mfpmath=sse -msse2 -mstackrealign -fno-reorder-blocks-and-partition -c trimRead.cpp -o trimRead.o
"C:/rtools40/mingw64/bin/"g++ -std=gnu++11 -I"D:/biocbuild/bbs-3.15-bioc/R/include" -DNDEBUG -I'D:/biocbuild/bbs-3.15-bioc/R/library/Rcpp/include' -I'D:/biocbuild/bbs-3.15-bioc/R/library/Matrix/include' -I"C:/extsoft/include" -fopenmp -O2 -Wall -mfpmath=sse -msse2 -mstackrealign -fno-reorder-blocks-and-partition -c uniqueBar.cpp -o uniqueBar.o
C:/rtools40/mingw64/bin/g++ -shared -s -static-libgcc -o bcSeq.dll tmp.def CRISPR_matching.o RcppExports.o Trie_edit.o Trie_hamming.o Trie_util.o alignment.o init.o trimRead.o uniqueBar.o -fopenmp -LC:/extsoft/lib/x64 -LC:/extsoft/lib -LD:/biocbuild/bbs-3.15-bioc/R/bin/x64 -lR
installing to D:/biocbuild/bbs-3.15-bioc/R/library/00LOCK-bcSeq/00new/bcSeq/libs/x64
** R
** inst
** byte-compile and prepare package for lazy loading
** help
*** installing help indices
converting help for package 'bcSeq'
finding HTML links ... done
bcSeq-package html
finding level-2 HTML links ... done
bcSeq_edit html
bcSeq_hamming html
trimRead html
uniqueBar html
** building package indices
** installing vignettes
** testing if installed package can be loaded from temporary location
** testing if installed package can be loaded from final location
** testing if installed package keeps a record of temporary installation path
* DONE (bcSeq)
Making 'packages.html' ... done