| Back to Multiple platform build/check report for BioC 3.15 | 
 | 
This page was generated on 2022-03-18 11:06:59 -0400 (Fri, 18 Mar 2022).
| Hostname | OS | Arch (*) | R version | Installed pkgs | 
|---|---|---|---|---|
| nebbiolo1 | Linux (Ubuntu 20.04.4 LTS) | x86_64 | R Under development (unstable) (2022-02-17 r81757) -- "Unsuffered Consequences" | 4334 | 
| riesling1 | Windows Server 2019 Standard | x64 | R Under development (unstable) (2021-11-21 r81221) -- "Unsuffered Consequences" | 4097 | 
| palomino3 | Windows Server 2022 Datacenter | x64 | R Under development (unstable) (2022-02-17 r81757 ucrt) -- "Unsuffered Consequences" | 4083 | 
| merida1 | macOS 10.14.6 Mojave | x86_64 | R Under development (unstable) (2022-03-02 r81842) -- "Unsuffered Consequences" | 4134 | 
| Click on any hostname to see more info about the system (e.g. compilers) (*) as reported by 'uname -p', except on Windows and Mac OS X | ||||
| To the developers/maintainers of the bcSeq package: - Please allow up to 24 hours (and sometimes 48 hours) for your latest push to git@git.bioconductor.org:packages/bcSeq.git to reflect on this report. See How and When does the builder pull? When will my changes propagate? here for more information. - Make sure to use the following settings in order to reproduce any error or warning you see on this page. | 
| Package 127/2090 | Hostname | OS / Arch | INSTALL | BUILD | CHECK | BUILD BIN | ||||||||
| bcSeq 1.17.0  (landing page) Jiaxing Lin 
 | nebbiolo1 | Linux (Ubuntu 20.04.4 LTS) / x86_64 | OK | OK | WARNINGS |  | ||||||||
| riesling1 | Windows Server 2019 Standard / x64 | OK | OK | WARNINGS | OK | |||||||||
| palomino3 | Windows Server 2022 Datacenter / x64 | OK | OK | WARNINGS | OK |  | ||||||||
| merida1 | macOS 10.14.6 Mojave / x86_64 | OK | OK | OK | OK |  | ||||||||
| Package: bcSeq | 
| Version: 1.17.0 | 
| Command: chmod a+r bcSeq -R && D:\biocbuild\bbs-3.15-bioc\R\bin\R.exe CMD build --keep-empty-dirs --no-resave-data bcSeq | 
| StartedAt: 2022-03-17 16:24:52 -0400 (Thu, 17 Mar 2022) | 
| EndedAt: 2022-03-17 16:25:53 -0400 (Thu, 17 Mar 2022) | 
| EllapsedTime: 60.5 seconds | 
| RetCode: 0 | 
| Status: OK | 
| PackageFile: bcSeq_1.17.0.tar.gz | 
| PackageFileSize: 224.9 KiB | 
############################################################################## ############################################################################## ### ### Running command: ### ### chmod a+r bcSeq -R && D:\biocbuild\bbs-3.15-bioc\R\bin\R.exe CMD build --keep-empty-dirs --no-resave-data bcSeq ### ############################################################################## ############################################################################## * checking for file 'bcSeq/DESCRIPTION' ... OK * preparing 'bcSeq': * checking DESCRIPTION meta-information ... OK * cleaning src * installing the package to build vignettes * creating vignettes ... OK * cleaning src * checking for LF line-endings in source and make files and shell scripts * checking for empty or unneeded directories * building 'bcSeq_1.17.0.tar.gz'