| Back to Multiple platform build/check report for BioC 3.15 |
|
This page was generated on 2022-03-18 11:08:11 -0400 (Fri, 18 Mar 2022).
| Hostname | OS | Arch (*) | R version | Installed pkgs |
|---|---|---|---|---|
| nebbiolo1 | Linux (Ubuntu 20.04.4 LTS) | x86_64 | R Under development (unstable) (2022-02-17 r81757) -- "Unsuffered Consequences" | 4334 |
| riesling1 | Windows Server 2019 Standard | x64 | R Under development (unstable) (2021-11-21 r81221) -- "Unsuffered Consequences" | 4097 |
| palomino3 | Windows Server 2022 Datacenter | x64 | R Under development (unstable) (2022-02-17 r81757 ucrt) -- "Unsuffered Consequences" | 4083 |
| merida1 | macOS 10.14.6 Mojave | x86_64 | R Under development (unstable) (2022-03-02 r81842) -- "Unsuffered Consequences" | 4134 |
| Click on any hostname to see more info about the system (e.g. compilers) (*) as reported by 'uname -p', except on Windows and Mac OS X | ||||
|
To the developers/maintainers of the NoRCE package: - Please allow up to 24 hours (and sometimes 48 hours) for your latest push to git@git.bioconductor.org:packages/NoRCE.git to reflect on this report. See How and When does the builder pull? When will my changes propagate? here for more information. - Make sure to use the following settings in order to reproduce any error or warning you see on this page. |
| Package 1306/2090 | Hostname | OS / Arch | INSTALL | BUILD | CHECK | BUILD BIN | ||||||||
| NoRCE 1.7.1 (landing page) Gulden Olgun
| nebbiolo1 | Linux (Ubuntu 20.04.4 LTS) / x86_64 | OK | OK | OK | |||||||||
| riesling1 | Windows Server 2019 Standard / x64 | OK | OK | OK | OK | |||||||||
| palomino3 | Windows Server 2022 Datacenter / x64 | OK | OK | OK | OK | |||||||||
| merida1 | macOS 10.14.6 Mojave / x86_64 | OK | OK | ERROR | OK | |||||||||
| Package: NoRCE |
| Version: 1.7.1 |
| Command: rm -rf NoRCE.buildbin-libdir && mkdir NoRCE.buildbin-libdir && D:\biocbuild\bbs-3.15-bioc\R\bin\R.exe CMD INSTALL --build --library=NoRCE.buildbin-libdir NoRCE_1.7.1.tar.gz |
| StartedAt: 2022-03-17 21:25:31 -0400 (Thu, 17 Mar 2022) |
| EndedAt: 2022-03-17 21:26:43 -0400 (Thu, 17 Mar 2022) |
| EllapsedTime: 71.9 seconds |
| RetCode: 0 |
| Status: OK |
| PackageFile: NoRCE_1.7.1.zip |
| PackageFileSize: 2.431 MiB |
##############################################################################
##############################################################################
###
### Running command:
###
### rm -rf NoRCE.buildbin-libdir && mkdir NoRCE.buildbin-libdir && D:\biocbuild\bbs-3.15-bioc\R\bin\R.exe CMD INSTALL --build --library=NoRCE.buildbin-libdir NoRCE_1.7.1.tar.gz
###
##############################################################################
##############################################################################
* installing *source* package 'NoRCE' ...
** using staged installation
** R
** data
*** moving datasets to lazyload DB
** inst
** byte-compile and prepare package for lazy loading
** help
*** installing help indices
converting help for package 'NoRCE'
finding HTML links ... done
KeggEnrichment html
NoRCE-class html
WikiEnrichment html
annGO html
assembly html
brain_disorder_ncRNA html
brain_mirna html
breastmRNA html
calculateCorr html
convertGMT html
convertGeneID html
corrbased html
corrbasedMrna html
createNetwork html
drawDotPlot html
extractBiotype html
filterBiotype html
geneGOEnricher html
genePathwayEnricher html
geneRegionGOEnricher html
geneRegionPathwayEnricher html
getGoDag html
getKeggDiagram html
getNearToExon html
getNearToIntron html
getReactomeDiagram html
getTADOverlap html
getUCSC html
getmiRNACount html
goEnrichment html
listTAD html
mirna html
mirnaGOEnricher html
mirnaPathwayEnricher html
mirnaRegionGOEnricher html
mirnaRegionPathwayEnricher html
mrna html
ncRegion html
packageCheck html
pathwayEnrichment html
predictmiTargets html
reactomeEnrichment html
setParameters html
tad_dmel html
tad_hg19 html
tad_hg38 html
tad_mm10 html
topEnrichment html
writeEnrichment html
** building package indices
** installing vignettes
** testing if installed package can be loaded from temporary location
** testing if installed package can be loaded from final location
** testing if installed package keeps a record of temporary installation path
* MD5 sums
packaged installation of 'NoRCE' as NoRCE_1.7.1.zip
* DONE (NoRCE)