| Back to Multiple platform build/check report for BioC 3.15 |
|
This page was generated on 2022-10-19 13:20:36 -0400 (Wed, 19 Oct 2022).
| Hostname | OS | Arch (*) | R version | Installed pkgs |
|---|---|---|---|---|
| nebbiolo1 | Linux (Ubuntu 20.04.5 LTS) | x86_64 | 4.2.1 (2022-06-23) -- "Funny-Looking Kid" | 4386 |
| palomino3 | Windows Server 2022 Datacenter | x64 | 4.2.1 (2022-06-23 ucrt) -- "Funny-Looking Kid" | 4138 |
| merida1 | macOS 10.14.6 Mojave | x86_64 | 4.2.1 (2022-06-23) -- "Funny-Looking Kid" | 4205 |
| Click on any hostname to see more info about the system (e.g. compilers) (*) as reported by 'uname -p', except on Windows and Mac OS X | ||||
|
To the developers/maintainers of the NoRCE package: - Please allow up to 24 hours (and sometimes 48 hours) for your latest push to git@git.bioconductor.org:packages/NoRCE.git to reflect on this report. See How and When does the builder pull? When will my changes propagate? for more information. - Make sure to use the following settings in order to reproduce any error or warning you see on this page. |
| Package 1333/2140 | Hostname | OS / Arch | INSTALL | BUILD | CHECK | BUILD BIN | ||||||||
| NoRCE 1.8.0 (landing page) Gulden Olgun
| nebbiolo1 | Linux (Ubuntu 20.04.5 LTS) / x86_64 | OK | OK | OK | |||||||||
| palomino3 | Windows Server 2022 Datacenter / x64 | OK | OK | OK | OK | |||||||||
| merida1 | macOS 10.14.6 Mojave / x86_64 | OK | OK | OK | OK | |||||||||
| Package: NoRCE |
| Version: 1.8.0 |
| Command: /home/biocbuild/bbs-3.15-bioc/R/bin/R CMD check --install=check:NoRCE.install-out.txt --library=/home/biocbuild/bbs-3.15-bioc/R/library --no-vignettes --timings NoRCE_1.8.0.tar.gz |
| StartedAt: 2022-10-18 20:52:30 -0400 (Tue, 18 Oct 2022) |
| EndedAt: 2022-10-18 20:59:34 -0400 (Tue, 18 Oct 2022) |
| EllapsedTime: 423.8 seconds |
| RetCode: 0 |
| Status: OK |
| CheckDir: NoRCE.Rcheck |
| Warnings: 0 |
##############################################################################
##############################################################################
###
### Running command:
###
### /home/biocbuild/bbs-3.15-bioc/R/bin/R CMD check --install=check:NoRCE.install-out.txt --library=/home/biocbuild/bbs-3.15-bioc/R/library --no-vignettes --timings NoRCE_1.8.0.tar.gz
###
##############################################################################
##############################################################################
* using log directory ‘/home/biocbuild/bbs-3.15-bioc/meat/NoRCE.Rcheck’
* using R version 4.2.1 (2022-06-23)
* using platform: x86_64-pc-linux-gnu (64-bit)
* using session charset: UTF-8
* using option ‘--no-vignettes’
* checking for file ‘NoRCE/DESCRIPTION’ ... OK
* checking extension type ... Package
* this is package ‘NoRCE’ version ‘1.8.0’
* package encoding: UTF-8
* checking package namespace information ... OK
* checking package dependencies ... OK
* checking if this is a source package ... OK
* checking if there is a namespace ... OK
* checking for hidden files and directories ... OK
* checking for portable file names ... OK
* checking for sufficient/correct file permissions ... OK
* checking whether package ‘NoRCE’ can be installed ... OK
* checking installed package size ... OK
* checking package directory ... OK
* checking ‘build’ directory ... OK
* checking DESCRIPTION meta-information ... OK
* checking top-level files ... OK
* checking for left-over files ... OK
* checking index information ... OK
* checking package subdirectories ... OK
* checking R files for non-ASCII characters ... OK
* checking R files for syntax errors ... OK
* checking whether the package can be loaded ... OK
* checking whether the package can be loaded with stated dependencies ... OK
* checking whether the package can be unloaded cleanly ... OK
* checking whether the namespace can be loaded with stated dependencies ... OK
* checking whether the namespace can be unloaded cleanly ... OK
* checking dependencies in R code ... OK
* checking S3 generic/method consistency ... OK
* checking replacement functions ... OK
* checking foreign function calls ... OK
* checking R code for possible problems ... OK
* checking Rd files ... OK
* checking Rd metadata ... OK
* checking Rd cross-references ... OK
* checking for missing documentation entries ... OK
* checking for code/documentation mismatches ... OK
* checking Rd \usage sections ... OK
* checking Rd contents ... OK
* checking for unstated dependencies in examples ... OK
* checking contents of ‘data’ directory ... OK
* checking data for non-ASCII characters ... OK
* checking LazyData ... OK
* checking data for ASCII and uncompressed saves ... OK
* checking files in ‘vignettes’ ... OK
* checking examples ... OK
Examples with CPU (user + system) or elapsed time > 5s
user system elapsed
KeggEnrichment 17.208 0.914 56.583
genePathwayEnricher 12.616 0.200 21.516
assembly 12.051 0.493 48.055
writeEnrichment 6.030 0.676 6.706
mirnaGOEnricher 6.092 0.138 6.230
calculateCorr 5.227 0.039 5.267
* checking for unstated dependencies in ‘tests’ ... OK
* checking tests ...
Running ‘testthat.R’
OK
* checking for unstated dependencies in vignettes ... OK
* checking package vignettes in ‘inst/doc’ ... OK
* checking running R code from vignettes ... SKIPPED
* checking re-building of vignette outputs ... SKIPPED
* checking PDF version of manual ... OK
* DONE
Status: OK
NoRCE.Rcheck/00install.out
############################################################################## ############################################################################## ### ### Running command: ### ### /home/biocbuild/bbs-3.15-bioc/R/bin/R CMD INSTALL NoRCE ### ############################################################################## ############################################################################## * installing to library ‘/home/biocbuild/bbs-3.15-bioc/R/library’ * installing *source* package ‘NoRCE’ ... ** using staged installation ** R ** data *** moving datasets to lazyload DB ** inst ** byte-compile and prepare package for lazy loading ** help *** installing help indices ** building package indices ** installing vignettes ** testing if installed package can be loaded from temporary location ** testing if installed package can be loaded from final location ** testing if installed package keeps a record of temporary installation path * DONE (NoRCE)
NoRCE.Rcheck/tests/testthat.Rout
R version 4.2.1 (2022-06-23) -- "Funny-Looking Kid"
Copyright (C) 2022 The R Foundation for Statistical Computing
Platform: x86_64-pc-linux-gnu (64-bit)
R is free software and comes with ABSOLUTELY NO WARRANTY.
You are welcome to redistribute it under certain conditions.
Type 'license()' or 'licence()' for distribution details.
R is a collaborative project with many contributors.
Type 'contributors()' for more information and
'citation()' on how to cite R or R packages in publications.
Type 'demo()' for some demos, 'help()' for on-line help, or
'help.start()' for an HTML browser interface to help.
Type 'q()' to quit R.
> library(testthat)
> library(NoRCE)
>
> test_check("NoRCE")
[ FAIL 0 | WARN 0 | SKIP 0 | PASS 1 ]
>
> proc.time()
user system elapsed
12.557 0.568 13.111
NoRCE.Rcheck/NoRCE-Ex.timings
| name | user | system | elapsed | |
| KeggEnrichment | 17.208 | 0.914 | 56.583 | |
| assembly | 12.051 | 0.493 | 48.055 | |
| brain_disorder_ncRNA | 0.002 | 0.000 | 0.002 | |
| brain_mirna | 0.001 | 0.000 | 0.001 | |
| breastmRNA | 0.001 | 0.000 | 0.001 | |
| calculateCorr | 5.227 | 0.039 | 5.267 | |
| convertGeneID | 0.305 | 0.012 | 0.317 | |
| extractBiotype | 0.098 | 0.012 | 0.111 | |
| filterBiotype | 0.054 | 0.004 | 0.058 | |
| geneGOEnricher | 3.925 | 0.224 | 4.150 | |
| genePathwayEnricher | 12.616 | 0.200 | 21.516 | |
| geneRegionGOEnricher | 3.198 | 0.144 | 3.342 | |
| geneRegionPathwayEnricher | 0.688 | 0.006 | 0.897 | |
| getGoDag | 1.686 | 0.024 | 2.092 | |
| getKeggDiagram | 2.013 | 0.032 | 2.421 | |
| getNearToExon | 1.177 | 0.052 | 1.229 | |
| getNearToIntron | 1.123 | 0.028 | 1.151 | |
| getReactomeDiagram | 4.427 | 0.088 | 4.515 | |
| getTADOverlap | 0.082 | 0.008 | 0.090 | |
| getUCSC | 0.121 | 0.000 | 0.121 | |
| goEnrichment | 2.585 | 0.036 | 2.621 | |
| listTAD | 0.004 | 0.000 | 0.004 | |
| mirna | 0.000 | 0.001 | 0.001 | |
| mirnaGOEnricher | 6.092 | 0.138 | 6.230 | |
| mirnaPathwayEnricher | 1.794 | 0.076 | 2.242 | |
| mirnaRegionGOEnricher | 3.281 | 0.084 | 3.366 | |
| mirnaRegionPathwayEnricher | 0.423 | 0.020 | 0.657 | |
| mrna | 0.001 | 0.000 | 0.001 | |
| ncRegion | 0.000 | 0.000 | 0.001 | |
| predictmiTargets | 1.112 | 0.024 | 1.590 | |
| reactomeEnrichment | 3.297 | 0.040 | 3.337 | |
| setParameters | 0 | 0 | 0 | |
| tad_dmel | 0.001 | 0.000 | 0.001 | |
| tad_hg19 | 0.001 | 0.000 | 0.001 | |
| tad_hg38 | 0.001 | 0.000 | 0.001 | |
| tad_mm10 | 0.001 | 0.000 | 0.001 | |
| writeEnrichment | 6.030 | 0.676 | 6.706 | |