| Back to Multiple platform build/check report for BioC 3.15 |
|
This page was generated on 2022-10-19 13:21:44 -0400 (Wed, 19 Oct 2022).
| Hostname | OS | Arch (*) | R version | Installed pkgs |
|---|---|---|---|---|
| nebbiolo1 | Linux (Ubuntu 20.04.5 LTS) | x86_64 | 4.2.1 (2022-06-23) -- "Funny-Looking Kid" | 4386 |
| palomino3 | Windows Server 2022 Datacenter | x64 | 4.2.1 (2022-06-23 ucrt) -- "Funny-Looking Kid" | 4138 |
| merida1 | macOS 10.14.6 Mojave | x86_64 | 4.2.1 (2022-06-23) -- "Funny-Looking Kid" | 4205 |
| Click on any hostname to see more info about the system (e.g. compilers) (*) as reported by 'uname -p', except on Windows and Mac OS X | ||||
|
To the developers/maintainers of the LowMACA package: - Please allow up to 24 hours (and sometimes 48 hours) for your latest push to git@git.bioconductor.org:packages/LowMACA.git to reflect on this report. See How and When does the builder pull? When will my changes propagate? for more information. - Make sure to use the following settings in order to reproduce any error or warning you see on this page. |
| Package 1039/2140 | Hostname | OS / Arch | INSTALL | BUILD | CHECK | BUILD BIN | ||||||||
| LowMACA 1.26.2 (landing page) Giorgio Melloni
| nebbiolo1 | Linux (Ubuntu 20.04.5 LTS) / x86_64 | OK | OK | OK | |||||||||
| palomino3 | Windows Server 2022 Datacenter / x64 | OK | OK | OK | OK | |||||||||
| merida1 | macOS 10.14.6 Mojave / x86_64 | OK | OK | OK | OK | |||||||||
| Package: LowMACA |
| Version: 1.26.2 |
| Command: F:\biocbuild\bbs-3.15-bioc\R\bin\R.exe CMD check --no-multiarch --install=check:LowMACA.install-out.txt --library=F:\biocbuild\bbs-3.15-bioc\R\library --no-vignettes --timings LowMACA_1.26.2.tar.gz |
| StartedAt: 2022-10-19 01:25:44 -0400 (Wed, 19 Oct 2022) |
| EndedAt: 2022-10-19 01:37:58 -0400 (Wed, 19 Oct 2022) |
| EllapsedTime: 734.4 seconds |
| RetCode: 0 |
| Status: OK |
| CheckDir: LowMACA.Rcheck |
| Warnings: 0 |
##############################################################################
##############################################################################
###
### Running command:
###
### F:\biocbuild\bbs-3.15-bioc\R\bin\R.exe CMD check --no-multiarch --install=check:LowMACA.install-out.txt --library=F:\biocbuild\bbs-3.15-bioc\R\library --no-vignettes --timings LowMACA_1.26.2.tar.gz
###
##############################################################################
##############################################################################
* using log directory 'F:/biocbuild/bbs-3.15-bioc/meat/LowMACA.Rcheck'
* using R version 4.2.1 (2022-06-23 ucrt)
* using platform: x86_64-w64-mingw32 (64-bit)
* using session charset: UTF-8
* using option '--no-vignettes'
* checking for file 'LowMACA/DESCRIPTION' ... OK
* checking extension type ... Package
* this is package 'LowMACA' version '1.26.2'
* checking package namespace information ... OK
* checking package dependencies ... OK
* checking if this is a source package ... OK
* checking if there is a namespace ... OK
* checking for hidden files and directories ... OK
* checking for portable file names ... OK
* checking whether package 'LowMACA' can be installed ... OK
* checking installed package size ... OK
* checking package directory ... OK
* checking 'build' directory ... OK
* checking DESCRIPTION meta-information ... OK
* checking top-level files ... OK
* checking for left-over files ... OK
* checking index information ... OK
* checking package subdirectories ... OK
* checking R files for non-ASCII characters ... OK
* checking R files for syntax errors ... OK
* checking whether the package can be loaded ... OK
* checking whether the package can be loaded with stated dependencies ... OK
* checking whether the package can be unloaded cleanly ... OK
* checking whether the namespace can be loaded with stated dependencies ... OK
* checking whether the namespace can be unloaded cleanly ... OK
* checking dependencies in R code ... OK
* checking S3 generic/method consistency ... OK
* checking replacement functions ... OK
* checking foreign function calls ... OK
* checking R code for possible problems ... OK
* checking Rd files ... OK
* checking Rd metadata ... OK
* checking Rd cross-references ... OK
* checking for missing documentation entries ... OK
* checking for code/documentation mismatches ... OK
* checking Rd \usage sections ... OK
* checking Rd contents ... OK
* checking for unstated dependencies in examples ... OK
* checking contents of 'data' directory ... OK
* checking data for non-ASCII characters ... OK
* checking data for ASCII and uncompressed saves ... OK
* checking files in 'vignettes' ... OK
* checking examples ... OK
Examples with CPU (user + system) or elapsed time > 5s
user system elapsed
allPfamAnalysis 128.18 2.73 143.30
lfmSingleSequence 70.39 1.62 78.29
setup 26.91 0.41 50.75
LowMACA-class 20.17 0.64 31.65
LowMACA-package 13.27 0.36 17.58
getMutations 4.17 0.09 6.17
alignSequences 2.54 0.10 20.09
* checking for unstated dependencies in vignettes ... OK
* checking package vignettes in 'inst/doc' ... OK
* checking running R code from vignettes ... SKIPPED
* checking re-building of vignette outputs ... SKIPPED
* checking PDF version of manual ... OK
* DONE
Status: OK
LowMACA.Rcheck/00install.out
############################################################################## ############################################################################## ### ### Running command: ### ### F:\biocbuild\bbs-3.15-bioc\R\bin\R.exe CMD INSTALL LowMACA ### ############################################################################## ############################################################################## * installing to library 'F:/biocbuild/bbs-3.15-bioc/R/library' * installing *source* package 'LowMACA' ... ** using staged installation ** R ** data ** inst ** byte-compile and prepare package for lazy loading ** help *** installing help indices ** building package indices ** installing vignettes ** testing if installed package can be loaded from temporary location Checking if clustalo is in the PATH... Checking clustalo Version... Checking perl installation... Checking perl modules XML::Simple and LWP... ** testing if installed package can be loaded from final location Checking if clustalo is in the PATH... Checking clustalo Version... Checking perl installation... Checking perl modules XML::Simple and LWP... ** testing if installed package keeps a record of temporary installation path * DONE (LowMACA)
LowMACA.Rcheck/LowMACA-Ex.timings
| name | user | system | elapsed | |
| BLOSUM62 | 0.01 | 0.00 | 0.02 | |
| LowMACA-class | 20.17 | 0.64 | 31.65 | |
| LowMACA-package | 13.27 | 0.36 | 17.58 | |
| LowMACA_AML | 0.03 | 0.00 | 0.03 | |
| alignSequences | 2.54 | 0.10 | 20.09 | |
| allPfamAnalysis | 128.18 | 2.73 | 143.30 | |
| bpAll | 1.06 | 0.03 | 1.09 | |
| entropy | 0.98 | 0.02 | 1.00 | |
| getMutations | 4.17 | 0.09 | 6.17 | |
| lfm | 3.05 | 0.02 | 3.07 | |
| lfmSingleSequence | 70.39 | 1.62 | 78.29 | |
| lmAlignment | 0.04 | 0.02 | 0.06 | |
| lmEntropy | 0.90 | 0.03 | 0.92 | |
| lmMutations | 0.03 | 0.00 | 0.04 | |
| lmObj | 0.09 | 0.00 | 0.09 | |
| lmParams | 0.41 | 0.00 | 0.86 | |
| lmPlot | 2.75 | 0.03 | 2.78 | |
| lmPlotSingleSequence | 3.00 | 0.19 | 3.53 | |
| mapMutations | 0.46 | 0.00 | 0.45 | |
| newLowMACA | 2.68 | 0.05 | 2.73 | |
| nullProfile | 0.80 | 0.01 | 0.82 | |
| parallelize | 0.41 | 0.00 | 0.40 | |
| protter | 0.76 | 0.00 | 2.47 | |
| setup | 26.91 | 0.41 | 50.75 | |
| showTumorType | 0.19 | 0.01 | 0.50 | |