| Back to Multiple platform build/check report for BioC 3.15 |
|
This page was generated on 2022-10-19 13:23:11 -0400 (Wed, 19 Oct 2022).
| Hostname | OS | Arch (*) | R version | Installed pkgs |
|---|---|---|---|---|
| nebbiolo1 | Linux (Ubuntu 20.04.5 LTS) | x86_64 | 4.2.1 (2022-06-23) -- "Funny-Looking Kid" | 4386 |
| palomino3 | Windows Server 2022 Datacenter | x64 | 4.2.1 (2022-06-23 ucrt) -- "Funny-Looking Kid" | 4138 |
| merida1 | macOS 10.14.6 Mojave | x86_64 | 4.2.1 (2022-06-23) -- "Funny-Looking Kid" | 4205 |
| Click on any hostname to see more info about the system (e.g. compilers) (*) as reported by 'uname -p', except on Windows and Mac OS X | ||||
|
To the developers/maintainers of the LowMACA package: - Please allow up to 24 hours (and sometimes 48 hours) for your latest push to git@git.bioconductor.org:packages/LowMACA.git to reflect on this report. See How and When does the builder pull? When will my changes propagate? for more information. - Make sure to use the following settings in order to reproduce any error or warning you see on this page. |
| Package 1039/2140 | Hostname | OS / Arch | INSTALL | BUILD | CHECK | BUILD BIN | ||||||||
| LowMACA 1.26.2 (landing page) Giorgio Melloni
| nebbiolo1 | Linux (Ubuntu 20.04.5 LTS) / x86_64 | OK | OK | OK | |||||||||
| palomino3 | Windows Server 2022 Datacenter / x64 | OK | OK | OK | OK | |||||||||
| merida1 | macOS 10.14.6 Mojave / x86_64 | OK | OK | OK | OK | |||||||||
| Package: LowMACA |
| Version: 1.26.2 |
| Command: /Library/Frameworks/R.framework/Resources/bin/R CMD check --install=check:LowMACA.install-out.txt --library=/Library/Frameworks/R.framework/Resources/library --no-vignettes --timings LowMACA_1.26.2.tar.gz |
| StartedAt: 2022-10-19 04:04:05 -0400 (Wed, 19 Oct 2022) |
| EndedAt: 2022-10-19 04:22:38 -0400 (Wed, 19 Oct 2022) |
| EllapsedTime: 1113.0 seconds |
| RetCode: 0 |
| Status: OK |
| CheckDir: LowMACA.Rcheck |
| Warnings: 0 |
##############################################################################
##############################################################################
###
### Running command:
###
### /Library/Frameworks/R.framework/Resources/bin/R CMD check --install=check:LowMACA.install-out.txt --library=/Library/Frameworks/R.framework/Resources/library --no-vignettes --timings LowMACA_1.26.2.tar.gz
###
##############################################################################
##############################################################################
* using log directory ‘/Users/biocbuild/bbs-3.15-bioc/meat/LowMACA.Rcheck’
* using R version 4.2.1 (2022-06-23)
* using platform: x86_64-apple-darwin17.0 (64-bit)
* using session charset: UTF-8
* using option ‘--no-vignettes’
* checking for file ‘LowMACA/DESCRIPTION’ ... OK
* checking extension type ... Package
* this is package ‘LowMACA’ version ‘1.26.2’
* checking package namespace information ... OK
* checking package dependencies ... OK
* checking if this is a source package ... OK
* checking if there is a namespace ... OK
* checking for hidden files and directories ... OK
* checking for portable file names ... OK
* checking for sufficient/correct file permissions ... OK
* checking whether package ‘LowMACA’ can be installed ... OK
* checking installed package size ... OK
* checking package directory ... OK
* checking ‘build’ directory ... OK
* checking DESCRIPTION meta-information ... OK
* checking top-level files ... OK
* checking for left-over files ... OK
* checking index information ... OK
* checking package subdirectories ... OK
* checking R files for non-ASCII characters ... OK
* checking R files for syntax errors ... OK
* checking whether the package can be loaded ... OK
* checking whether the package can be loaded with stated dependencies ... OK
* checking whether the package can be unloaded cleanly ... OK
* checking whether the namespace can be loaded with stated dependencies ... OK
* checking whether the namespace can be unloaded cleanly ... OK
* checking dependencies in R code ... OK
* checking S3 generic/method consistency ... OK
* checking replacement functions ... OK
* checking foreign function calls ... OK
* checking R code for possible problems ... OK
* checking Rd files ... OK
* checking Rd metadata ... OK
* checking Rd cross-references ... OK
* checking for missing documentation entries ... OK
* checking for code/documentation mismatches ... OK
* checking Rd \usage sections ... OK
* checking Rd contents ... OK
* checking for unstated dependencies in examples ... OK
* checking contents of ‘data’ directory ... OK
* checking data for non-ASCII characters ... OK
* checking data for ASCII and uncompressed saves ... OK
* checking files in ‘vignettes’ ... OK
* checking examples ... OK
Examples with CPU (user + system) or elapsed time > 5s
user system elapsed
allPfamAnalysis 215.175 2.702 218.509
lfmSingleSequence 114.780 1.337 116.604
setup 44.765 2.112 81.765
LowMACA-class 29.549 0.643 39.274
LowMACA-package 19.145 0.391 25.840
getMutations 12.067 0.349 14.482
alignSequences 7.494 2.122 20.878
lmPlot 5.761 0.066 5.840
lmPlotSingleSequence 5.524 0.068 5.614
* checking for unstated dependencies in vignettes ... OK
* checking package vignettes in ‘inst/doc’ ... OK
* checking running R code from vignettes ... SKIPPED
* checking re-building of vignette outputs ... SKIPPED
* checking PDF version of manual ... OK
* DONE
Status: OK
LowMACA.Rcheck/00install.out
############################################################################## ############################################################################## ### ### Running command: ### ### /Library/Frameworks/R.framework/Resources/bin/R CMD INSTALL LowMACA ### ############################################################################## ############################################################################## * installing to library ‘/Library/Frameworks/R.framework/Versions/4.2/Resources/library’ * installing *source* package ‘LowMACA’ ... ** using staged installation ** R ** data ** inst ** byte-compile and prepare package for lazy loading ** help *** installing help indices ** building package indices ** installing vignettes ** testing if installed package can be loaded from temporary location Checking if clustalo is in the PATH... Checking clustalo Version... Checking perl installation... Checking perl modules XML::Simple and LWP... ** testing if installed package can be loaded from final location Checking if clustalo is in the PATH... Checking clustalo Version... Checking perl installation... Checking perl modules XML::Simple and LWP... ** testing if installed package keeps a record of temporary installation path * DONE (LowMACA)
LowMACA.Rcheck/LowMACA-Ex.timings
| name | user | system | elapsed | |
| BLOSUM62 | 1.199 | 0.006 | 1.207 | |
| LowMACA-class | 29.549 | 0.643 | 39.274 | |
| LowMACA-package | 19.145 | 0.391 | 25.840 | |
| LowMACA_AML | 0.027 | 0.002 | 0.029 | |
| alignSequences | 7.494 | 2.122 | 20.878 | |
| allPfamAnalysis | 215.175 | 2.702 | 218.509 | |
| bpAll | 1.707 | 0.053 | 1.762 | |
| entropy | 1.675 | 0.053 | 1.731 | |
| getMutations | 12.067 | 0.349 | 14.482 | |
| lfm | 2.652 | 0.038 | 2.697 | |
| lfmSingleSequence | 114.780 | 1.337 | 116.604 | |
| lmAlignment | 0.075 | 0.004 | 0.079 | |
| lmEntropy | 1.627 | 0.011 | 1.642 | |
| lmMutations | 0.065 | 0.004 | 0.069 | |
| lmObj | 0.140 | 0.007 | 0.147 | |
| lmParams | 0.842 | 0.026 | 0.878 | |
| lmPlot | 5.761 | 0.066 | 5.840 | |
| lmPlotSingleSequence | 5.524 | 0.068 | 5.614 | |
| mapMutations | 0.841 | 0.007 | 0.851 | |
| newLowMACA | 4.316 | 0.044 | 4.377 | |
| nullProfile | 1.649 | 0.015 | 1.667 | |
| parallelize | 0.833 | 0.007 | 0.844 | |
| protter | 1.669 | 0.035 | 3.643 | |
| setup | 44.765 | 2.112 | 81.765 | |
| showTumorType | 0.290 | 0.013 | 0.389 | |