| Back to Multiple platform build/check report for BioC 3.15 |
|
This page was generated on 2022-03-18 11:07:49 -0400 (Fri, 18 Mar 2022).
| Hostname | OS | Arch (*) | R version | Installed pkgs |
|---|---|---|---|---|
| nebbiolo1 | Linux (Ubuntu 20.04.4 LTS) | x86_64 | R Under development (unstable) (2022-02-17 r81757) -- "Unsuffered Consequences" | 4334 |
| riesling1 | Windows Server 2019 Standard | x64 | R Under development (unstable) (2021-11-21 r81221) -- "Unsuffered Consequences" | 4097 |
| palomino3 | Windows Server 2022 Datacenter | x64 | R Under development (unstable) (2022-02-17 r81757 ucrt) -- "Unsuffered Consequences" | 4083 |
| merida1 | macOS 10.14.6 Mojave | x86_64 | R Under development (unstable) (2022-03-02 r81842) -- "Unsuffered Consequences" | 4134 |
| Click on any hostname to see more info about the system (e.g. compilers) (*) as reported by 'uname -p', except on Windows and Mac OS X | ||||
|
To the developers/maintainers of the IONiseR package: - Please allow up to 24 hours (and sometimes 48 hours) for your latest push to git@git.bioconductor.org:packages/IONiseR.git to reflect on this report. See How and When does the builder pull? When will my changes propagate? here for more information. - Make sure to use the following settings in order to reproduce any error or warning you see on this page. |
| Package 952/2090 | Hostname | OS / Arch | INSTALL | BUILD | CHECK | BUILD BIN | ||||||||
| IONiseR 2.19.0 (landing page) Mike Smith
| nebbiolo1 | Linux (Ubuntu 20.04.4 LTS) / x86_64 | OK | OK | OK | |||||||||
| riesling1 | Windows Server 2019 Standard / x64 | OK | OK | OK | OK | |||||||||
| palomino3 | Windows Server 2022 Datacenter / x64 | OK | OK | OK | OK | |||||||||
| merida1 | macOS 10.14.6 Mojave / x86_64 | OK | OK | OK | OK | |||||||||
| Package: IONiseR |
| Version: 2.19.0 |
| Command: D:\biocbuild\bbs-3.15-bioc\R\bin\R.exe CMD check --no-multiarch --install=check:IONiseR.install-out.txt --library=D:\biocbuild\bbs-3.15-bioc\R\library --no-vignettes --timings IONiseR_2.19.0.tar.gz |
| StartedAt: 2022-03-17 19:23:23 -0400 (Thu, 17 Mar 2022) |
| EndedAt: 2022-03-17 19:26:40 -0400 (Thu, 17 Mar 2022) |
| EllapsedTime: 196.8 seconds |
| RetCode: 0 |
| Status: OK |
| CheckDir: IONiseR.Rcheck |
| Warnings: 0 |
##############################################################################
##############################################################################
###
### Running command:
###
### D:\biocbuild\bbs-3.15-bioc\R\bin\R.exe CMD check --no-multiarch --install=check:IONiseR.install-out.txt --library=D:\biocbuild\bbs-3.15-bioc\R\library --no-vignettes --timings IONiseR_2.19.0.tar.gz
###
##############################################################################
##############################################################################
* using log directory 'D:/biocbuild/bbs-3.15-bioc/meat/IONiseR.Rcheck'
* using R Under development (unstable) (2021-11-21 r81221)
* using platform: x86_64-w64-mingw32 (64-bit)
* using session charset: ISO8859-1
* using option '--no-vignettes'
* checking for file 'IONiseR/DESCRIPTION' ... OK
* this is package 'IONiseR' version '2.19.0'
* checking package namespace information ... OK
* checking package dependencies ... OK
* checking if this is a source package ... OK
* checking if there is a namespace ... OK
* checking for hidden files and directories ... NOTE
Found the following hidden files and directories:
.travis.yml
These were most likely included in error. See section 'Package
structure' in the 'Writing R Extensions' manual.
* checking for portable file names ... OK
* checking whether package 'IONiseR' can be installed ... OK
* checking installed package size ... OK
* checking package directory ... OK
* checking 'build' directory ... OK
* checking DESCRIPTION meta-information ... OK
* checking top-level files ... OK
* checking for left-over files ... OK
* checking index information ... OK
* checking package subdirectories ... OK
* checking R files for non-ASCII characters ... OK
* checking R files for syntax errors ... OK
* checking whether the package can be loaded ... OK
* checking whether the package can be loaded with stated dependencies ... OK
* checking whether the package can be unloaded cleanly ... OK
* checking whether the namespace can be loaded with stated dependencies ... OK
* checking whether the namespace can be unloaded cleanly ... OK
* checking dependencies in R code ... OK
* checking S3 generic/method consistency ... OK
* checking replacement functions ... OK
* checking foreign function calls ... OK
* checking R code for possible problems ... NOTE
.fast5status : <anonymous>: no visible binding for global variable
'group'
.fast5status : <anonymous>: no visible binding for global variable
'name'
.get2D: no visible binding for global variable 'full_2D'
.muxToXY: no visible binding for global variable 'matrixCol'
.muxToXY: no visible binding for global variable 'mux'
.muxToXY: no visible binding for global variable 'oddEven'
.muxToXY: no visible global function definition for ':='
.muxToXY: no visible binding for global variable 'matrixRow'
.processFastq: no visible binding for global variable 'readIDs'
.strandExistence: no visible binding for global variable 'name'
.strandExistence: no visible binding for global variable 'group'
channelActivityPlot: no visible binding for global variable 'channel'
channelActivityPlot: no visible binding for global variable
'start_time'
channelActivityPlot: no visible binding for global variable 'duration'
channelActivityPlot: no visible binding for global variable 'zvalue'
channelActivityPlot: no visible binding for global variable 'time_bin'
channelActivityPlot: no visible binding for global variable
'mean_value'
layoutPlot: no visible binding for global variable 'channel'
layoutPlot: no visible binding for global variable 'seq_length'
layoutPlot: no visible binding for global variable 'median_signal'
layoutPlot: no visible global function definition for 'error'
muxHeatmap: no visible binding for global variable 'channel'
muxHeatmap: no visible binding for global variable 'matrixRow'
muxHeatmap: no visible binding for global variable 'matrixCol'
muxHeatmap: no visible binding for global variable 'meanZValue'
muxHeatmap: no visible global function definition for 'rbindlist'
muxHeatmap: no visible binding for global variable 'circleFun'
muxHeatmap: no visible binding for global variable 'x'
muxHeatmap: no visible binding for global variable 'y'
plot2DYield: no visible binding for global variable 'start_time'
plot2DYield: no visible binding for global variable 'pass'
plot2DYield: no visible binding for global variable 'nbases'
plot2DYield: no visible binding for global variable 'time_group'
plot2DYield: no visible binding for global variable 'hour'
plot2DYield: no visible binding for global variable 'accumulation'
plotActiveChannels: no visible binding for global variable 'start_time'
plotActiveChannels: no visible binding for global variable 'duration'
plotActiveChannels: no visible binding for global variable 'minute'
plotBaseProductionRate: no visible binding for global variable
'start_time'
plotBaseProductionRate: no visible binding for global variable
'bases_called'
plotBaseProductionRate: no visible binding for global variable
'duration'
plotCurrentByTime: no visible binding for global variable 'start_time'
plotCurrentByTime: no visible binding for global variable
'median_signal'
plotEventRate: no visible binding for global variable 'start_time'
plotEventRate: no visible binding for global variable 'num_events'
plotEventRate: no visible binding for global variable 'duration'
plotKmerFrequencyCorrelation: no visible binding for global variable
'full_2D'
plotKmerFrequencyCorrelation: no visible binding for global variable
'start_time'
plotKmerFrequencyCorrelation: no visible binding for global variable
'AAAAA'
plotKmerFrequencyCorrelation: no visible binding for global variable
'TTTTT'
plotKmerFrequencyCorrelation: no visible binding for global variable
'time_group'
plotKmerFrequencyCorrelation: no visible binding for global variable
'freq'
plotKmerFrequencyCorrelation: no visible binding for global variable
'pentamer'
plotKmerFrequencyCorrelation: no visible binding for global variable
'x'
plotKmerFrequencyCorrelation: no visible binding for global variable
'y'
plotReadAccumulation: no visible binding for global variable
'start_time'
plotReadAccumulation: no visible binding for global variable 'minute'
plotReadAccumulation: no visible binding for global variable
'new_reads'
plotReadAccumulation: no visible binding for global variable
'accumulation'
plotReadCategoryCounts: no visible binding for global variable
'full_2D'
plotReadCategoryCounts: no visible binding for global variable 'pass'
plotReadCategoryCounts: no visible binding for global variable
'category'
plotReadTypeProduction: no visible binding for global variable
'start_time'
plotReadTypeProduction: no visible binding for global variable
'time_group'
plotReadTypeProduction: no visible binding for global variable
'full_2D'
plotReadTypeProduction: no visible binding for global variable 'pass'
plotReadTypeProduction: no visible binding for global variable 'hour'
readFast5Summary: no visible binding for global variable 'start_time'
readFast5Summary: no visible binding for global variable 'duration'
readFast5Summary: no visible binding for global variable 'num_events'
readFast5Summary.mc: no visible binding for global variable
'start_time'
readFast5Summary.mc: no visible binding for global variable 'duration'
readFast5Summary.mc: no visible binding for global variable
'num_events'
[,Fast5Summary-ANY-ANY-ANY: no visible binding for global variable
'baseCalledTemplate'
[,Fast5Summary-ANY-ANY-ANY: no visible binding for global variable
'baseCalledComplement'
[,Fast5Summary-ANY-ANY-ANY: no visible binding for global variable
'component'
[,Fast5Summary-ANY-ANY-ANY: no visible binding for global variable
'idx'
show,Fast5Summary: no visible binding for global variable 'full_2D'
show,Fast5Summary: no visible binding for global variable 'pass'
Undefined global functions or variables:
:= AAAAA TTTTT accumulation baseCalledComplement baseCalledTemplate
bases_called category channel circleFun component duration error freq
full_2D group hour idx matrixCol matrixRow meanZValue mean_value
median_signal minute mux name nbases new_reads num_events oddEven
pass pentamer rbindlist readIDs seq_length start_time time_bin
time_group x y zvalue
* checking Rd files ... OK
* checking Rd metadata ... OK
* checking Rd cross-references ... OK
* checking for missing documentation entries ... OK
* checking for code/documentation mismatches ... OK
* checking Rd \usage sections ... OK
* checking Rd contents ... OK
* checking for unstated dependencies in examples ... OK
* checking files in 'vignettes' ... OK
* checking examples ... OK
Examples with CPU (user + system) or elapsed time > 5s
user system elapsed
plotKmerFrequencyCorrelation 7.05 0.67 7.83
* checking for unstated dependencies in 'tests' ... OK
* checking tests ...
Running 'testthat.R'
OK
* checking for unstated dependencies in vignettes ... OK
* checking package vignettes in 'inst/doc' ... OK
* checking running R code from vignettes ... SKIPPED
* checking re-building of vignette outputs ... SKIPPED
* checking PDF version of manual ... OK
* DONE
Status: 2 NOTEs
See
'D:/biocbuild/bbs-3.15-bioc/meat/IONiseR.Rcheck/00check.log'
for details.
IONiseR.Rcheck/00install.out
##############################################################################
##############################################################################
###
### Running command:
###
### D:\biocbuild\bbs-3.15-bioc\R\bin\R.exe CMD INSTALL IONiseR
###
##############################################################################
##############################################################################
* installing to library 'D:/biocbuild/bbs-3.15-bioc/R/library'
* installing *source* package 'IONiseR' ...
** using staged installation
** R
** inst
** byte-compile and prepare package for lazy loading
** help
*** installing help indices
converting help for package 'IONiseR'
finding HTML links ... done
Fast5Summary-class html
IONiseR html
baseCalled html
channelActivityPlot html
channelHeatmap html
eventData html
fast5toFastq html
fastq html
fastq2D html
fastqComplement html
fastqTemplate html
layoutPlot html
muxHeatmap html
plotActiveChannels html
plotBaseProductionRate html
plotCurrentByTime html
plotEventRate html
plotKmerFrequencyCorrelation html
plotReadAccumulation html
plotReadCategoryCounts html
plotReadCategoryQuals html
plotReadTypeProduction html
readFast5Log html
readFast5Summary html
readInfo html
** building package indices
** installing vignettes
** testing if installed package can be loaded from temporary location
** testing if installed package can be loaded from final location
** testing if installed package keeps a record of temporary installation path
* DONE (IONiseR)
Making 'packages.html' ...Warning in packageDescription(i, lib.loc = lib, fields = "Title", encoding = "UTF-8") :
DESCRIPTION file of package 'rexposome' is missing or broken
done
IONiseR.Rcheck/tests/testthat.Rout
R Under development (unstable) (2021-11-21 r81221) -- "Unsuffered Consequences"
Copyright (C) 2021 The R Foundation for Statistical Computing
Platform: x86_64-w64-mingw32/x64 (64-bit)
R is free software and comes with ABSOLUTELY NO WARRANTY.
You are welcome to redistribute it under certain conditions.
Type 'license()' or 'licence()' for distribution details.
R is a collaborative project with many contributors.
Type 'contributors()' for more information and
'citation()' on how to cite R or R packages in publications.
Type 'demo()' for some demos, 'help()' for on-line help, or
'help.start()' for an HTML browser interface to help.
Type 'q()' to quit R.
> library(testthat)
> library(IONiseR)
>
> test_check("IONiseR")
[ FAIL 0 | WARN 18 | SKIP 0 | PASS 24 ]
[ FAIL 0 | WARN 18 | SKIP 0 | PASS 24 ]
>
> proc.time()
user system elapsed
10.76 0.93 12.15
IONiseR.Rcheck/IONiseR-Ex.timings
| name | user | system | elapsed | |
| Fast5Summary-class | 1.09 | 0.10 | 1.73 | |
| baseCalled | 1.12 | 0.15 | 1.28 | |
| channelActivityPlot | 1.61 | 0.17 | 1.79 | |
| channelHeatmap | 1.31 | 0.10 | 1.40 | |
| eventData | 1.19 | 0.06 | 1.25 | |
| fast5toFastq | 0 | 0 | 0 | |
| fastq | 0.37 | 0.08 | 0.46 | |
| fastq2D | 0.50 | 0.08 | 0.57 | |
| fastqComplement | 0.47 | 0.12 | 0.60 | |
| fastqTemplate | 0.46 | 0.03 | 0.48 | |
| layoutPlot | 0.67 | 0.07 | 0.77 | |
| plotActiveChannels | 0.61 | 0.15 | 0.76 | |
| plotBaseProductionRate | 0.67 | 0.06 | 0.74 | |
| plotCurrentByTime | 1.27 | 0.10 | 1.35 | |
| plotEventRate | 0.68 | 0.08 | 0.77 | |
| plotKmerFrequencyCorrelation | 7.05 | 0.67 | 7.83 | |
| plotReadAccumulation | 0.59 | 0.09 | 0.69 | |
| plotReadCategoryCounts | 0.50 | 0.17 | 0.67 | |
| plotReadCategoryQuals | 1.49 | 0.13 | 1.61 | |
| plotReadTypeProduction | 0.72 | 0.08 | 1.00 | |
| readFast5Log | 0.01 | 0.00 | 0.01 | |
| readFast5Summary | 0 | 0 | 0 | |
| readInfo | 0.47 | 0.06 | 0.53 | |