| Back to Multiple platform build/check report for BioC 3.15 |
|
This page was generated on 2022-10-19 13:21:41 -0400 (Wed, 19 Oct 2022).
| Hostname | OS | Arch (*) | R version | Installed pkgs |
|---|---|---|---|---|
| nebbiolo1 | Linux (Ubuntu 20.04.5 LTS) | x86_64 | 4.2.1 (2022-06-23) -- "Funny-Looking Kid" | 4386 |
| palomino3 | Windows Server 2022 Datacenter | x64 | 4.2.1 (2022-06-23 ucrt) -- "Funny-Looking Kid" | 4138 |
| merida1 | macOS 10.14.6 Mojave | x86_64 | 4.2.1 (2022-06-23) -- "Funny-Looking Kid" | 4205 |
| Click on any hostname to see more info about the system (e.g. compilers) (*) as reported by 'uname -p', except on Windows and Mac OS X | ||||
|
To the developers/maintainers of the IONiseR package: - Please allow up to 24 hours (and sometimes 48 hours) for your latest push to git@git.bioconductor.org:packages/IONiseR.git to reflect on this report. See How and When does the builder pull? When will my changes propagate? for more information. - Make sure to use the following settings in order to reproduce any error or warning you see on this page. |
| Package 974/2140 | Hostname | OS / Arch | INSTALL | BUILD | CHECK | BUILD BIN | ||||||||
| IONiseR 2.20.0 (landing page) Mike Smith
| nebbiolo1 | Linux (Ubuntu 20.04.5 LTS) / x86_64 | OK | OK | OK | |||||||||
| palomino3 | Windows Server 2022 Datacenter / x64 | OK | OK | OK | OK | |||||||||
| merida1 | macOS 10.14.6 Mojave / x86_64 | OK | OK | OK | OK | |||||||||
| Package: IONiseR |
| Version: 2.20.0 |
| Command: F:\biocbuild\bbs-3.15-bioc\R\bin\R.exe CMD check --no-multiarch --install=check:IONiseR.install-out.txt --library=F:\biocbuild\bbs-3.15-bioc\R\library --no-vignettes --timings IONiseR_2.20.0.tar.gz |
| StartedAt: 2022-10-19 01:13:00 -0400 (Wed, 19 Oct 2022) |
| EndedAt: 2022-10-19 01:17:43 -0400 (Wed, 19 Oct 2022) |
| EllapsedTime: 283.1 seconds |
| RetCode: 0 |
| Status: OK |
| CheckDir: IONiseR.Rcheck |
| Warnings: 0 |
##############################################################################
##############################################################################
###
### Running command:
###
### F:\biocbuild\bbs-3.15-bioc\R\bin\R.exe CMD check --no-multiarch --install=check:IONiseR.install-out.txt --library=F:\biocbuild\bbs-3.15-bioc\R\library --no-vignettes --timings IONiseR_2.20.0.tar.gz
###
##############################################################################
##############################################################################
* using log directory 'F:/biocbuild/bbs-3.15-bioc/meat/IONiseR.Rcheck'
* using R version 4.2.1 (2022-06-23 ucrt)
* using platform: x86_64-w64-mingw32 (64-bit)
* using session charset: UTF-8
* using option '--no-vignettes'
* checking for file 'IONiseR/DESCRIPTION' ... OK
* this is package 'IONiseR' version '2.20.0'
* checking package namespace information ... OK
* checking package dependencies ... OK
* checking if this is a source package ... OK
* checking if there is a namespace ... OK
* checking for hidden files and directories ... NOTE
Found the following hidden files and directories:
.travis.yml
These were most likely included in error. See section 'Package
structure' in the 'Writing R Extensions' manual.
* checking for portable file names ... OK
* checking whether package 'IONiseR' can be installed ... OK
* checking installed package size ... OK
* checking package directory ... OK
* checking 'build' directory ... OK
* checking DESCRIPTION meta-information ... OK
* checking top-level files ... OK
* checking for left-over files ... OK
* checking index information ... OK
* checking package subdirectories ... OK
* checking R files for non-ASCII characters ... OK
* checking R files for syntax errors ... OK
* checking whether the package can be loaded ... OK
* checking whether the package can be loaded with stated dependencies ... OK
* checking whether the package can be unloaded cleanly ... OK
* checking whether the namespace can be loaded with stated dependencies ... OK
* checking whether the namespace can be unloaded cleanly ... OK
* checking dependencies in R code ... OK
* checking S3 generic/method consistency ... OK
* checking replacement functions ... OK
* checking foreign function calls ... OK
* checking R code for possible problems ... NOTE
.fast5status : <anonymous>: no visible binding for global variable
'group'
.fast5status : <anonymous>: no visible binding for global variable
'name'
.get2D: no visible binding for global variable 'full_2D'
.muxToXY: no visible binding for global variable 'matrixCol'
.muxToXY: no visible binding for global variable 'mux'
.muxToXY: no visible binding for global variable 'oddEven'
.muxToXY: no visible global function definition for ':='
.muxToXY: no visible binding for global variable 'matrixRow'
.processFastq: no visible binding for global variable 'readIDs'
.strandExistence: no visible binding for global variable 'name'
.strandExistence: no visible binding for global variable 'group'
channelActivityPlot: no visible binding for global variable 'channel'
channelActivityPlot: no visible binding for global variable
'start_time'
channelActivityPlot: no visible binding for global variable 'duration'
channelActivityPlot: no visible binding for global variable 'zvalue'
channelActivityPlot: no visible binding for global variable 'time_bin'
channelActivityPlot: no visible binding for global variable
'mean_value'
layoutPlot: no visible binding for global variable 'channel'
layoutPlot: no visible binding for global variable 'seq_length'
layoutPlot: no visible binding for global variable 'median_signal'
layoutPlot: no visible global function definition for 'error'
muxHeatmap: no visible binding for global variable 'channel'
muxHeatmap: no visible binding for global variable 'matrixRow'
muxHeatmap: no visible binding for global variable 'matrixCol'
muxHeatmap: no visible binding for global variable 'meanZValue'
muxHeatmap: no visible global function definition for 'rbindlist'
muxHeatmap: no visible binding for global variable 'circleFun'
muxHeatmap: no visible binding for global variable 'x'
muxHeatmap: no visible binding for global variable 'y'
plot2DYield: no visible binding for global variable 'start_time'
plot2DYield: no visible binding for global variable 'pass'
plot2DYield: no visible binding for global variable 'nbases'
plot2DYield: no visible binding for global variable 'time_group'
plot2DYield: no visible binding for global variable 'hour'
plot2DYield: no visible binding for global variable 'accumulation'
plotActiveChannels: no visible binding for global variable 'start_time'
plotActiveChannels: no visible binding for global variable 'duration'
plotActiveChannels: no visible binding for global variable 'minute'
plotBaseProductionRate: no visible binding for global variable
'start_time'
plotBaseProductionRate: no visible binding for global variable
'bases_called'
plotBaseProductionRate: no visible binding for global variable
'duration'
plotCurrentByTime: no visible binding for global variable 'start_time'
plotCurrentByTime: no visible binding for global variable
'median_signal'
plotEventRate: no visible binding for global variable 'start_time'
plotEventRate: no visible binding for global variable 'num_events'
plotEventRate: no visible binding for global variable 'duration'
plotKmerFrequencyCorrelation: no visible binding for global variable
'full_2D'
plotKmerFrequencyCorrelation: no visible binding for global variable
'start_time'
plotKmerFrequencyCorrelation: no visible binding for global variable
'AAAAA'
plotKmerFrequencyCorrelation: no visible binding for global variable
'TTTTT'
plotKmerFrequencyCorrelation: no visible binding for global variable
'time_group'
plotKmerFrequencyCorrelation: no visible binding for global variable
'freq'
plotKmerFrequencyCorrelation: no visible binding for global variable
'pentamer'
plotKmerFrequencyCorrelation: no visible binding for global variable
'x'
plotKmerFrequencyCorrelation: no visible binding for global variable
'y'
plotReadAccumulation: no visible binding for global variable
'start_time'
plotReadAccumulation: no visible binding for global variable 'minute'
plotReadAccumulation: no visible binding for global variable
'new_reads'
plotReadAccumulation: no visible binding for global variable
'accumulation'
plotReadCategoryCounts: no visible binding for global variable
'full_2D'
plotReadCategoryCounts: no visible binding for global variable 'pass'
plotReadCategoryCounts: no visible binding for global variable
'category'
plotReadTypeProduction: no visible binding for global variable
'start_time'
plotReadTypeProduction: no visible binding for global variable
'time_group'
plotReadTypeProduction: no visible binding for global variable
'full_2D'
plotReadTypeProduction: no visible binding for global variable 'pass'
plotReadTypeProduction: no visible binding for global variable 'hour'
readFast5Summary: no visible binding for global variable 'start_time'
readFast5Summary: no visible binding for global variable 'duration'
readFast5Summary: no visible binding for global variable 'num_events'
readFast5Summary.mc: no visible binding for global variable
'start_time'
readFast5Summary.mc: no visible binding for global variable 'duration'
readFast5Summary.mc: no visible binding for global variable
'num_events'
[,Fast5Summary-ANY-ANY-ANY: no visible binding for global variable
'baseCalledTemplate'
[,Fast5Summary-ANY-ANY-ANY: no visible binding for global variable
'baseCalledComplement'
[,Fast5Summary-ANY-ANY-ANY: no visible binding for global variable
'component'
[,Fast5Summary-ANY-ANY-ANY: no visible binding for global variable
'idx'
show,Fast5Summary: no visible binding for global variable 'full_2D'
show,Fast5Summary: no visible binding for global variable 'pass'
Undefined global functions or variables:
:= AAAAA TTTTT accumulation baseCalledComplement baseCalledTemplate
bases_called category channel circleFun component duration error freq
full_2D group hour idx matrixCol matrixRow meanZValue mean_value
median_signal minute mux name nbases new_reads num_events oddEven
pass pentamer rbindlist readIDs seq_length start_time time_bin
time_group x y zvalue
* checking Rd files ... OK
* checking Rd metadata ... OK
* checking Rd cross-references ... OK
* checking for missing documentation entries ... OK
* checking for code/documentation mismatches ... OK
* checking Rd \usage sections ... OK
* checking Rd contents ... OK
* checking for unstated dependencies in examples ... OK
* checking files in 'vignettes' ... OK
* checking examples ... OK
Examples with CPU (user + system) or elapsed time > 5s
user system elapsed
plotKmerFrequencyCorrelation 8.86 0.42 9.28
Fast5Summary-class 2.02 0.20 12.78
channelActivityPlot 1.67 0.12 13.21
* checking for unstated dependencies in 'tests' ... OK
* checking tests ...
Running 'testthat.R'
OK
* checking for unstated dependencies in vignettes ... OK
* checking package vignettes in 'inst/doc' ... OK
* checking running R code from vignettes ... SKIPPED
* checking re-building of vignette outputs ... SKIPPED
* checking PDF version of manual ... OK
* DONE
Status: 2 NOTEs
See
'F:/biocbuild/bbs-3.15-bioc/meat/IONiseR.Rcheck/00check.log'
for details.
IONiseR.Rcheck/00install.out
############################################################################## ############################################################################## ### ### Running command: ### ### F:\biocbuild\bbs-3.15-bioc\R\bin\R.exe CMD INSTALL IONiseR ### ############################################################################## ############################################################################## * installing to library 'F:/biocbuild/bbs-3.15-bioc/R/library' * installing *source* package 'IONiseR' ... ** using staged installation ** R ** inst ** byte-compile and prepare package for lazy loading ** help *** installing help indices ** building package indices ** installing vignettes ** testing if installed package can be loaded from temporary location ** testing if installed package can be loaded from final location ** testing if installed package keeps a record of temporary installation path * DONE (IONiseR)
IONiseR.Rcheck/tests/testthat.Rout
R version 4.2.1 (2022-06-23 ucrt) -- "Funny-Looking Kid"
Copyright (C) 2022 The R Foundation for Statistical Computing
Platform: x86_64-w64-mingw32/x64 (64-bit)
R is free software and comes with ABSOLUTELY NO WARRANTY.
You are welcome to redistribute it under certain conditions.
Type 'license()' or 'licence()' for distribution details.
R is a collaborative project with many contributors.
Type 'contributors()' for more information and
'citation()' on how to cite R or R packages in publications.
Type 'demo()' for some demos, 'help()' for on-line help, or
'help.start()' for an HTML browser interface to help.
Type 'q()' to quit R.
> library(testthat)
> library(IONiseR)
>
> test_check("IONiseR")
[ FAIL 0 | WARN 18 | SKIP 0 | PASS 24 ]
[ FAIL 0 | WARN 18 | SKIP 0 | PASS 24 ]
>
> proc.time()
user system elapsed
16.84 0.87 17.82
IONiseR.Rcheck/IONiseR-Ex.timings
| name | user | system | elapsed | |
| Fast5Summary-class | 2.02 | 0.20 | 12.78 | |
| baseCalled | 1.11 | 0.08 | 1.18 | |
| channelActivityPlot | 1.67 | 0.12 | 13.21 | |
| channelHeatmap | 0.76 | 0.05 | 0.81 | |
| eventData | 0.49 | 0.06 | 0.55 | |
| fast5toFastq | 0 | 0 | 0 | |
| fastq | 1.14 | 0.05 | 1.18 | |
| fastq2D | 0.47 | 0.08 | 0.55 | |
| fastqComplement | 0.43 | 0.04 | 0.48 | |
| fastqTemplate | 0.44 | 0.02 | 0.46 | |
| layoutPlot | 0.63 | 0.06 | 0.72 | |
| plotActiveChannels | 0.62 | 0.05 | 0.67 | |
| plotBaseProductionRate | 1.56 | 0.03 | 1.60 | |
| plotCurrentByTime | 0.75 | 0.03 | 0.78 | |
| plotEventRate | 1.44 | 0.03 | 1.47 | |
| plotKmerFrequencyCorrelation | 8.86 | 0.42 | 9.28 | |
| plotReadAccumulation | 0.65 | 0.00 | 0.66 | |
| plotReadCategoryCounts | 0.53 | 0.03 | 0.56 | |
| plotReadCategoryQuals | 0.68 | 0.04 | 0.70 | |
| plotReadTypeProduction | 0.57 | 0.04 | 0.63 | |
| readFast5Log | 0 | 0 | 0 | |
| readFast5Summary | 0 | 0 | 0 | |
| readInfo | 1.27 | 0.03 | 1.29 | |