| Back to Multiple platform build/check report for BioC 3.15 |
|
This page was generated on 2022-03-18 11:07:26 -0400 (Fri, 18 Mar 2022).
| Hostname | OS | Arch (*) | R version | Installed pkgs |
|---|---|---|---|---|
| nebbiolo1 | Linux (Ubuntu 20.04.4 LTS) | x86_64 | R Under development (unstable) (2022-02-17 r81757) -- "Unsuffered Consequences" | 4334 |
| riesling1 | Windows Server 2019 Standard | x64 | R Under development (unstable) (2021-11-21 r81221) -- "Unsuffered Consequences" | 4097 |
| palomino3 | Windows Server 2022 Datacenter | x64 | R Under development (unstable) (2022-02-17 r81757 ucrt) -- "Unsuffered Consequences" | 4083 |
| merida1 | macOS 10.14.6 Mojave | x86_64 | R Under development (unstable) (2022-03-02 r81842) -- "Unsuffered Consequences" | 4134 |
| Click on any hostname to see more info about the system (e.g. compilers) (*) as reported by 'uname -p', except on Windows and Mac OS X | ||||
|
To the developers/maintainers of the EMDomics package: - Please allow up to 24 hours (and sometimes 48 hours) for your latest push to git@git.bioconductor.org:packages/EMDomics.git to reflect on this report. See How and When does the builder pull? When will my changes propagate? here for more information. - Make sure to use the following settings in order to reproduce any error or warning you see on this page. |
| Package 578/2090 | Hostname | OS / Arch | INSTALL | BUILD | CHECK | BUILD BIN | ||||||||
| EMDomics 2.25.0 (landing page) Sadhika Malladi
| nebbiolo1 | Linux (Ubuntu 20.04.4 LTS) / x86_64 | OK | OK | OK | |||||||||
| riesling1 | Windows Server 2019 Standard / x64 | OK | OK | OK | OK | |||||||||
| palomino3 | Windows Server 2022 Datacenter / x64 | OK | OK | OK | OK | |||||||||
| merida1 | macOS 10.14.6 Mojave / x86_64 | OK | OK | OK | OK | |||||||||
| Package: EMDomics |
| Version: 2.25.0 |
| Command: D:\biocbuild\bbs-3.15-bioc\R\bin\R.exe CMD check --no-multiarch --install=check:EMDomics.install-out.txt --library=D:\biocbuild\bbs-3.15-bioc\R\library --no-vignettes --timings EMDomics_2.25.0.tar.gz |
| StartedAt: 2022-03-17 19:01:01 -0400 (Thu, 17 Mar 2022) |
| EndedAt: 2022-03-17 19:02:21 -0400 (Thu, 17 Mar 2022) |
| EllapsedTime: 79.9 seconds |
| RetCode: 0 |
| Status: OK |
| CheckDir: EMDomics.Rcheck |
| Warnings: 0 |
##############################################################################
##############################################################################
###
### Running command:
###
### D:\biocbuild\bbs-3.15-bioc\R\bin\R.exe CMD check --no-multiarch --install=check:EMDomics.install-out.txt --library=D:\biocbuild\bbs-3.15-bioc\R\library --no-vignettes --timings EMDomics_2.25.0.tar.gz
###
##############################################################################
##############################################################################
* using log directory 'D:/biocbuild/bbs-3.15-bioc/meat/EMDomics.Rcheck'
* using R Under development (unstable) (2021-11-21 r81221)
* using platform: x86_64-w64-mingw32 (64-bit)
* using session charset: ISO8859-1
* using option '--no-vignettes'
* checking for file 'EMDomics/DESCRIPTION' ... OK
* this is package 'EMDomics' version '2.25.0'
* checking package namespace information ... OK
* checking package dependencies ... OK
* checking if this is a source package ... OK
* checking if there is a namespace ... OK
* checking for hidden files and directories ... OK
* checking for portable file names ... OK
* checking whether package 'EMDomics' can be installed ... OK
* checking installed package size ... OK
* checking package directory ... OK
* checking 'build' directory ... OK
* checking DESCRIPTION meta-information ... NOTE
Authors@R field gives more than one person with maintainer role:
Sadhika Malladi <contact@sadhikamalladi.com> [aut, cre]
Daniel Schmolze <emd@schmolze.com> [aut, cre]
* checking top-level files ... OK
* checking for left-over files ... OK
* checking index information ... OK
* checking package subdirectories ... OK
* checking R files for non-ASCII characters ... OK
* checking R files for syntax errors ... OK
* checking whether the package can be loaded ... OK
* checking whether the package can be loaded with stated dependencies ... OK
* checking whether the package can be unloaded cleanly ... OK
* checking whether the namespace can be loaded with stated dependencies ... OK
* checking whether the namespace can be unloaded cleanly ... OK
* checking dependencies in R code ... OK
* checking S3 generic/method consistency ... OK
* checking replacement functions ... OK
* checking foreign function calls ... OK
* checking R code for possible problems ... NOTE
.cvm_pairwise_q: no visible global function definition for 'combn'
.cvm_pairwise_q : <anonymous>: no visible global function definition
for 'median'
.emd_gene_pairwise: no visible global function definition for 'hist'
.emd_pairwise_q: no visible global function definition for 'combn'
.emd_pairwise_q : <anonymous>: no visible global function definition
for 'median'
.ks_pairwise_table: no visible global function definition for 'ks.test'
calculate_cvm: no visible global function definition for 'combn'
calculate_cvm : <anonymous>: no visible global function definition for
'median'
calculate_cvm_gene: no visible global function definition for 'combn'
calculate_emd: no visible global function definition for 'combn'
calculate_emd : <anonymous>: no visible global function definition for
'median'
calculate_emd_gene: no visible global function definition for 'combn'
calculate_ks: no visible global function definition for 'combn'
calculate_ks : <anonymous>: no visible global function definition for
'p.adjust'
calculate_ks : <anonymous>: no visible global function definition for
'median'
calculate_ks_gene: no visible global function definition for 'combn'
calculate_ks_gene: no visible global function definition for 'ks.test'
Undefined global functions or variables:
combn hist ks.test median p.adjust
Consider adding
importFrom("graphics", "hist")
importFrom("stats", "ks.test", "median", "p.adjust")
importFrom("utils", "combn")
to your NAMESPACE file.
* checking Rd files ... OK
* checking Rd metadata ... OK
* checking Rd cross-references ... OK
* checking for missing documentation entries ... OK
* checking for code/documentation mismatches ... OK
* checking Rd \usage sections ... OK
* checking Rd contents ... OK
* checking for unstated dependencies in examples ... OK
* checking files in 'vignettes' ... OK
* checking examples ... OK
Examples with CPU (user + system) or elapsed time > 5s
user system elapsed
plot_cvmperms 5.28 0.02 5.30
calculate_cvm 5.06 0.02 5.08
* checking for unstated dependencies in vignettes ... OK
* checking package vignettes in 'inst/doc' ... OK
* checking running R code from vignettes ... SKIPPED
* checking re-building of vignette outputs ... SKIPPED
* checking PDF version of manual ... OK
* DONE
Status: 2 NOTEs
See
'D:/biocbuild/bbs-3.15-bioc/meat/EMDomics.Rcheck/00check.log'
for details.
EMDomics.Rcheck/00install.out
##############################################################################
##############################################################################
###
### Running command:
###
### D:\biocbuild\bbs-3.15-bioc\R\bin\R.exe CMD INSTALL EMDomics
###
##############################################################################
##############################################################################
* installing to library 'D:/biocbuild/bbs-3.15-bioc/R/library'
* installing *source* package 'EMDomics' ...
** using staged installation
** R
** byte-compile and prepare package for lazy loading
** help
*** installing help indices
converting help for package 'EMDomics'
finding HTML links ... done
CVMomics html
EMDomics html
KSomics html
calculate_cvm html
calculate_cvm_gene html
calculate_emd html
calculate_emd_gene html
calculate_ks html
calculate_ks_gene html
emdomics-package html
plot_cvm_density html
plot_cvmnull html
plot_cvmperms html
plot_emd_density html
plot_emdnull html
plot_emdperms html
plot_ks_density html
plot_ksnull html
plot_ksperms html
** building package indices
** installing vignettes
** testing if installed package can be loaded from temporary location
** testing if installed package can be loaded from final location
** testing if installed package keeps a record of temporary installation path
* DONE (EMDomics)
Making 'packages.html' ...Warning in packageDescription(i, lib.loc = lib, fields = "Title", encoding = "UTF-8") :
DESCRIPTION file of package 'HybridMTest' is missing or broken
done
EMDomics.Rcheck/EMDomics-Ex.timings
| name | user | system | elapsed | |
| calculate_cvm | 5.06 | 0.02 | 5.08 | |
| calculate_cvm_gene | 0.02 | 0.00 | 0.01 | |
| calculate_emd | 3.19 | 0.07 | 3.27 | |
| calculate_emd_gene | 0 | 0 | 0 | |
| calculate_ks | 0.83 | 0.02 | 0.84 | |
| calculate_ks_gene | 0.02 | 0.00 | 0.01 | |
| plot_cvm_density | 4.79 | 0.00 | 4.80 | |
| plot_cvmnull | 2.14 | 0.00 | 2.14 | |
| plot_cvmperms | 5.28 | 0.02 | 5.30 | |
| plot_emd_density | 3.10 | 0.03 | 3.12 | |
| plot_emdnull | 1.25 | 0.01 | 1.27 | |
| plot_emdperms | 3.22 | 0.02 | 3.23 | |
| plot_ks_density | 1.39 | 0.00 | 1.39 | |
| plot_ksnull | 0.66 | 0.00 | 0.66 | |
| plot_ksperms | 1.51 | 0.01 | 1.53 | |