| Back to Multiple platform build/check report for BioC 3.15 |
|
This page was generated on 2022-10-19 13:21:26 -0400 (Wed, 19 Oct 2022).
| Hostname | OS | Arch (*) | R version | Installed pkgs |
|---|---|---|---|---|
| nebbiolo1 | Linux (Ubuntu 20.04.5 LTS) | x86_64 | 4.2.1 (2022-06-23) -- "Funny-Looking Kid" | 4386 |
| palomino3 | Windows Server 2022 Datacenter | x64 | 4.2.1 (2022-06-23 ucrt) -- "Funny-Looking Kid" | 4138 |
| merida1 | macOS 10.14.6 Mojave | x86_64 | 4.2.1 (2022-06-23) -- "Funny-Looking Kid" | 4205 |
| Click on any hostname to see more info about the system (e.g. compilers) (*) as reported by 'uname -p', except on Windows and Mac OS X | ||||
|
To the developers/maintainers of the EMDomics package: - Please allow up to 24 hours (and sometimes 48 hours) for your latest push to git@git.bioconductor.org:packages/EMDomics.git to reflect on this report. See How and When does the builder pull? When will my changes propagate? for more information. - Make sure to use the following settings in order to reproduce any error or warning you see on this page. |
| Package 593/2140 | Hostname | OS / Arch | INSTALL | BUILD | CHECK | BUILD BIN | ||||||||
| EMDomics 2.26.0 (landing page) Sadhika Malladi
| nebbiolo1 | Linux (Ubuntu 20.04.5 LTS) / x86_64 | OK | OK | OK | |||||||||
| palomino3 | Windows Server 2022 Datacenter / x64 | OK | OK | OK | OK | |||||||||
| merida1 | macOS 10.14.6 Mojave / x86_64 | OK | OK | OK | OK | |||||||||
| Package: EMDomics |
| Version: 2.26.0 |
| Command: F:\biocbuild\bbs-3.15-bioc\R\bin\R.exe CMD check --no-multiarch --install=check:EMDomics.install-out.txt --library=F:\biocbuild\bbs-3.15-bioc\R\library --no-vignettes --timings EMDomics_2.26.0.tar.gz |
| StartedAt: 2022-10-18 23:57:01 -0400 (Tue, 18 Oct 2022) |
| EndedAt: 2022-10-18 23:58:46 -0400 (Tue, 18 Oct 2022) |
| EllapsedTime: 105.0 seconds |
| RetCode: 0 |
| Status: OK |
| CheckDir: EMDomics.Rcheck |
| Warnings: 0 |
##############################################################################
##############################################################################
###
### Running command:
###
### F:\biocbuild\bbs-3.15-bioc\R\bin\R.exe CMD check --no-multiarch --install=check:EMDomics.install-out.txt --library=F:\biocbuild\bbs-3.15-bioc\R\library --no-vignettes --timings EMDomics_2.26.0.tar.gz
###
##############################################################################
##############################################################################
* using log directory 'F:/biocbuild/bbs-3.15-bioc/meat/EMDomics.Rcheck'
* using R version 4.2.1 (2022-06-23 ucrt)
* using platform: x86_64-w64-mingw32 (64-bit)
* using session charset: UTF-8
* using option '--no-vignettes'
* checking for file 'EMDomics/DESCRIPTION' ... OK
* this is package 'EMDomics' version '2.26.0'
* checking package namespace information ... OK
* checking package dependencies ... OK
* checking if this is a source package ... OK
* checking if there is a namespace ... OK
* checking for hidden files and directories ... OK
* checking for portable file names ... OK
* checking whether package 'EMDomics' can be installed ... OK
* checking installed package size ... OK
* checking package directory ... OK
* checking 'build' directory ... OK
* checking DESCRIPTION meta-information ... NOTE
Authors@R field gives more than one person with maintainer role:
Sadhika Malladi <contact@sadhikamalladi.com> [aut, cre]
Daniel Schmolze <emd@schmolze.com> [aut, cre]
* checking top-level files ... OK
* checking for left-over files ... OK
* checking index information ... OK
* checking package subdirectories ... OK
* checking R files for non-ASCII characters ... OK
* checking R files for syntax errors ... OK
* checking whether the package can be loaded ... OK
* checking whether the package can be loaded with stated dependencies ... OK
* checking whether the package can be unloaded cleanly ... OK
* checking whether the namespace can be loaded with stated dependencies ... OK
* checking whether the namespace can be unloaded cleanly ... OK
* checking dependencies in R code ... OK
* checking S3 generic/method consistency ... OK
* checking replacement functions ... OK
* checking foreign function calls ... OK
* checking R code for possible problems ... NOTE
.cvm_pairwise_q: no visible global function definition for 'combn'
.cvm_pairwise_q : <anonymous>: no visible global function definition
for 'median'
.emd_gene_pairwise: no visible global function definition for 'hist'
.emd_pairwise_q: no visible global function definition for 'combn'
.emd_pairwise_q : <anonymous>: no visible global function definition
for 'median'
.ks_pairwise_table: no visible global function definition for 'ks.test'
calculate_cvm: no visible global function definition for 'combn'
calculate_cvm : <anonymous>: no visible global function definition for
'median'
calculate_cvm_gene: no visible global function definition for 'combn'
calculate_emd: no visible global function definition for 'combn'
calculate_emd : <anonymous>: no visible global function definition for
'median'
calculate_emd_gene: no visible global function definition for 'combn'
calculate_ks: no visible global function definition for 'combn'
calculate_ks : <anonymous>: no visible global function definition for
'p.adjust'
calculate_ks : <anonymous>: no visible global function definition for
'median'
calculate_ks_gene: no visible global function definition for 'combn'
calculate_ks_gene: no visible global function definition for 'ks.test'
Undefined global functions or variables:
combn hist ks.test median p.adjust
Consider adding
importFrom("graphics", "hist")
importFrom("stats", "ks.test", "median", "p.adjust")
importFrom("utils", "combn")
to your NAMESPACE file.
* checking Rd files ... OK
* checking Rd metadata ... OK
* checking Rd cross-references ... OK
* checking for missing documentation entries ... OK
* checking for code/documentation mismatches ... OK
* checking Rd \usage sections ... OK
* checking Rd contents ... OK
* checking for unstated dependencies in examples ... OK
* checking files in 'vignettes' ... OK
* checking examples ... OK
Examples with CPU (user + system) or elapsed time > 5s
user system elapsed
plot_cvmperms 7.16 0.10 7.26
calculate_cvm 6.81 0.11 6.94
plot_cvm_density 6.47 0.14 6.61
* checking for unstated dependencies in vignettes ... OK
* checking package vignettes in 'inst/doc' ... OK
* checking running R code from vignettes ... SKIPPED
* checking re-building of vignette outputs ... SKIPPED
* checking PDF version of manual ... OK
* DONE
Status: 2 NOTEs
See
'F:/biocbuild/bbs-3.15-bioc/meat/EMDomics.Rcheck/00check.log'
for details.
EMDomics.Rcheck/00install.out
############################################################################## ############################################################################## ### ### Running command: ### ### F:\biocbuild\bbs-3.15-bioc\R\bin\R.exe CMD INSTALL EMDomics ### ############################################################################## ############################################################################## * installing to library 'F:/biocbuild/bbs-3.15-bioc/R/library' * installing *source* package 'EMDomics' ... ** using staged installation ** R ** byte-compile and prepare package for lazy loading ** help *** installing help indices ** building package indices ** installing vignettes ** testing if installed package can be loaded from temporary location ** testing if installed package can be loaded from final location ** testing if installed package keeps a record of temporary installation path * DONE (EMDomics)
EMDomics.Rcheck/EMDomics-Ex.timings
| name | user | system | elapsed | |
| calculate_cvm | 6.81 | 0.11 | 6.94 | |
| calculate_cvm_gene | 0 | 0 | 0 | |
| calculate_emd | 4.09 | 0.06 | 4.15 | |
| calculate_emd_gene | 0.01 | 0.00 | 0.02 | |
| calculate_ks | 3.49 | 0.08 | 3.56 | |
| calculate_ks_gene | 0 | 0 | 0 | |
| plot_cvm_density | 6.47 | 0.14 | 6.61 | |
| plot_cvmnull | 2.77 | 0.03 | 2.80 | |
| plot_cvmperms | 7.16 | 0.10 | 7.26 | |
| plot_emd_density | 4.20 | 0.09 | 4.30 | |
| plot_emdnull | 1.75 | 0.06 | 1.81 | |
| plot_emdperms | 4.31 | 0.07 | 4.38 | |
| plot_ks_density | 4.70 | 0.03 | 4.73 | |
| plot_ksnull | 2.80 | 0.15 | 2.96 | |
| plot_ksperms | 4.50 | 0.05 | 4.54 | |