| Back to Multiple platform build/check report for BioC 3.15 |
|
This page was generated on 2022-03-18 11:06:53 -0400 (Fri, 18 Mar 2022).
| Hostname | OS | Arch (*) | R version | Installed pkgs |
|---|---|---|---|---|
| nebbiolo1 | Linux (Ubuntu 20.04.4 LTS) | x86_64 | R Under development (unstable) (2022-02-17 r81757) -- "Unsuffered Consequences" | 4334 |
| riesling1 | Windows Server 2019 Standard | x64 | R Under development (unstable) (2021-11-21 r81221) -- "Unsuffered Consequences" | 4097 |
| palomino3 | Windows Server 2022 Datacenter | x64 | R Under development (unstable) (2022-02-17 r81757 ucrt) -- "Unsuffered Consequences" | 4083 |
| merida1 | macOS 10.14.6 Mojave | x86_64 | R Under development (unstable) (2022-03-02 r81842) -- "Unsuffered Consequences" | 4134 |
| Click on any hostname to see more info about the system (e.g. compilers) (*) as reported by 'uname -p', except on Windows and Mac OS X | ||||
|
To the developers/maintainers of the ADImpute package: - Please allow up to 24 hours (and sometimes 48 hours) for your latest push to git@git.bioconductor.org:packages/ADImpute.git to reflect on this report. See How and When does the builder pull? When will my changes propagate? here for more information. - Make sure to use the following settings in order to reproduce any error or warning you see on this page. |
| Package 19/2090 | Hostname | OS / Arch | INSTALL | BUILD | CHECK | BUILD BIN | ||||||||
| ADImpute 1.5.0 (landing page) Ana Carolina Leote
| nebbiolo1 | Linux (Ubuntu 20.04.4 LTS) / x86_64 | OK | OK | WARNINGS | |||||||||
| riesling1 | Windows Server 2019 Standard / x64 | OK | OK | WARNINGS | OK | |||||||||
| palomino3 | Windows Server 2022 Datacenter / x64 | OK | OK | WARNINGS | OK | |||||||||
| merida1 | macOS 10.14.6 Mojave / x86_64 | OK | OK | WARNINGS | OK | |||||||||
| Package: ADImpute |
| Version: 1.5.0 |
| Command: D:\biocbuild\bbs-3.15-bioc\R\bin\R.exe CMD INSTALL ADImpute |
| StartedAt: 2022-03-17 16:03:31 -0400 (Thu, 17 Mar 2022) |
| EndedAt: 2022-03-17 16:04:43 -0400 (Thu, 17 Mar 2022) |
| EllapsedTime: 72.0 seconds |
| RetCode: 0 |
| Status: OK |
##############################################################################
##############################################################################
###
### Running command:
###
### D:\biocbuild\bbs-3.15-bioc\R\bin\R.exe CMD INSTALL ADImpute
###
##############################################################################
##############################################################################
* installing to library 'D:/biocbuild/bbs-3.15-bioc/R/library'
* installing *source* package 'ADImpute' ...
** using staged installation
** R
** data
*** moving datasets to lazyload DB
** inst
** byte-compile and prepare package for lazy loading
** help
*** installing help indices
converting help for package 'ADImpute'
finding HTML links ... done
ArrangeData html
CenterData html
CheckArguments_Impute html
ChooseMethod html
Combine html
ComputeMSEGenewise html
CreateArgCheck html
CreateTrainData html
DataCheck_Matrix html
DataCheck_Network html
DataCheck_SingleCellExperiment html
DataCheck_TrLength html
EvaluateMethods html
GetDropoutProbabilities html
HandleBiologicalZeros html
Impute html
ImputeBaseline html
ImputeDrImpute html
ImputeNPDropouts html
ImputeNetParallel html
ImputeNetwork html
ImputePredictiveDropouts html
ImputeSAVER html
MaskData html
MaskerPerGene html
NormalizeRPM html
NormalizeTPM html
PseudoInverseSolution_percell html
ReadData html
ReturnChoice html
ReturnOut html
SetBiologicalZeros html
SplitData html
WriteCSV html
WriteTXT html
demo_data html
demo_net html
demo_sce html
network.coefficients html
transcript_length html
** building package indices
** installing vignettes
** testing if installed package can be loaded from temporary location
** testing if installed package can be loaded from final location
** testing if installed package keeps a record of temporary installation path
* DONE (ADImpute)
Making 'packages.html' ...Warning in packageDescription(i, lib.loc = lib, fields = "Title", encoding = "UTF-8") :
DESCRIPTION file of package 'CiteFuse' is missing or broken
done