| Back to Multiple platform build/check report for BioC 3.14 |
|
This page was generated on 2022-04-13 12:07:32 -0400 (Wed, 13 Apr 2022).
| Hostname | OS | Arch (*) | R version | Installed pkgs |
|---|---|---|---|---|
| nebbiolo2 | Linux (Ubuntu 20.04.4 LTS) | x86_64 | 4.1.3 (2022-03-10) -- "One Push-Up" | 4324 |
| tokay2 | Windows Server 2012 R2 Standard | x64 | 4.1.3 (2022-03-10) -- "One Push-Up" | 4077 |
| machv2 | macOS 10.14.6 Mojave | x86_64 | 4.1.3 (2022-03-10) -- "One Push-Up" | 4137 |
| Click on any hostname to see more info about the system (e.g. compilers) (*) as reported by 'uname -p', except on Windows and Mac OS X | ||||
|
To the developers/maintainers of the twoddpcr package: - Please allow up to 24 hours (and sometimes 48 hours) for your latest push to git@git.bioconductor.org:packages/twoddpcr.git to reflect on this report. See How and When does the builder pull? When will my changes propagate? for more information. - Make sure to use the following settings in order to reproduce any error or warning you see on this page. |
| Package 2020/2083 | Hostname | OS / Arch | INSTALL | BUILD | CHECK | BUILD BIN | ||||||||
| twoddpcr 1.18.0 (landing page) Anthony Chiu
| nebbiolo2 | Linux (Ubuntu 20.04.4 LTS) / x86_64 | OK | OK | OK | |||||||||
| tokay2 | Windows Server 2012 R2 Standard / x64 | OK | OK | OK | OK | |||||||||
| machv2 | macOS 10.14.6 Mojave / x86_64 | OK | OK | OK | OK | |||||||||
| Package: twoddpcr |
| Version: 1.18.0 |
| Command: rm -rf twoddpcr.buildbin-libdir && mkdir twoddpcr.buildbin-libdir && C:\Users\biocbuild\bbs-3.14-bioc\R\bin\R.exe CMD INSTALL --merge-multiarch --build --library=twoddpcr.buildbin-libdir twoddpcr_1.18.0.tar.gz |
| StartedAt: 2022-04-13 07:18:19 -0400 (Wed, 13 Apr 2022) |
| EndedAt: 2022-04-13 07:18:50 -0400 (Wed, 13 Apr 2022) |
| EllapsedTime: 30.4 seconds |
| RetCode: 0 |
| Status: OK |
| PackageFile: twoddpcr_1.18.0.zip |
| PackageFileSize: 3.025 MiB |
##############################################################################
##############################################################################
###
### Running command:
###
### rm -rf twoddpcr.buildbin-libdir && mkdir twoddpcr.buildbin-libdir && C:\Users\biocbuild\bbs-3.14-bioc\R\bin\R.exe CMD INSTALL --merge-multiarch --build --library=twoddpcr.buildbin-libdir twoddpcr_1.18.0.tar.gz
###
##############################################################################
##############################################################################
install for i386
* installing *source* package 'twoddpcr' ...
** using staged installation
** R
** data
*** moving datasets to lazyload DB
** inst
** byte-compile and prepare package for lazy loading
** help
*** installing help indices
converting help for package 'twoddpcr'
finding HTML links ... done
KRAScounts html
KRASdata html
amplitudes html
basicsSummary html
castSummary html
classCov html
classMeans html
classStats html
clusterCentres html
copiesSummary html
ddpcr html
ddpcrPlate-class html
ddpcrWell-class html
ddpcrWell-methods html
dot-classifyDfOnChannel html
dot-classifyOnChannel html
dot-classwiseMahalanobisRain html
dot-cov html
dot-dependentCols html
dot-essentialDependentCols html
dot-extractWellNames html
dot-getAllSummary html
dot-getChannelCentres html
dot-getClassificationData html
dot-getMutCopies html
dot-getWellNames html
dot-getWtCopies html
dot-isTwoDimDataFrame html
dot-isWideForm html
dot-mahDist html
dot-matrixInverse html
dot-numberOfWells html
dot-renormaliseByChannel html
dot-renormaliseWell html
dot-roundIt html
dot-slice html
dot-totalCopies html
drawBlank html
dropletPlot html
elementType-SimpleList-method html
exportTable html
extractPlateName html
extractWellNames html
facetPlot html
flatPlot html
fullCopiesSummary html
fullCountsSummary html
getCutOff html
ggplot.well html
gridClassify html
heatPlot html
kmeansClassify html
knnClassify html
mahalanobisRain html
mutantCopiesSummary html
numDroplets html
numericInputRow html
parseClusterCounts html
plateClassification html
plateClassificationMethod html
plateSummary html
positiveCounts html
readCSVDataFrame html
relabelClasses html
removeDropletClasses html
renormalisePlate html
sdRain html
setChannelNames html
setDropletVolume html
shinyVis html
shinyVisApp html
shinyVisServer html
shinyVisUI html
sortDataFrame html
sortWells html
textInputRow html
thresholdClassify html
twoddpcr-package html
wellClassification html
wellClassificationMethod html
whiteTheme html
wildTypeCopiesSummary html
** building package indices
** installing vignettes
** testing if installed package can be loaded from temporary location
** testing if installed package can be loaded from final location
** testing if installed package keeps a record of temporary installation path
install for x64
* installing *source* package 'twoddpcr' ...
** testing if installed package can be loaded
* MD5 sums
packaged installation of 'twoddpcr' as twoddpcr_1.18.0.zip
* DONE (twoddpcr)