| Back to Multiple platform build/check report for BioC 3.14 |
|
This page was generated on 2022-04-13 12:08:58 -0400 (Wed, 13 Apr 2022).
| Hostname | OS | Arch (*) | R version | Installed pkgs |
|---|---|---|---|---|
| nebbiolo2 | Linux (Ubuntu 20.04.4 LTS) | x86_64 | 4.1.3 (2022-03-10) -- "One Push-Up" | 4324 |
| tokay2 | Windows Server 2012 R2 Standard | x64 | 4.1.3 (2022-03-10) -- "One Push-Up" | 4077 |
| machv2 | macOS 10.14.6 Mojave | x86_64 | 4.1.3 (2022-03-10) -- "One Push-Up" | 4137 |
| Click on any hostname to see more info about the system (e.g. compilers) (*) as reported by 'uname -p', except on Windows and Mac OS X | ||||
|
To the developers/maintainers of the twoddpcr package: - Please allow up to 24 hours (and sometimes 48 hours) for your latest push to git@git.bioconductor.org:packages/twoddpcr.git to reflect on this report. See How and When does the builder pull? When will my changes propagate? for more information. - Make sure to use the following settings in order to reproduce any error or warning you see on this page. |
| Package 2020/2083 | Hostname | OS / Arch | INSTALL | BUILD | CHECK | BUILD BIN | ||||||||
| twoddpcr 1.18.0 (landing page) Anthony Chiu
| nebbiolo2 | Linux (Ubuntu 20.04.4 LTS) / x86_64 | OK | OK | OK | |||||||||
| tokay2 | Windows Server 2012 R2 Standard / x64 | OK | OK | OK | OK | |||||||||
| machv2 | macOS 10.14.6 Mojave / x86_64 | OK | OK | OK | OK | |||||||||
| Package: twoddpcr |
| Version: 1.18.0 |
| Command: /Library/Frameworks/R.framework/Resources/bin/R CMD check --install=check:twoddpcr.install-out.txt --library=/Library/Frameworks/R.framework/Resources/library --no-vignettes --timings twoddpcr_1.18.0.tar.gz |
| StartedAt: 2022-04-12 19:43:42 -0400 (Tue, 12 Apr 2022) |
| EndedAt: 2022-04-12 19:46:53 -0400 (Tue, 12 Apr 2022) |
| EllapsedTime: 191.0 seconds |
| RetCode: 0 |
| Status: OK |
| CheckDir: twoddpcr.Rcheck |
| Warnings: 0 |
##############################################################################
##############################################################################
###
### Running command:
###
### /Library/Frameworks/R.framework/Resources/bin/R CMD check --install=check:twoddpcr.install-out.txt --library=/Library/Frameworks/R.framework/Resources/library --no-vignettes --timings twoddpcr_1.18.0.tar.gz
###
##############################################################################
##############################################################################
* using log directory ‘/Users/biocbuild/bbs-3.14-bioc/meat/twoddpcr.Rcheck’
* using R version 4.1.3 (2022-03-10)
* using platform: x86_64-apple-darwin17.0 (64-bit)
* using session charset: UTF-8
* using option ‘--no-vignettes’
* checking for file ‘twoddpcr/DESCRIPTION’ ... OK
* this is package ‘twoddpcr’ version ‘1.18.0’
* checking package namespace information ... OK
* checking package dependencies ... OK
* checking if this is a source package ... OK
* checking if there is a namespace ... OK
* checking for hidden files and directories ... OK
* checking for portable file names ... OK
* checking for sufficient/correct file permissions ... OK
* checking whether package ‘twoddpcr’ can be installed ... OK
* checking installed package size ... OK
* checking package directory ... OK
* checking ‘build’ directory ... OK
* checking DESCRIPTION meta-information ... OK
* checking top-level files ... OK
* checking for left-over files ... OK
* checking index information ... OK
* checking package subdirectories ... OK
* checking R files for non-ASCII characters ... OK
* checking R files for syntax errors ... OK
* checking whether the package can be loaded ... OK
* checking whether the package can be loaded with stated dependencies ... OK
* checking whether the package can be unloaded cleanly ... OK
* checking whether the namespace can be loaded with stated dependencies ... OK
* checking whether the namespace can be unloaded cleanly ... OK
* checking dependencies in R code ... OK
* checking S3 generic/method consistency ... OK
* checking replacement functions ... OK
* checking foreign function calls ... OK
* checking R code for possible problems ... OK
* checking Rd files ... OK
* checking Rd metadata ... OK
* checking Rd cross-references ... OK
* checking for missing documentation entries ... OK
* checking for code/documentation mismatches ... OK
* checking Rd \usage sections ... OK
* checking Rd contents ... OK
* checking for unstated dependencies in examples ... OK
* checking contents of ‘data’ directory ... OK
* checking data for non-ASCII characters ... OK
* checking LazyData ... OK
* checking data for ASCII and uncompressed saves ... OK
* checking files in ‘vignettes’ ... OK
* checking examples ... OK
Examples with CPU (user + system) or elapsed time > 5s
user system elapsed
knnClassify 13.134 0.215 13.631
ggplot.well 8.004 0.292 8.311
gridClassify 6.443 0.156 6.609
dropletPlot 5.793 0.254 6.159
flatPlot 5.723 0.255 5.991
* checking for unstated dependencies in ‘tests’ ... OK
* checking tests ...
Running ‘testthat.R’
OK
* checking for unstated dependencies in vignettes ... OK
* checking package vignettes in ‘inst/doc’ ... OK
* checking running R code from vignettes ... SKIPPED
* checking re-building of vignette outputs ... SKIPPED
* checking PDF version of manual ... OK
* DONE
Status: OK
twoddpcr.Rcheck/00install.out
############################################################################## ############################################################################## ### ### Running command: ### ### /Library/Frameworks/R.framework/Resources/bin/R CMD INSTALL twoddpcr ### ############################################################################## ############################################################################## * installing to library ‘/Library/Frameworks/R.framework/Versions/4.1/Resources/library’ * installing *source* package ‘twoddpcr’ ... ** using staged installation ** R ** data *** moving datasets to lazyload DB ** inst ** byte-compile and prepare package for lazy loading ** help *** installing help indices ** building package indices ** installing vignettes ** testing if installed package can be loaded from temporary location ** testing if installed package can be loaded from final location ** testing if installed package keeps a record of temporary installation path * DONE (twoddpcr)
twoddpcr.Rcheck/tests/testthat.Rout
R version 4.1.3 (2022-03-10) -- "One Push-Up"
Copyright (C) 2022 The R Foundation for Statistical Computing
Platform: x86_64-apple-darwin17.0 (64-bit)
R is free software and comes with ABSOLUTELY NO WARRANTY.
You are welcome to redistribute it under certain conditions.
Type 'license()' or 'licence()' for distribution details.
R is a collaborative project with many contributors.
Type 'contributors()' for more information and
'citation()' on how to cite R or R packages in publications.
Type 'demo()' for some demos, 'help()' for on-line help, or
'help.start()' for an HTML browser interface to help.
Type 'q()' to quit R.
> library(testthat)
> library(twoddpcr)
>
> test_check("twoddpcr")
[ FAIL 0 | WARN 0 | SKIP 0 | PASS 155 ]
>
> proc.time()
user system elapsed
10.491 0.515 11.008
twoddpcr.Rcheck/twoddpcr-Ex.timings
| name | user | system | elapsed | |
| amplitudes | 0.539 | 0.031 | 0.570 | |
| basicsSummary | 0.009 | 0.001 | 0.009 | |
| castSummary | 0.034 | 0.008 | 0.042 | |
| classCov | 0.102 | 0.013 | 0.115 | |
| classMeans | 0.103 | 0.006 | 0.110 | |
| classStats | 0.111 | 0.012 | 0.123 | |
| clusterCentres | 1.391 | 0.065 | 1.458 | |
| copiesSummary | 0.006 | 0.001 | 0.007 | |
| ddpcrPlate-class | 0.439 | 0.008 | 0.449 | |
| ddpcrWell-class | 0.037 | 0.001 | 0.038 | |
| ddpcrWell-methods | 0.362 | 0.010 | 0.372 | |
| dropletPlot | 5.793 | 0.254 | 6.159 | |
| exportTable | 0.255 | 0.035 | 0.292 | |
| extractPlateName | 0.001 | 0.000 | 0.001 | |
| extractWellNames | 0.001 | 0.000 | 0.002 | |
| facetPlot | 3.167 | 0.086 | 3.257 | |
| flatPlot | 5.723 | 0.255 | 5.991 | |
| fullCopiesSummary | 0.013 | 0.003 | 0.016 | |
| fullCountsSummary | 0.059 | 0.012 | 0.071 | |
| ggplot.well | 8.004 | 0.292 | 8.311 | |
| gridClassify | 6.443 | 0.156 | 6.609 | |
| heatPlot | 2.059 | 0.056 | 2.118 | |
| kmeansClassify | 1.967 | 0.085 | 2.061 | |
| knnClassify | 13.134 | 0.215 | 13.631 | |
| mahalanobisRain | 1.071 | 0.061 | 1.133 | |
| mutantCopiesSummary | 0.009 | 0.002 | 0.011 | |
| numDroplets | 0.459 | 0.008 | 0.468 | |
| parseClusterCounts | 0.025 | 0.007 | 0.031 | |
| plateClassification | 1.768 | 0.039 | 1.808 | |
| plateClassificationMethod | 0.614 | 0.005 | 0.619 | |
| plateSummary | 2.030 | 0.011 | 2.044 | |
| positiveCounts | 0.043 | 0.001 | 0.043 | |
| readCSVDataFrame | 0.022 | 0.004 | 0.028 | |
| relabelClasses | 0.077 | 0.002 | 0.080 | |
| removeDropletClasses | 0.869 | 0.064 | 0.935 | |
| renormalisePlate | 4.804 | 0.176 | 4.982 | |
| sdRain | 3.376 | 0.034 | 3.413 | |
| setChannelNames | 0.002 | 0.002 | 0.004 | |
| setDropletVolume | 0.000 | 0.000 | 0.001 | |
| sortDataFrame | 0.003 | 0.001 | 0.005 | |
| sortWells | 0.435 | 0.003 | 0.437 | |
| thresholdClassify | 2.719 | 0.029 | 2.772 | |
| wellClassification | 0.038 | 0.002 | 0.041 | |
| wellClassificationMethod | 0.038 | 0.001 | 0.039 | |
| whiteTheme | 1.840 | 0.039 | 1.881 | |
| wildTypeCopiesSummary | 0.009 | 0.002 | 0.011 | |