| Back to Multiple platform build/check report for BioC 3.14 | 
 | 
This page was generated on 2022-04-13 12:07:18 -0400 (Wed, 13 Apr 2022).
| Hostname | OS | Arch (*) | R version | Installed pkgs | 
|---|---|---|---|---|
| nebbiolo2 | Linux (Ubuntu 20.04.4 LTS) | x86_64 | 4.1.3 (2022-03-10) -- "One Push-Up" | 4324 | 
| tokay2 | Windows Server 2012 R2 Standard | x64 | 4.1.3 (2022-03-10) -- "One Push-Up" | 4077 | 
| machv2 | macOS 10.14.6 Mojave | x86_64 | 4.1.3 (2022-03-10) -- "One Push-Up" | 4137 | 
| Click on any hostname to see more info about the system (e.g. compilers) (*) as reported by 'uname -p', except on Windows and Mac OS X | ||||
| To the developers/maintainers of the scHOT package: - Please allow up to 24 hours (and sometimes 48 hours) for your latest push to git@git.bioconductor.org:packages/scHOT.git to reflect on this report. See How and When does the builder pull? When will my changes propagate? for more information. - Make sure to use the following settings in order to reproduce any error or warning you see on this page. | 
| Package 1726/2083 | Hostname | OS / Arch | INSTALL | BUILD | CHECK | BUILD BIN | ||||||||
| scHOT 1.6.0  (landing page) Shila Ghazanfar 
 | nebbiolo2 | Linux (Ubuntu 20.04.4 LTS) / x86_64 | OK | OK | OK |  | ||||||||
| tokay2 | Windows Server 2012 R2 Standard / x64 | OK | OK | OK | OK |  | ||||||||
| machv2 | macOS 10.14.6 Mojave / x86_64 | OK | OK | OK | OK |  | ||||||||
| Package: scHOT | 
| Version: 1.6.0 | 
| Command: C:\Users\biocbuild\bbs-3.14-bioc\R\bin\R.exe CMD check --force-multiarch --install=check:scHOT.install-out.txt --library=C:\Users\biocbuild\bbs-3.14-bioc\R\library --no-vignettes --timings scHOT_1.6.0.tar.gz | 
| StartedAt: 2022-04-13 02:26:49 -0400 (Wed, 13 Apr 2022) | 
| EndedAt: 2022-04-13 02:39:31 -0400 (Wed, 13 Apr 2022) | 
| EllapsedTime: 761.5 seconds | 
| RetCode: 0 | 
| Status: OK | 
| CheckDir: scHOT.Rcheck | 
| Warnings: 0 | 
##############################################################################
##############################################################################
###
### Running command:
###
###   C:\Users\biocbuild\bbs-3.14-bioc\R\bin\R.exe CMD check --force-multiarch --install=check:scHOT.install-out.txt --library=C:\Users\biocbuild\bbs-3.14-bioc\R\library --no-vignettes --timings scHOT_1.6.0.tar.gz
###
##############################################################################
##############################################################################
* using log directory 'C:/Users/biocbuild/bbs-3.14-bioc/meat/scHOT.Rcheck'
* using R version 4.1.3 (2022-03-10)
* using platform: x86_64-w64-mingw32 (64-bit)
* using session charset: ISO8859-1
* using option '--no-vignettes'
* checking for file 'scHOT/DESCRIPTION' ... OK
* checking extension type ... Package
* this is package 'scHOT' version '1.6.0'
* package encoding: UTF-8
* checking package namespace information ... OK
* checking package dependencies ... OK
* checking if this is a source package ... OK
* checking if there is a namespace ... OK
* checking for hidden files and directories ... OK
* checking for portable file names ... OK
* checking whether package 'scHOT' can be installed ... OK
* checking installed package size ... OK
* checking package directory ... OK
* checking 'build' directory ... OK
* checking DESCRIPTION meta-information ... OK
* checking top-level files ... OK
* checking for left-over files ... OK
* checking index information ... OK
* checking package subdirectories ... OK
* checking R files for non-ASCII characters ... OK
* checking R files for syntax errors ... OK
* loading checks for arch 'i386'
** checking whether the package can be loaded ... OK
** checking whether the package can be loaded with stated dependencies ... OK
** checking whether the package can be unloaded cleanly ... OK
** checking whether the namespace can be loaded with stated dependencies ... OK
** checking whether the namespace can be unloaded cleanly ... OK
* loading checks for arch 'x64'
** checking whether the package can be loaded ... OK
** checking whether the package can be loaded with stated dependencies ... OK
** checking whether the package can be unloaded cleanly ... OK
** checking whether the namespace can be loaded with stated dependencies ... OK
** checking whether the namespace can be unloaded cleanly ... OK
* checking dependencies in R code ... OK
* checking S3 generic/method consistency ... OK
* checking replacement functions ... OK
* checking foreign function calls ... OK
* checking R code for possible problems ... OK
* checking Rd files ... OK
* checking Rd metadata ... OK
* checking Rd cross-references ... OK
* checking for missing documentation entries ... OK
* checking for code/documentation mismatches ... OK
* checking Rd \usage sections ... OK
* checking Rd contents ... OK
* checking for unstated dependencies in examples ... OK
* checking contents of 'data' directory ... OK
* checking data for non-ASCII characters ... OK
* checking LazyData ... OK
* checking data for ASCII and uncompressed saves ... OK
* checking files in 'vignettes' ... OK
* checking examples ...
** running examples for arch 'i386' ... OK
Examples with CPU (user + system) or elapsed time > 5s
                              user system elapsed
scHOT                        85.94   0.13   86.06
scHOT_estimatePvalues        85.48   0.01   85.50
scHOT_performPermutationTest 84.21   0.05   84.25
** running examples for arch 'x64' ... OK
Examples with CPU (user + system) or elapsed time > 5s
                              user system elapsed
scHOT_performPermutationTest 89.77   0.02   89.80
scHOT                        89.38   0.05   89.42
scHOT_estimatePvalues        85.60   0.02   85.61
* checking for unstated dependencies in vignettes ... OK
* checking package vignettes in 'inst/doc' ... OK
* checking running R code from vignettes ... SKIPPED
* checking re-building of vignette outputs ... SKIPPED
* checking PDF version of manual ... OK
* DONE
Status: OK
scHOT.Rcheck/00install.out
##############################################################################
##############################################################################
###
### Running command:
###
###   C:\cygwin\bin\curl.exe -O http://155.52.207.166/BBS/3.14/bioc/src/contrib/scHOT_1.6.0.tar.gz && rm -rf scHOT.buildbin-libdir && mkdir scHOT.buildbin-libdir && C:\Users\biocbuild\bbs-3.14-bioc\R\bin\R.exe CMD INSTALL --merge-multiarch --build --library=scHOT.buildbin-libdir scHOT_1.6.0.tar.gz && C:\Users\biocbuild\bbs-3.14-bioc\R\bin\R.exe CMD INSTALL scHOT_1.6.0.zip && rm scHOT_1.6.0.tar.gz scHOT_1.6.0.zip
###
##############################################################################
##############################################################################
  % Total    % Received % Xferd  Average Speed   Time    Time     Time  Current
                                 Dload  Upload   Total   Spent    Left  Speed
  0     0    0     0    0     0      0      0 --:--:-- --:--:-- --:--:--     0
 12 5763k   12  716k    0     0   764k      0  0:00:07 --:--:--  0:00:07  764k
 41 5763k   41 2379k    0     0  1250k      0  0:00:04  0:00:01  0:00:03 1250k
 71 5763k   71 4109k    0     0  1416k      0  0:00:04  0:00:02  0:00:02 1415k
100 5763k  100 5763k    0     0  1579k      0  0:00:03  0:00:03 --:--:-- 1579k
install for i386
* installing *source* package 'scHOT' ...
** using staged installation
** R
** data
*** moving datasets to lazyload DB
** byte-compile and prepare package for lazy loading
** help
*** installing help indices
  converting help for package 'scHOT'
    finding HTML links ... done
    MOB_subset                              html  
    liver                                   html  
    params-set                              html  
    plotColouredExpression                  html  
    plotEgoNetwork                          html  
    plotHigherOrderSequence                 html  
    plotOrderedExpression                   html  
    positionColData-set                     html  
    positionType-set                        html  
    scHOT-class                             html  
    scHOT                                   html  
    scHOT_addTestingScaffold                html  
    scHOT_buildFromMatrix                   html  
    scHOT_buildFromSCE                      html  
    scHOT_calculateGlobalHigherOrderFunction
                                            html  
    scHOT_calculateHigherOrderTestStatistics
                                            html  
    scHOT_estimatePvalues                   html  
    scHOT_output-set                        html  
    scHOT_performPermutationTest            html  
    scHOT_plotPermutationDistributions      html  
    scHOT_setPermutationScaffold            html  
    scHOT_setWeightMatrix                   html  
    scHOT_stripOutput                       html  
    spatialWeightMatrix                     html  
    testingScaffold-set                     html  
    thin                                    html  
    trajectoryWeightMatrix                  html  
    weightMatrix-set                        html  
    weightedPearson                         html  
    weightedSpearman                        html  
    weightedVariance                        html  
    weightedZIKendall                       html  
    weightedZISpearman                      html  
** building package indices
** installing vignettes
** testing if installed package can be loaded from temporary location
** testing if installed package can be loaded from final location
** testing if installed package keeps a record of temporary installation path
install for x64
* installing *source* package 'scHOT' ...
** testing if installed package can be loaded
* MD5 sums
packaged installation of 'scHOT' as scHOT_1.6.0.zip
* DONE (scHOT)
* installing to library 'C:/Users/biocbuild/bbs-3.14-bioc/R/library'
package 'scHOT' successfully unpacked and MD5 sums checked
| scHOT.Rcheck/examples_i386/scHOT-Ex.timings 
 | scHOT.Rcheck/examples_x64/scHOT-Ex.timings 
 |