| Back to Multiple platform build/check report for BioC 3.14 |
|
This page was generated on 2022-04-13 12:05:55 -0400 (Wed, 13 Apr 2022).
| Hostname | OS | Arch (*) | R version | Installed pkgs |
|---|---|---|---|---|
| nebbiolo2 | Linux (Ubuntu 20.04.4 LTS) | x86_64 | 4.1.3 (2022-03-10) -- "One Push-Up" | 4324 |
| tokay2 | Windows Server 2012 R2 Standard | x64 | 4.1.3 (2022-03-10) -- "One Push-Up" | 4077 |
| machv2 | macOS 10.14.6 Mojave | x86_64 | 4.1.3 (2022-03-10) -- "One Push-Up" | 4137 |
| Click on any hostname to see more info about the system (e.g. compilers) (*) as reported by 'uname -p', except on Windows and Mac OS X | ||||
|
To the developers/maintainers of the scHOT package: - Please allow up to 24 hours (and sometimes 48 hours) for your latest push to git@git.bioconductor.org:packages/scHOT.git to reflect on this report. See How and When does the builder pull? When will my changes propagate? for more information. - Make sure to use the following settings in order to reproduce any error or warning you see on this page. |
| Package 1726/2083 | Hostname | OS / Arch | INSTALL | BUILD | CHECK | BUILD BIN | ||||||||
| scHOT 1.6.0 (landing page) Shila Ghazanfar
| nebbiolo2 | Linux (Ubuntu 20.04.4 LTS) / x86_64 | OK | OK | OK | |||||||||
| tokay2 | Windows Server 2012 R2 Standard / x64 | OK | OK | OK | OK | |||||||||
| machv2 | macOS 10.14.6 Mojave / x86_64 | OK | OK | OK | OK | |||||||||
| Package: scHOT |
| Version: 1.6.0 |
| Command: /home/biocbuild/bbs-3.14-bioc/R/bin/R CMD check --install=check:scHOT.install-out.txt --library=/home/biocbuild/bbs-3.14-bioc/R/library --no-vignettes --timings scHOT_1.6.0.tar.gz |
| StartedAt: 2022-04-12 09:15:13 -0400 (Tue, 12 Apr 2022) |
| EndedAt: 2022-04-12 09:22:01 -0400 (Tue, 12 Apr 2022) |
| EllapsedTime: 408.5 seconds |
| RetCode: 0 |
| Status: OK |
| CheckDir: scHOT.Rcheck |
| Warnings: 0 |
##############################################################################
##############################################################################
###
### Running command:
###
### /home/biocbuild/bbs-3.14-bioc/R/bin/R CMD check --install=check:scHOT.install-out.txt --library=/home/biocbuild/bbs-3.14-bioc/R/library --no-vignettes --timings scHOT_1.6.0.tar.gz
###
##############################################################################
##############################################################################
* using log directory ‘/home/biocbuild/bbs-3.14-bioc/meat/scHOT.Rcheck’
* using R version 4.1.3 (2022-03-10)
* using platform: x86_64-pc-linux-gnu (64-bit)
* using session charset: UTF-8
* using option ‘--no-vignettes’
* checking for file ‘scHOT/DESCRIPTION’ ... OK
* checking extension type ... Package
* this is package ‘scHOT’ version ‘1.6.0’
* package encoding: UTF-8
* checking package namespace information ... OK
* checking package dependencies ... OK
* checking if this is a source package ... OK
* checking if there is a namespace ... OK
* checking for hidden files and directories ... OK
* checking for portable file names ... OK
* checking for sufficient/correct file permissions ... OK
* checking whether package ‘scHOT’ can be installed ... OK
* checking installed package size ... OK
* checking package directory ... OK
* checking ‘build’ directory ... OK
* checking DESCRIPTION meta-information ... OK
* checking top-level files ... OK
* checking for left-over files ... OK
* checking index information ... OK
* checking package subdirectories ... OK
* checking R files for non-ASCII characters ... OK
* checking R files for syntax errors ... OK
* checking whether the package can be loaded ... OK
* checking whether the package can be loaded with stated dependencies ... OK
* checking whether the package can be unloaded cleanly ... OK
* checking whether the namespace can be loaded with stated dependencies ... OK
* checking whether the namespace can be unloaded cleanly ... OK
* checking dependencies in R code ... OK
* checking S3 generic/method consistency ... OK
* checking replacement functions ... OK
* checking foreign function calls ... OK
* checking R code for possible problems ... OK
* checking Rd files ... OK
* checking Rd metadata ... OK
* checking Rd cross-references ... OK
* checking for missing documentation entries ... OK
* checking for code/documentation mismatches ... OK
* checking Rd \usage sections ... OK
* checking Rd contents ... OK
* checking for unstated dependencies in examples ... OK
* checking contents of ‘data’ directory ... OK
* checking data for non-ASCII characters ... OK
* checking LazyData ... OK
* checking data for ASCII and uncompressed saves ... OK
* checking files in ‘vignettes’ ... OK
* checking examples ... OK
Examples with CPU (user + system) or elapsed time > 5s
user system elapsed
scHOT 82.070 0.447 82.522
scHOT_estimatePvalues 79.364 0.260 79.626
scHOT_performPermutationTest 76.552 0.260 76.813
* checking for unstated dependencies in vignettes ... OK
* checking package vignettes in ‘inst/doc’ ... OK
* checking running R code from vignettes ... SKIPPED
* checking re-building of vignette outputs ... SKIPPED
* checking PDF version of manual ... OK
* DONE
Status: OK
scHOT.Rcheck/00install.out
############################################################################## ############################################################################## ### ### Running command: ### ### /home/biocbuild/bbs-3.14-bioc/R/bin/R CMD INSTALL scHOT ### ############################################################################## ############################################################################## * installing to library ‘/home/biocbuild/bbs-3.14-bioc/R/library’ * installing *source* package ‘scHOT’ ... ** using staged installation ** R ** data *** moving datasets to lazyload DB ** byte-compile and prepare package for lazy loading ** help *** installing help indices ** building package indices ** installing vignettes ** testing if installed package can be loaded from temporary location ** testing if installed package can be loaded from final location ** testing if installed package keeps a record of temporary installation path * DONE (scHOT)
scHOT.Rcheck/scHOT-Ex.timings
| name | user | system | elapsed | |
| params-set | 0.408 | 0.000 | 0.409 | |
| plotColouredExpression | 1.605 | 0.091 | 1.697 | |
| plotHigherOrderSequence | 1.954 | 0.031 | 1.986 | |
| positionColData-set | 0.233 | 0.005 | 0.237 | |
| positionType-set | 0.248 | 0.000 | 0.249 | |
| scHOT | 82.070 | 0.447 | 82.522 | |
| scHOT_addTestingScaffold | 0.267 | 0.012 | 0.279 | |
| scHOT_buildFromMatrix | 0.225 | 0.000 | 0.225 | |
| scHOT_buildFromSCE | 0.564 | 0.000 | 0.564 | |
| scHOT_calculateGlobalHigherOrderFunction | 0.37 | 0.00 | 0.37 | |
| scHOT_calculateHigherOrderTestStatistics | 1.155 | 0.012 | 1.167 | |
| scHOT_estimatePvalues | 79.364 | 0.260 | 79.626 | |
| scHOT_output-set | 0.24 | 0.00 | 0.24 | |
| scHOT_performPermutationTest | 76.552 | 0.260 | 76.813 | |
| scHOT_setPermutationScaffold | 0.36 | 0.00 | 0.36 | |
| scHOT_setWeightMatrix | 0.286 | 0.004 | 0.289 | |
| scHOT_stripOutput | 0.245 | 0.000 | 0.245 | |
| spatialWeightMatrix | 0.003 | 0.000 | 0.003 | |
| testingScaffold-set | 0.255 | 0.000 | 0.255 | |
| thin | 0.009 | 0.000 | 0.009 | |
| trajectoryWeightMatrix | 0.003 | 0.000 | 0.003 | |
| weightMatrix-set | 0.385 | 0.004 | 0.389 | |
| weightedPearson | 0.000 | 0.000 | 0.001 | |
| weightedSpearman | 0.001 | 0.000 | 0.000 | |
| weightedVariance | 0 | 0 | 0 | |
| weightedZIKendall | 0.001 | 0.000 | 0.001 | |
| weightedZISpearman | 0 | 0 | 0 | |