| Back to Multiple platform build/check report for BioC 3.14 |
|
This page was generated on 2022-04-13 12:07:13 -0400 (Wed, 13 Apr 2022).
| Hostname | OS | Arch (*) | R version | Installed pkgs |
|---|---|---|---|---|
| nebbiolo2 | Linux (Ubuntu 20.04.4 LTS) | x86_64 | 4.1.3 (2022-03-10) -- "One Push-Up" | 4324 |
| tokay2 | Windows Server 2012 R2 Standard | x64 | 4.1.3 (2022-03-10) -- "One Push-Up" | 4077 |
| machv2 | macOS 10.14.6 Mojave | x86_64 | 4.1.3 (2022-03-10) -- "One Push-Up" | 4137 |
| Click on any hostname to see more info about the system (e.g. compilers) (*) as reported by 'uname -p', except on Windows and Mac OS X | ||||
|
To the developers/maintainers of the rgsepd package: - Please allow up to 24 hours (and sometimes 48 hours) for your latest push to git@git.bioconductor.org:packages/rgsepd.git to reflect on this report. See How and When does the builder pull? When will my changes propagate? for more information. - Make sure to use the following settings in order to reproduce any error or warning you see on this page. |
| Package 1597/2083 | Hostname | OS / Arch | INSTALL | BUILD | CHECK | BUILD BIN | ||||||||
| rgsepd 1.26.0 (landing page) Karl Stamm
| nebbiolo2 | Linux (Ubuntu 20.04.4 LTS) / x86_64 | OK | OK | OK | |||||||||
| tokay2 | Windows Server 2012 R2 Standard / x64 | OK | OK | OK | OK | |||||||||
| machv2 | macOS 10.14.6 Mojave / x86_64 | OK | OK | OK | OK | |||||||||
| Package: rgsepd |
| Version: 1.26.0 |
| Command: C:\Users\biocbuild\bbs-3.14-bioc\R\bin\R.exe CMD check --force-multiarch --install=check:rgsepd.install-out.txt --library=C:\Users\biocbuild\bbs-3.14-bioc\R\library --no-vignettes --timings rgsepd_1.26.0.tar.gz |
| StartedAt: 2022-04-13 01:39:53 -0400 (Wed, 13 Apr 2022) |
| EndedAt: 2022-04-13 01:51:16 -0400 (Wed, 13 Apr 2022) |
| EllapsedTime: 683.3 seconds |
| RetCode: 0 |
| Status: OK |
| CheckDir: rgsepd.Rcheck |
| Warnings: 0 |
##############################################################################
##############################################################################
###
### Running command:
###
### C:\Users\biocbuild\bbs-3.14-bioc\R\bin\R.exe CMD check --force-multiarch --install=check:rgsepd.install-out.txt --library=C:\Users\biocbuild\bbs-3.14-bioc\R\library --no-vignettes --timings rgsepd_1.26.0.tar.gz
###
##############################################################################
##############################################################################
* using log directory 'C:/Users/biocbuild/bbs-3.14-bioc/meat/rgsepd.Rcheck'
* using R version 4.1.3 (2022-03-10)
* using platform: x86_64-w64-mingw32 (64-bit)
* using session charset: ISO8859-1
* using option '--no-vignettes'
* checking for file 'rgsepd/DESCRIPTION' ... OK
* checking extension type ... Package
* this is package 'rgsepd' version '1.26.0'
* checking package namespace information ... OK
* checking package dependencies ... OK
* checking if this is a source package ... OK
* checking if there is a namespace ... OK
* checking for hidden files and directories ... OK
* checking for portable file names ... OK
* checking whether package 'rgsepd' can be installed ... OK
* checking installed package size ... OK
* checking package directory ... OK
* checking 'build' directory ... OK
* checking DESCRIPTION meta-information ... OK
* checking top-level files ... OK
* checking for left-over files ... OK
* checking index information ... OK
* checking package subdirectories ... OK
* checking R files for non-ASCII characters ... OK
* checking R files for syntax errors ... OK
* loading checks for arch 'i386'
** checking whether the package can be loaded ... OK
** checking whether the package can be loaded with stated dependencies ... OK
** checking whether the package can be unloaded cleanly ... OK
** checking whether the namespace can be loaded with stated dependencies ... OK
** checking whether the namespace can be unloaded cleanly ... OK
* loading checks for arch 'x64'
** checking whether the package can be loaded ... OK
** checking whether the package can be loaded with stated dependencies ... OK
** checking whether the package can be unloaded cleanly ... OK
** checking whether the namespace can be loaded with stated dependencies ... OK
** checking whether the namespace can be unloaded cleanly ... OK
* checking dependencies in R code ... OK
* checking S3 generic/method consistency ... OK
* checking replacement functions ... OK
* checking foreign function calls ... OK
* checking R code for possible problems ... OK
* checking Rd files ... OK
* checking Rd metadata ... OK
* checking Rd cross-references ... OK
* checking for missing documentation entries ... OK
* checking for code/documentation mismatches ... OK
* checking Rd \usage sections ... OK
* checking Rd contents ... OK
* checking for unstated dependencies in examples ... OK
* checking contents of 'data' directory ... OK
* checking data for non-ASCII characters ... OK
* checking data for ASCII and uncompressed saves ... OK
* checking files in 'vignettes' ... OK
* checking examples ...
** running examples for arch 'i386' ... OK
Examples with CPU (user + system) or elapsed time > 5s
user system elapsed
ExtractProjection 78.19 7.74 86.10
GSEPD_DEGHeatmap 5.68 0.07 5.75
** running examples for arch 'x64' ... OK
Examples with CPU (user + system) or elapsed time > 5s
user system elapsed
ExtractProjection 73.14 5.91 79.36
GSEPD_DEGHeatmap 5.67 0.01 5.68
* checking for unstated dependencies in vignettes ... OK
* checking package vignettes in 'inst/doc' ... OK
* checking running R code from vignettes ... SKIPPED
* checking re-building of vignette outputs ... SKIPPED
* checking PDF version of manual ... OK
* DONE
Status: OK
rgsepd.Rcheck/00install.out
##############################################################################
##############################################################################
###
### Running command:
###
### C:\cygwin\bin\curl.exe -O http://155.52.207.166/BBS/3.14/bioc/src/contrib/rgsepd_1.26.0.tar.gz && rm -rf rgsepd.buildbin-libdir && mkdir rgsepd.buildbin-libdir && C:\Users\biocbuild\bbs-3.14-bioc\R\bin\R.exe CMD INSTALL --merge-multiarch --build --library=rgsepd.buildbin-libdir rgsepd_1.26.0.tar.gz && C:\Users\biocbuild\bbs-3.14-bioc\R\bin\R.exe CMD INSTALL rgsepd_1.26.0.zip && rm rgsepd_1.26.0.tar.gz rgsepd_1.26.0.zip
###
##############################################################################
##############################################################################
% Total % Received % Xferd Average Speed Time Time Time Current
Dload Upload Total Spent Left Speed
0 0 0 0 0 0 0 0 --:--:-- --:--:-- --:--:-- 0
63 962k 63 610k 0 0 906k 0 0:00:01 --:--:-- 0:00:01 906k
100 962k 100 962k 0 0 819k 0 0:00:01 0:00:01 --:--:-- 820k
install for i386
* installing *source* package 'rgsepd' ...
** using staged installation
** R
** data
** inst
** byte-compile and prepare package for lazy loading
** help
*** installing help indices
converting help for package 'rgsepd'
finding HTML links ... done
DisplayName html
ExtractProjection html
GSEPD_ChangeConditions html
GSEPD_ChangeOutput html
GSEPD_DEGHeatmap html
GSEPD_Export_DESeq html
GSEPD_Heatmap html
GSEPD_INIT html
GSEPD_PCA_Plot html
GSEPD_PCA_Spec html
GSEPD_Process html
GSEPD_ProcessAll html
GSEPD_PullDEG html
IlluminaBodymap html
IlluminaBodymapMeta html
Name_to_RefSeq html
rgsepd-package html
** building package indices
** installing vignettes
** testing if installed package can be loaded from temporary location
'select()' returned 1:1 mapping between keys and columns
'select()' returned 1:1 mapping between keys and columns
** testing if installed package can be loaded from final location
'select()' returned 1:1 mapping between keys and columns
'select()' returned 1:1 mapping between keys and columns
** testing if installed package keeps a record of temporary installation path
install for x64
* installing *source* package 'rgsepd' ...
** testing if installed package can be loaded
'select()' returned 1:1 mapping between keys and columns
'select()' returned 1:1 mapping between keys and columns
* MD5 sums
packaged installation of 'rgsepd' as rgsepd_1.26.0.zip
* DONE (rgsepd)
* installing to library 'C:/Users/biocbuild/bbs-3.14-bioc/R/library'
package 'rgsepd' successfully unpacked and MD5 sums checked
|
rgsepd.Rcheck/examples_i386/rgsepd-Ex.timings
|
rgsepd.Rcheck/examples_x64/rgsepd-Ex.timings
|