| Back to Multiple platform build/check report for BioC 3.14 |
|
This page was generated on 2022-04-13 12:08:39 -0400 (Wed, 13 Apr 2022).
| Hostname | OS | Arch (*) | R version | Installed pkgs |
|---|---|---|---|---|
| nebbiolo2 | Linux (Ubuntu 20.04.4 LTS) | x86_64 | 4.1.3 (2022-03-10) -- "One Push-Up" | 4324 |
| tokay2 | Windows Server 2012 R2 Standard | x64 | 4.1.3 (2022-03-10) -- "One Push-Up" | 4077 |
| machv2 | macOS 10.14.6 Mojave | x86_64 | 4.1.3 (2022-03-10) -- "One Push-Up" | 4137 |
| Click on any hostname to see more info about the system (e.g. compilers) (*) as reported by 'uname -p', except on Windows and Mac OS X | ||||
|
To the developers/maintainers of the rgsepd package: - Please allow up to 24 hours (and sometimes 48 hours) for your latest push to git@git.bioconductor.org:packages/rgsepd.git to reflect on this report. See How and When does the builder pull? When will my changes propagate? for more information. - Make sure to use the following settings in order to reproduce any error or warning you see on this page. |
| Package 1597/2083 | Hostname | OS / Arch | INSTALL | BUILD | CHECK | BUILD BIN | ||||||||
| rgsepd 1.26.0 (landing page) Karl Stamm
| nebbiolo2 | Linux (Ubuntu 20.04.4 LTS) / x86_64 | OK | OK | OK | |||||||||
| tokay2 | Windows Server 2012 R2 Standard / x64 | OK | OK | OK | OK | |||||||||
| machv2 | macOS 10.14.6 Mojave / x86_64 | OK | OK | OK | OK | |||||||||
| Package: rgsepd |
| Version: 1.26.0 |
| Command: /Library/Frameworks/R.framework/Resources/bin/R CMD check --install=check:rgsepd.install-out.txt --library=/Library/Frameworks/R.framework/Resources/library --no-vignettes --timings rgsepd_1.26.0.tar.gz |
| StartedAt: 2022-04-12 17:36:51 -0400 (Tue, 12 Apr 2022) |
| EndedAt: 2022-04-12 17:48:06 -0400 (Tue, 12 Apr 2022) |
| EllapsedTime: 675.3 seconds |
| RetCode: 0 |
| Status: OK |
| CheckDir: rgsepd.Rcheck |
| Warnings: 0 |
##############################################################################
##############################################################################
###
### Running command:
###
### /Library/Frameworks/R.framework/Resources/bin/R CMD check --install=check:rgsepd.install-out.txt --library=/Library/Frameworks/R.framework/Resources/library --no-vignettes --timings rgsepd_1.26.0.tar.gz
###
##############################################################################
##############################################################################
* using log directory ‘/Users/biocbuild/bbs-3.14-bioc/meat/rgsepd.Rcheck’
* using R version 4.1.3 (2022-03-10)
* using platform: x86_64-apple-darwin17.0 (64-bit)
* using session charset: UTF-8
* using option ‘--no-vignettes’
* checking for file ‘rgsepd/DESCRIPTION’ ... OK
* checking extension type ... Package
* this is package ‘rgsepd’ version ‘1.26.0’
* checking package namespace information ... OK
* checking package dependencies ... OK
* checking if this is a source package ... OK
* checking if there is a namespace ... OK
* checking for hidden files and directories ... OK
* checking for portable file names ... OK
* checking for sufficient/correct file permissions ... OK
* checking whether package ‘rgsepd’ can be installed ... OK
* checking installed package size ... OK
* checking package directory ... OK
* checking ‘build’ directory ... OK
* checking DESCRIPTION meta-information ... OK
* checking top-level files ... OK
* checking for left-over files ... OK
* checking index information ... OK
* checking package subdirectories ... OK
* checking R files for non-ASCII characters ... OK
* checking R files for syntax errors ... OK
* checking whether the package can be loaded ... OK
* checking whether the package can be loaded with stated dependencies ... OK
* checking whether the package can be unloaded cleanly ... OK
* checking whether the namespace can be loaded with stated dependencies ... OK
* checking whether the namespace can be unloaded cleanly ... OK
* checking dependencies in R code ... OK
* checking S3 generic/method consistency ... OK
* checking replacement functions ... OK
* checking foreign function calls ... OK
* checking R code for possible problems ... OK
* checking Rd files ... OK
* checking Rd metadata ... OK
* checking Rd cross-references ... OK
* checking for missing documentation entries ... OK
* checking for code/documentation mismatches ... OK
* checking Rd \usage sections ... OK
* checking Rd contents ... OK
* checking for unstated dependencies in examples ... OK
* checking contents of ‘data’ directory ... OK
* checking data for non-ASCII characters ... OK
* checking data for ASCII and uncompressed saves ... OK
* checking sizes of PDF files under ‘inst/doc’ ... OK
* checking files in ‘vignettes’ ... OK
* checking examples ... OK
Examples with CPU (user + system) or elapsed time > 5s
user system elapsed
ExtractProjection 124.798 5.003 130.801
GSEPD_DEGHeatmap 8.440 0.054 8.500
GSEPD_PullDEG 8.161 0.109 8.275
GSEPD_PCA_Plot 6.593 0.032 6.629
GSEPD_Heatmap 6.539 0.018 6.560
GSEPD_PCA_Spec 6.274 0.018 6.295
* checking for unstated dependencies in vignettes ... OK
* checking package vignettes in ‘inst/doc’ ... OK
* checking running R code from vignettes ... SKIPPED
* checking re-building of vignette outputs ... SKIPPED
* checking PDF version of manual ... OK
* DONE
Status: OK
rgsepd.Rcheck/00install.out
############################################################################## ############################################################################## ### ### Running command: ### ### /Library/Frameworks/R.framework/Resources/bin/R CMD INSTALL rgsepd ### ############################################################################## ############################################################################## * installing to library ‘/Library/Frameworks/R.framework/Versions/4.1/Resources/library’ * installing *source* package ‘rgsepd’ ... ** using staged installation ** R ** data ** inst ** byte-compile and prepare package for lazy loading ** help *** installing help indices ** building package indices ** installing vignettes ** testing if installed package can be loaded from temporary location 'select()' returned 1:1 mapping between keys and columns 'select()' returned 1:1 mapping between keys and columns ** testing if installed package can be loaded from final location 'select()' returned 1:1 mapping between keys and columns 'select()' returned 1:1 mapping between keys and columns ** testing if installed package keeps a record of temporary installation path * DONE (rgsepd)
rgsepd.Rcheck/rgsepd-Ex.timings
| name | user | system | elapsed | |
| DisplayName | 0.007 | 0.001 | 0.007 | |
| ExtractProjection | 124.798 | 5.003 | 130.801 | |
| GSEPD_ChangeConditions | 0.387 | 0.008 | 0.395 | |
| GSEPD_ChangeOutput | 0.413 | 0.009 | 0.422 | |
| GSEPD_DEGHeatmap | 8.440 | 0.054 | 8.500 | |
| GSEPD_Export_DESeq | 1.544 | 0.012 | 1.557 | |
| GSEPD_Heatmap | 6.539 | 0.018 | 6.560 | |
| GSEPD_INIT | 0.448 | 0.005 | 0.453 | |
| GSEPD_PCA_Plot | 6.593 | 0.032 | 6.629 | |
| GSEPD_PCA_Spec | 6.274 | 0.018 | 6.295 | |
| GSEPD_Process | 0.358 | 0.007 | 0.365 | |
| GSEPD_ProcessAll | 0.399 | 0.008 | 0.408 | |
| GSEPD_PullDEG | 8.161 | 0.109 | 8.275 | |
| IlluminaBodymap | 0.476 | 0.010 | 0.485 | |
| IlluminaBodymapMeta | 0.010 | 0.003 | 0.013 | |
| Name_to_RefSeq | 0.000 | 0.000 | 0.001 | |
| rgsepd-package | 0.470 | 0.011 | 0.479 | |