| Back to Multiple platform build/check report for BioC 3.14 | 
 | 
This page was generated on 2022-04-13 12:07:53 -0400 (Wed, 13 Apr 2022).
| Hostname | OS | Arch (*) | R version | Installed pkgs | 
|---|---|---|---|---|
| nebbiolo2 | Linux (Ubuntu 20.04.4 LTS) | x86_64 | 4.1.3 (2022-03-10) -- "One Push-Up" | 4324 | 
| tokay2 | Windows Server 2012 R2 Standard | x64 | 4.1.3 (2022-03-10) -- "One Push-Up" | 4077 | 
| machv2 | macOS 10.14.6 Mojave | x86_64 | 4.1.3 (2022-03-10) -- "One Push-Up" | 4137 | 
| Click on any hostname to see more info about the system (e.g. compilers) (*) as reported by 'uname -p', except on Windows and Mac OS X | ||||
| To the developers/maintainers of the decoupleR package: - Please allow up to 24 hours (and sometimes 48 hours) for your latest push to git@git.bioconductor.org:packages/decoupleR.git to reflect on this report. See How and When does the builder pull? When will my changes propagate? for more information. - Make sure to use the following settings in order to reproduce any error or warning you see on this page. | 
| Package 468/2083 | Hostname | OS / Arch | INSTALL | BUILD | CHECK | BUILD BIN | ||||||||
| decoupleR 2.0.1  (landing page) Pau Badia-i-Mompel 
 | nebbiolo2 | Linux (Ubuntu 20.04.4 LTS) / x86_64 | OK | OK | OK |  | ||||||||
| tokay2 | Windows Server 2012 R2 Standard / x64 | OK | OK | ERROR | OK | |||||||||
| machv2 | macOS 10.14.6 Mojave / x86_64 | OK | OK | OK | OK |  | ||||||||
| Package: decoupleR | 
| Version: 2.0.1 | 
| Command: /Library/Frameworks/R.framework/Resources/bin/R CMD check --install=check:decoupleR.install-out.txt --library=/Library/Frameworks/R.framework/Resources/library --no-vignettes --timings decoupleR_2.0.1.tar.gz | 
| StartedAt: 2022-04-12 12:20:53 -0400 (Tue, 12 Apr 2022) | 
| EndedAt: 2022-04-12 12:25:47 -0400 (Tue, 12 Apr 2022) | 
| EllapsedTime: 294.5 seconds | 
| RetCode: 0 | 
| Status: OK | 
| CheckDir: decoupleR.Rcheck | 
| Warnings: 0 | 
##############################################################################
##############################################################################
###
### Running command:
###
###   /Library/Frameworks/R.framework/Resources/bin/R CMD check --install=check:decoupleR.install-out.txt --library=/Library/Frameworks/R.framework/Resources/library --no-vignettes --timings decoupleR_2.0.1.tar.gz
###
##############################################################################
##############################################################################
* using log directory ‘/Users/biocbuild/bbs-3.14-bioc/meat/decoupleR.Rcheck’
* using R version 4.1.3 (2022-03-10)
* using platform: x86_64-apple-darwin17.0 (64-bit)
* using session charset: UTF-8
* using option ‘--no-vignettes’
* checking for file ‘decoupleR/DESCRIPTION’ ... OK
* checking extension type ... Package
* this is package ‘decoupleR’ version ‘2.0.1’
* package encoding: UTF-8
* checking package namespace information ... OK
* checking package dependencies ... OK
* checking if this is a source package ... OK
* checking if there is a namespace ... OK
* checking for hidden files and directories ... OK
* checking for portable file names ... OK
* checking for sufficient/correct file permissions ... OK
* checking whether package ‘decoupleR’ can be installed ... OK
* checking installed package size ... OK
* checking package directory ... OK
* checking ‘build’ directory ... OK
* checking DESCRIPTION meta-information ... OK
* checking top-level files ... OK
* checking for left-over files ... OK
* checking index information ... OK
* checking package subdirectories ... OK
* checking R files for non-ASCII characters ... OK
* checking R files for syntax errors ... OK
* checking whether the package can be loaded ... OK
* checking whether the package can be loaded with stated dependencies ... OK
* checking whether the package can be unloaded cleanly ... OK
* checking whether the namespace can be loaded with stated dependencies ... OK
* checking whether the namespace can be unloaded cleanly ... OK
* checking dependencies in R code ... NOTE
[2022-04-12 12:21:35] [INFO]    [OmnipathR] Initialized cache: `/Users/biocbuild/Library/Caches/OmnipathR`.
[2022-04-12 12:21:36] [INFO]    [OmnipathR] Welcome to OmnipathR!
[2022-04-12 12:21:36] [TRACE]   [OmnipathR] Cache locked: FALSE
* checking S3 generic/method consistency ... OK
* checking replacement functions ... OK
* checking foreign function calls ... OK
* checking R code for possible problems ... OK
* checking Rd files ... OK
* checking Rd metadata ... OK
* checking Rd cross-references ... OK
* checking for missing documentation entries ... OK
* checking for code/documentation mismatches ... OK
* checking Rd \usage sections ... OK
* checking Rd contents ... OK
* checking for unstated dependencies in examples ... OK
* checking files in ‘vignettes’ ... OK
* checking examples ... OK
Examples with CPU (user + system) or elapsed time > 5s
               user system elapsed
get_dorothea 23.055  0.252  23.330
run_aucell   10.859  0.282  11.147
get_progeny   6.030  0.326   7.528
* checking for unstated dependencies in ‘tests’ ... OK
* checking tests ...
  Running ‘testthat.R’
 OK
* checking for unstated dependencies in vignettes ... OK
* checking package vignettes in ‘inst/doc’ ... OK
* checking running R code from vignettes ... SKIPPED
* checking re-building of vignette outputs ... SKIPPED
* checking PDF version of manual ... OK
* DONE
Status: 1 NOTE
See
  ‘/Users/biocbuild/bbs-3.14-bioc/meat/decoupleR.Rcheck/00check.log’
for details.
decoupleR.Rcheck/00install.out
############################################################################## ############################################################################## ### ### Running command: ### ### /Library/Frameworks/R.framework/Resources/bin/R CMD INSTALL decoupleR ### ############################################################################## ############################################################################## * installing to library ‘/Library/Frameworks/R.framework/Versions/4.1/Resources/library’ * installing *source* package ‘decoupleR’ ... ** using staged installation ** R ** inst ** byte-compile and prepare package for lazy loading ** help *** installing help indices *** copying figures ** building package indices ** installing vignettes ** testing if installed package can be loaded from temporary location ** testing if installed package can be loaded from final location ** testing if installed package keeps a record of temporary installation path * DONE (decoupleR)
decoupleR.Rcheck/tests/testthat.Rout
R version 4.1.3 (2022-03-10) -- "One Push-Up"
Copyright (C) 2022 The R Foundation for Statistical Computing
Platform: x86_64-apple-darwin17.0 (64-bit)
R is free software and comes with ABSOLUTELY NO WARRANTY.
You are welcome to redistribute it under certain conditions.
Type 'license()' or 'licence()' for distribution details.
R is a collaborative project with many contributors.
Type 'contributors()' for more information and
'citation()' on how to cite R or R packages in publications.
Type 'demo()' for some demos, 'help()' for on-line help, or
'help.start()' for an HTML browser interface to help.
Type 'q()' to quit R.
> library(testthat)
> library(decoupleR)
> 
> test_check("decoupleR")
[2022-04-12 12:24:12] [INFO]    [OmnipathR] Initialized cache: `/Users/biocbuild/Library/Caches/OmnipathR`.
[2022-04-12 12:24:13] [INFO]    [OmnipathR] Welcome to OmnipathR!
[2022-04-12 12:24:13] [TRACE]   [OmnipathR] Cache locked: FALSE
[2022-04-12 12:24:15] [TRACE]   [OmnipathR] Loaded data from RDS `/Users/biocbuild/Library/Caches/OmnipathR/6f000d9b5edd9832b1c28754d1c3d9449c1c7490-1.rds`.
[2022-04-12 12:24:15] [INFO]    [OmnipathR] Loaded from cache: `https://omnipathdb.org/annotations?resources=TFcensus&license=academic`
[2022-04-12 12:24:15] [SUCCESS] [OmnipathR] Loaded 3516 annotation records from cache.
[2022-04-12 12:24:21] [TRACE]   [OmnipathR] Loaded data from RDS `/Users/biocbuild/Library/Caches/OmnipathR/3492392585ba05414edfae46801492076437d7e7-1.rds`.
[2022-04-12 12:24:21] [INFO]    [OmnipathR] Loaded from cache: `https://omnipathdb.org/annotations?resources=PROGENy&license=academic`
[2022-04-12 12:24:21] [SUCCESS] [OmnipathR] Loaded 700257 annotation records from cache.
[2022-04-12 12:24:29] [TRACE]   [OmnipathR] Loaded data from RDS `/Users/biocbuild/Library/Caches/OmnipathR/3492392585ba05414edfae46801492076437d7e7-1.rds`.
[2022-04-12 12:24:29] [INFO]    [OmnipathR] Loaded from cache: `https://omnipathdb.org/annotations?resources=PROGENy&license=academic`
[2022-04-12 12:24:29] [SUCCESS] [OmnipathR] Loaded 700257 annotation records from cache.
[2022-04-12 12:24:33] [TRACE]   [OmnipathR] Loaded data from RDS `/Users/biocbuild/Library/Caches/OmnipathR/46d37339bbc3f9a05bb89ccb79278cf1233f5cdf-1.rds`.
[2022-04-12 12:24:33] [INFO]    [OmnipathR] Loaded from cache: `https://omnipathdb.org/interactions?genesymbols=yes&datasets=dorothea&organisms=9606&dorothea_levels=A,B,C,D&fields=sources,references,curation_effort,dorothea_level&license=academic`
[2022-04-12 12:24:39] [SUCCESS] [OmnipathR] Loaded 278482 interactions from cache.
[2022-04-12 12:24:56] [TRACE]   [OmnipathR] Loaded data from RDS `/Users/biocbuild/Library/Caches/OmnipathR/ff347dedf78ef5e38c9c6d8eed291fa901aa3791-1.rds`.
[2022-04-12 12:24:56] [INFO]    [OmnipathR] Loaded from cache: `https://omnipathdb.org/interactions?genesymbols=yes&datasets=dorothea&organisms=10090&dorothea_levels=A,B,C,D&fields=sources,references,curation_effort,dorothea_level&license=academic`
[2022-04-12 12:25:02] [SUCCESS] [OmnipathR] Loaded 256977 interactions from cache.
[ FAIL 0 | WARN 0 | SKIP 0 | PASS 36 ]
> 
> proc.time()
   user  system elapsed 
176.191   5.406 129.717 
decoupleR.Rcheck/decoupleR-Ex.timings
| name | user | system | elapsed | |
| check_corr | 0.187 | 0.005 | 0.193 | |
| convert_f_defaults | 0.083 | 0.006 | 0.089 | |
| decouple | 0.002 | 0.001 | 0.003 | |
| dot-fit_preprocessing | 0.885 | 2.103 | 3.132 | |
| extract_sets | 0.096 | 0.005 | 0.101 | |
| filt_minsize | 0.186 | 0.006 | 0.191 | |
| get_dorothea | 23.055 | 0.252 | 23.330 | |
| get_profile_of | 0.001 | 0.000 | 0.001 | |
| get_progeny | 6.030 | 0.326 | 7.528 | |
| get_resource | 0.258 | 0.008 | 1.521 | |
| get_toy_data | 0.010 | 0.001 | 0.011 | |
| intersect_regulons | 0.086 | 0.003 | 0.089 | |
| pipe | 0.000 | 0.001 | 0.000 | |
| pivot_wider_profile | 0.000 | 0.002 | 0.001 | |
| randomize_matrix | 0.000 | 0.001 | 0.001 | |
| rename_net | 0.106 | 0.003 | 0.110 | |
| run_aucell | 10.859 | 0.282 | 11.147 | |
| run_consensus | 4.131 | 0.218 | 4.351 | |
| run_fgsea | 1.709 | 0.091 | 1.800 | |
| run_gsva | 2.230 | 0.106 | 2.340 | |
| run_mdt | 0.782 | 0.026 | 0.564 | |
| run_mlm | 0.280 | 0.026 | 0.306 | |
| run_ora | 0.780 | 0.024 | 0.805 | |
| run_udt | 0.701 | 0.039 | 0.742 | |
| run_ulm | 0.571 | 0.045 | 0.617 | |
| run_viper | 1.149 | 0.071 | 1.221 | |
| run_wmean | 1.977 | 0.018 | 1.996 | |
| run_wsum | 1.799 | 0.027 | 1.828 | |
| show_methods | 0.092 | 0.005 | 0.097 | |
| show_resources | 0.088 | 0.005 | 0.677 | |
| tidyeval | 0.001 | 0.001 | 0.001 | |