| Back to Multiple platform build/check report for BioC 3.14 |
|
This page was generated on 2022-04-13 12:07:13 -0400 (Wed, 13 Apr 2022).
| Hostname | OS | Arch (*) | R version | Installed pkgs |
|---|---|---|---|---|
| nebbiolo2 | Linux (Ubuntu 20.04.4 LTS) | x86_64 | 4.1.3 (2022-03-10) -- "One Push-Up" | 4324 |
| tokay2 | Windows Server 2012 R2 Standard | x64 | 4.1.3 (2022-03-10) -- "One Push-Up" | 4077 |
| machv2 | macOS 10.14.6 Mojave | x86_64 | 4.1.3 (2022-03-10) -- "One Push-Up" | 4137 |
| Click on any hostname to see more info about the system (e.g. compilers) (*) as reported by 'uname -p', except on Windows and Mac OS X | ||||
|
To the developers/maintainers of the RGMQL package: - Please allow up to 24 hours (and sometimes 48 hours) for your latest push to git@git.bioconductor.org:packages/RGMQL.git to reflect on this report. See How and When does the builder pull? When will my changes propagate? for more information. - Make sure to use the following settings in order to reproduce any error or warning you see on this page. |
| Package 1592/2083 | Hostname | OS / Arch | INSTALL | BUILD | CHECK | BUILD BIN | ||||||||
| RGMQL 1.14.1 (landing page) Simone Pallotta
| nebbiolo2 | Linux (Ubuntu 20.04.4 LTS) / x86_64 | OK | OK | WARNINGS | |||||||||
| tokay2 | Windows Server 2012 R2 Standard / x64 | OK | OK | WARNINGS | OK | |||||||||
| machv2 | macOS 10.14.6 Mojave / x86_64 | ... NOT SUPPORTED ... | ||||||||||||
| Package: RGMQL |
| Version: 1.14.1 |
| Command: rm -rf RGMQL.buildbin-libdir && mkdir RGMQL.buildbin-libdir && C:\Users\biocbuild\bbs-3.14-bioc\R\bin\R.exe --arch x64 CMD INSTALL --no-multiarch --build --library=RGMQL.buildbin-libdir RGMQL_1.14.1.tar.gz |
| StartedAt: 2022-04-13 06:58:01 -0400 (Wed, 13 Apr 2022) |
| EndedAt: 2022-04-13 06:59:06 -0400 (Wed, 13 Apr 2022) |
| EllapsedTime: 65.3 seconds |
| RetCode: 0 |
| Status: OK |
| PackageFile: RGMQL_1.14.1.zip |
| PackageFileSize: 28.81 MiB |
##############################################################################
##############################################################################
###
### Running command:
###
### rm -rf RGMQL.buildbin-libdir && mkdir RGMQL.buildbin-libdir && C:\Users\biocbuild\bbs-3.14-bioc\R\bin\R.exe --arch x64 CMD INSTALL --no-multiarch --build --library=RGMQL.buildbin-libdir RGMQL_1.14.1.tar.gz
###
##############################################################################
##############################################################################
* installing *source* package 'RGMQL' ...
** using staged installation
** R
** inst
** byte-compile and prepare package for lazy loading
** help
*** installing help indices
converting help for package 'RGMQL'
finding HTML links ... done
aggr-class html
aggregate html
arrange html
collect html
compile_query html
condition_eval_func html
cover-param-class html
cover html
delete_dataset html
distal-class html
download_dataset html
execute html
export_gmql html
extend html
filter-extract-param-class html
filter html
filter_and_extract html
group_by html
import_gmql html
init_gmql html
log_job html
login_gmql html
logout_gmql html
map html
merge html
operator-class html
ordering-class html
read-function html
register_gmql html
remote_processing html
run_query html
sample_metadata html
sample_region html
save_query html
select html
semijoin html
setdiff html
show_all_metadata html
show_dataset html
show_jobs_list html
show_queries_list html
show_samples_list html
show_schema html
stop_gmql html
stop_job html
take html
union html
upload_dataset html
** building package indices
** installing vignettes
** testing if installed package can be loaded from temporary location
** testing if installed package can be loaded from final location
** testing if installed package keeps a record of temporary installation path
* MD5 sums
packaged installation of 'RGMQL' as RGMQL_1.14.1.zip
* DONE (RGMQL)