| Back to Multiple platform build/check report for BioC 3.14 |
|
This page was generated on 2022-04-13 12:07:07 -0400 (Wed, 13 Apr 2022).
| Hostname | OS | Arch (*) | R version | Installed pkgs |
|---|---|---|---|---|
| nebbiolo2 | Linux (Ubuntu 20.04.4 LTS) | x86_64 | 4.1.3 (2022-03-10) -- "One Push-Up" | 4324 |
| tokay2 | Windows Server 2012 R2 Standard | x64 | 4.1.3 (2022-03-10) -- "One Push-Up" | 4077 |
| machv2 | macOS 10.14.6 Mojave | x86_64 | 4.1.3 (2022-03-10) -- "One Push-Up" | 4137 |
| Click on any hostname to see more info about the system (e.g. compilers) (*) as reported by 'uname -p', except on Windows and Mac OS X | ||||
|
To the developers/maintainers of the PrecisionTrialDrawer package: - Please allow up to 24 hours (and sometimes 48 hours) for your latest push to git@git.bioconductor.org:packages/PrecisionTrialDrawer.git to reflect on this report. See How and When does the builder pull? When will my changes propagate? for more information. - Make sure to use the following settings in order to reproduce any error or warning you see on this page. |
| Package 1451/2083 | Hostname | OS / Arch | INSTALL | BUILD | CHECK | BUILD BIN | ||||||||
| PrecisionTrialDrawer 1.10.0 (landing page) Giorgio Melloni
| nebbiolo2 | Linux (Ubuntu 20.04.4 LTS) / x86_64 | OK | OK | OK | |||||||||
| tokay2 | Windows Server 2012 R2 Standard / x64 | OK | OK | OK | OK | |||||||||
| machv2 | macOS 10.14.6 Mojave / x86_64 | OK | OK | OK | OK | |||||||||
| Package: PrecisionTrialDrawer |
| Version: 1.10.0 |
| Command: rm -rf PrecisionTrialDrawer.buildbin-libdir && mkdir PrecisionTrialDrawer.buildbin-libdir && C:\Users\biocbuild\bbs-3.14-bioc\R\bin\R.exe CMD INSTALL --merge-multiarch --build --library=PrecisionTrialDrawer.buildbin-libdir PrecisionTrialDrawer_1.10.0.tar.gz |
| StartedAt: 2022-04-13 06:50:11 -0400 (Wed, 13 Apr 2022) |
| EndedAt: 2022-04-13 06:51:08 -0400 (Wed, 13 Apr 2022) |
| EllapsedTime: 56.5 seconds |
| RetCode: 0 |
| Status: OK |
| PackageFile: PrecisionTrialDrawer_1.10.0.zip |
| PackageFileSize: 1.248 MiB |
##############################################################################
##############################################################################
###
### Running command:
###
### rm -rf PrecisionTrialDrawer.buildbin-libdir && mkdir PrecisionTrialDrawer.buildbin-libdir && C:\Users\biocbuild\bbs-3.14-bioc\R\bin\R.exe CMD INSTALL --merge-multiarch --build --library=PrecisionTrialDrawer.buildbin-libdir PrecisionTrialDrawer_1.10.0.tar.gz
###
##############################################################################
##############################################################################
install for i386
* installing *source* package 'PrecisionTrialDrawer' ...
** using staged installation
** R
** data
** inst
** byte-compile and prepare package for lazy loading
Creating a generic function for 'toJSON' from package 'jsonlite' in package 'googleVis'
** help
*** installing help indices
converting help for package 'PrecisionTrialDrawer'
finding HTML links ... done
CancerPanel-class html
PrecisionTrialDrawer-package html
appendRepo html
coocMutexPlot html
coveragePlot html
coverageStackPlot html
cpArguments html
cpData html
cpDataSubset html
cpDesign html
cpFreq html
cpObj html
cpObj2 html
dataExtractor html
filterFusions html
filterMutations html
getAlterations html
newCancerPanel html
panelDesigner html
panelOptimizer html
panelexample html
propPowerSampleSize html
saturationPlot html
showCancerStudy html
showTumorType html
subsetAlterations html
survPowerSampleSize html
survPowerSampleSize1Arm html
** building package indices
** installing vignettes
** testing if installed package can be loaded from temporary location
Creating a generic function for 'toJSON' from package 'jsonlite' in package 'googleVis'
** testing if installed package can be loaded from final location
Creating a generic function for 'toJSON' from package 'jsonlite' in package 'googleVis'
** testing if installed package keeps a record of temporary installation path
install for x64
* installing *source* package 'PrecisionTrialDrawer' ...
** testing if installed package can be loaded
Creating a generic function for 'toJSON' from package 'jsonlite' in package 'googleVis'
* MD5 sums
packaged installation of 'PrecisionTrialDrawer' as PrecisionTrialDrawer_1.10.0.zip
* DONE (PrecisionTrialDrawer)