| Back to Multiple platform build/check report for BioC 3.14 |
|
This page was generated on 2022-04-13 12:08:33 -0400 (Wed, 13 Apr 2022).
| Hostname | OS | Arch (*) | R version | Installed pkgs |
|---|---|---|---|---|
| nebbiolo2 | Linux (Ubuntu 20.04.4 LTS) | x86_64 | 4.1.3 (2022-03-10) -- "One Push-Up" | 4324 |
| tokay2 | Windows Server 2012 R2 Standard | x64 | 4.1.3 (2022-03-10) -- "One Push-Up" | 4077 |
| machv2 | macOS 10.14.6 Mojave | x86_64 | 4.1.3 (2022-03-10) -- "One Push-Up" | 4137 |
| Click on any hostname to see more info about the system (e.g. compilers) (*) as reported by 'uname -p', except on Windows and Mac OS X | ||||
|
To the developers/maintainers of the PrecisionTrialDrawer package: - Please allow up to 24 hours (and sometimes 48 hours) for your latest push to git@git.bioconductor.org:packages/PrecisionTrialDrawer.git to reflect on this report. See How and When does the builder pull? When will my changes propagate? for more information. - Make sure to use the following settings in order to reproduce any error or warning you see on this page. |
| Package 1451/2083 | Hostname | OS / Arch | INSTALL | BUILD | CHECK | BUILD BIN | ||||||||
| PrecisionTrialDrawer 1.10.0 (landing page) Giorgio Melloni
| nebbiolo2 | Linux (Ubuntu 20.04.4 LTS) / x86_64 | OK | OK | OK | |||||||||
| tokay2 | Windows Server 2012 R2 Standard / x64 | OK | OK | OK | OK | |||||||||
| machv2 | macOS 10.14.6 Mojave / x86_64 | OK | OK | OK | OK | |||||||||
| Package: PrecisionTrialDrawer |
| Version: 1.10.0 |
| Command: /Library/Frameworks/R.framework/Resources/bin/R CMD check --install=check:PrecisionTrialDrawer.install-out.txt --library=/Library/Frameworks/R.framework/Resources/library --no-vignettes --timings PrecisionTrialDrawer_1.10.0.tar.gz |
| StartedAt: 2022-04-12 16:55:52 -0400 (Tue, 12 Apr 2022) |
| EndedAt: 2022-04-12 17:00:33 -0400 (Tue, 12 Apr 2022) |
| EllapsedTime: 281.1 seconds |
| RetCode: 0 |
| Status: OK |
| CheckDir: PrecisionTrialDrawer.Rcheck |
| Warnings: 0 |
##############################################################################
##############################################################################
###
### Running command:
###
### /Library/Frameworks/R.framework/Resources/bin/R CMD check --install=check:PrecisionTrialDrawer.install-out.txt --library=/Library/Frameworks/R.framework/Resources/library --no-vignettes --timings PrecisionTrialDrawer_1.10.0.tar.gz
###
##############################################################################
##############################################################################
* using log directory ‘/Users/biocbuild/bbs-3.14-bioc/meat/PrecisionTrialDrawer.Rcheck’
* using R version 4.1.3 (2022-03-10)
* using platform: x86_64-apple-darwin17.0 (64-bit)
* using session charset: UTF-8
* using option ‘--no-vignettes’
* checking for file ‘PrecisionTrialDrawer/DESCRIPTION’ ... OK
* checking extension type ... Package
* this is package ‘PrecisionTrialDrawer’ version ‘1.10.0’
* checking package namespace information ... OK
* checking package dependencies ... OK
* checking if this is a source package ... OK
* checking if there is a namespace ... OK
* checking for hidden files and directories ... OK
* checking for portable file names ... OK
* checking for sufficient/correct file permissions ... OK
* checking whether package ‘PrecisionTrialDrawer’ can be installed ... OK
* checking installed package size ... OK
* checking package directory ... OK
* checking ‘build’ directory ... OK
* checking DESCRIPTION meta-information ... OK
* checking top-level files ... OK
* checking for left-over files ... OK
* checking index information ... OK
* checking package subdirectories ... OK
* checking R files for non-ASCII characters ... OK
* checking R files for syntax errors ... OK
* checking whether the package can be loaded ... OK
* checking whether the package can be loaded with stated dependencies ... OK
* checking whether the package can be unloaded cleanly ... OK
* checking whether the namespace can be loaded with stated dependencies ... OK
* checking whether the namespace can be unloaded cleanly ... OK
* checking dependencies in R code ... OK
* checking S3 generic/method consistency ... OK
* checking replacement functions ... OK
* checking foreign function calls ... OK
* checking R code for possible problems ... OK
* checking Rd files ... OK
* checking Rd metadata ... OK
* checking Rd cross-references ... OK
* checking for missing documentation entries ... OK
* checking for code/documentation mismatches ... OK
* checking Rd \usage sections ... OK
* checking Rd contents ... OK
* checking for unstated dependencies in examples ... OK
* checking contents of ‘data’ directory ... OK
* checking data for non-ASCII characters ... OK
* checking data for ASCII and uncompressed saves ... OK
* checking files in ‘vignettes’ ... OK
* checking examples ... OK
Examples with CPU (user + system) or elapsed time > 5s
user system elapsed
newCancerPanel 8.306 0.127 12.713
panelDesigner 8.025 0.113 12.347
* checking for unstated dependencies in vignettes ... OK
* checking package vignettes in ‘inst/doc’ ... OK
* checking running R code from vignettes ... SKIPPED
* checking re-building of vignette outputs ... SKIPPED
* checking PDF version of manual ... OK
* DONE
Status: OK
PrecisionTrialDrawer.Rcheck/00install.out
############################################################################## ############################################################################## ### ### Running command: ### ### /Library/Frameworks/R.framework/Resources/bin/R CMD INSTALL PrecisionTrialDrawer ### ############################################################################## ############################################################################## * installing to library ‘/Library/Frameworks/R.framework/Versions/4.1/Resources/library’ * installing *source* package ‘PrecisionTrialDrawer’ ... ** using staged installation ** R ** data ** inst ** byte-compile and prepare package for lazy loading Creating a generic function for ‘toJSON’ from package ‘jsonlite’ in package ‘googleVis’ ** help *** installing help indices ** building package indices ** installing vignettes ** testing if installed package can be loaded from temporary location Creating a generic function for ‘toJSON’ from package ‘jsonlite’ in package ‘googleVis’ ** testing if installed package can be loaded from final location Creating a generic function for ‘toJSON’ from package ‘jsonlite’ in package ‘googleVis’ ** testing if installed package keeps a record of temporary installation path * DONE (PrecisionTrialDrawer)
PrecisionTrialDrawer.Rcheck/PrecisionTrialDrawer-Ex.timings
| name | user | system | elapsed | |
| CancerPanel-class | 0.002 | 0.001 | 0.002 | |
| PrecisionTrialDrawer-package | 0.241 | 0.009 | 0.250 | |
| appendRepo | 0.856 | 0.016 | 0.872 | |
| coocMutexPlot | 2.203 | 0.053 | 2.260 | |
| coveragePlot | 0.237 | 0.009 | 0.249 | |
| coverageStackPlot | 0.298 | 0.008 | 0.308 | |
| cpArguments | 0.022 | 0.003 | 0.024 | |
| cpData | 0.026 | 0.003 | 0.029 | |
| cpDataSubset | 0.014 | 0.002 | 0.017 | |
| cpDesign | 0.024 | 0.002 | 0.026 | |
| cpFreq | 0.305 | 0.052 | 0.358 | |
| cpObj | 0.214 | 0.009 | 0.223 | |
| cpObj2 | 0.043 | 0.005 | 0.047 | |
| dataExtractor | 0.535 | 0.004 | 0.539 | |
| filterFusions | 0.529 | 0.012 | 0.541 | |
| filterMutations | 1.452 | 0.023 | 1.476 | |
| getAlterations | 0.265 | 0.009 | 0.727 | |
| newCancerPanel | 8.306 | 0.127 | 12.713 | |
| panelDesigner | 8.025 | 0.113 | 12.347 | |
| panelOptimizer | 0.001 | 0.001 | 0.002 | |
| panelexample | 0.009 | 0.003 | 0.012 | |
| propPowerSampleSize | 1.072 | 0.010 | 1.083 | |
| saturationPlot | 2.532 | 0.086 | 2.621 | |
| showCancerStudy | 0.020 | 0.001 | 0.063 | |
| showTumorType | 0.069 | 0.002 | 0.114 | |
| subsetAlterations | 0.687 | 0.028 | 0.716 | |
| survPowerSampleSize | 0.861 | 0.005 | 0.866 | |
| survPowerSampleSize1Arm | 0.765 | 0.007 | 0.787 | |