| Back to Multiple platform build/check report for BioC 3.14 |
|
This page was generated on 2022-04-13 12:07:44 -0400 (Wed, 13 Apr 2022).
| Hostname | OS | Arch (*) | R version | Installed pkgs |
|---|---|---|---|---|
| nebbiolo2 | Linux (Ubuntu 20.04.4 LTS) | x86_64 | 4.1.3 (2022-03-10) -- "One Push-Up" | 4324 |
| tokay2 | Windows Server 2012 R2 Standard | x64 | 4.1.3 (2022-03-10) -- "One Push-Up" | 4077 |
| machv2 | macOS 10.14.6 Mojave | x86_64 | 4.1.3 (2022-03-10) -- "One Push-Up" | 4137 |
| Click on any hostname to see more info about the system (e.g. compilers) (*) as reported by 'uname -p', except on Windows and Mac OS X | ||||
|
To the developers/maintainers of the CATALYST package: - Please allow up to 24 hours (and sometimes 48 hours) for your latest push to git@git.bioconductor.org:packages/CATALYST.git to reflect on this report. See How and When does the builder pull? When will my changes propagate? for more information. - Make sure to use the following settings in order to reproduce any error or warning you see on this page. |
| Package 249/2083 | Hostname | OS / Arch | INSTALL | BUILD | CHECK | BUILD BIN | ||||||||
| CATALYST 1.18.1 (landing page) Helena L. Crowell
| nebbiolo2 | Linux (Ubuntu 20.04.4 LTS) / x86_64 | OK | OK | OK | |||||||||
| tokay2 | Windows Server 2012 R2 Standard / x64 | OK | OK | OK | OK | |||||||||
| machv2 | macOS 10.14.6 Mojave / x86_64 | OK | OK | OK | OK | |||||||||
| Package: CATALYST |
| Version: 1.18.1 |
| Command: /Library/Frameworks/R.framework/Resources/bin/R CMD check --install=check:CATALYST.install-out.txt --library=/Library/Frameworks/R.framework/Resources/library --no-vignettes --timings CATALYST_1.18.1.tar.gz |
| StartedAt: 2022-04-12 11:11:52 -0400 (Tue, 12 Apr 2022) |
| EndedAt: 2022-04-12 11:30:32 -0400 (Tue, 12 Apr 2022) |
| EllapsedTime: 1120.6 seconds |
| RetCode: 0 |
| Status: OK |
| CheckDir: CATALYST.Rcheck |
| Warnings: 0 |
##############################################################################
##############################################################################
###
### Running command:
###
### /Library/Frameworks/R.framework/Resources/bin/R CMD check --install=check:CATALYST.install-out.txt --library=/Library/Frameworks/R.framework/Resources/library --no-vignettes --timings CATALYST_1.18.1.tar.gz
###
##############################################################################
##############################################################################
* using log directory ‘/Users/biocbuild/bbs-3.14-bioc/meat/CATALYST.Rcheck’
* using R version 4.1.3 (2022-03-10)
* using platform: x86_64-apple-darwin17.0 (64-bit)
* using session charset: UTF-8
* using option ‘--no-vignettes’
* checking for file ‘CATALYST/DESCRIPTION’ ... OK
* checking extension type ... Package
* this is package ‘CATALYST’ version ‘1.18.1’
* package encoding: UTF-8
* checking package namespace information ... OK
* checking package dependencies ... OK
* checking if this is a source package ... OK
* checking if there is a namespace ... OK
* checking for hidden files and directories ... OK
* checking for portable file names ... OK
* checking for sufficient/correct file permissions ... OK
* checking whether package ‘CATALYST’ can be installed ... OK
* checking installed package size ... OK
* checking package directory ... OK
* checking ‘build’ directory ... OK
* checking DESCRIPTION meta-information ... OK
* checking top-level files ... OK
* checking for left-over files ... OK
* checking index information ... OK
* checking package subdirectories ... OK
* checking R files for non-ASCII characters ... OK
* checking R files for syntax errors ... OK
* checking whether the package can be loaded ... OK
* checking whether the package can be loaded with stated dependencies ... OK
* checking whether the package can be unloaded cleanly ... OK
* checking whether the namespace can be loaded with stated dependencies ... OK
* checking whether the namespace can be unloaded cleanly ... OK
* checking dependencies in R code ... OK
* checking S3 generic/method consistency ... OK
* checking replacement functions ... OK
* checking foreign function calls ... OK
* checking R code for possible problems ... OK
* checking Rd files ... OK
* checking Rd metadata ... OK
* checking Rd cross-references ... OK
* checking for missing documentation entries ... OK
* checking for code/documentation mismatches ... OK
* checking Rd \usage sections ... OK
* checking Rd contents ... OK
* checking for unstated dependencies in examples ... OK
* checking contents of ‘data’ directory ... OK
* checking data for non-ASCII characters ... OK
* checking LazyData ... OK
* checking data for ASCII and uncompressed saves ... OK
* checking files in ‘vignettes’ ... OK
* checking examples ... OK
Examples with CPU (user + system) or elapsed time > 5s
user system elapsed
plotDiffHeatmap 23.917 1.088 25.032
plotMultiHeatmap 23.274 1.047 24.344
sce2fcs 21.394 0.974 22.408
plotPbExprs 20.756 0.553 21.336
plotDR 18.628 0.562 19.235
plotExprHeatmap 16.992 1.042 18.050
plotClusterExprs 11.503 1.152 12.671
compCytof 12.006 0.332 12.346
plotCodes 11.300 0.697 12.010
filterSCE 10.738 1.111 11.869
plotAbundances 10.462 1.023 11.497
plotMahal 11.164 0.125 11.299
SCE-accessors 10.299 0.972 11.287
plotFreqHeatmap 10.371 0.824 11.206
clrDR 10.326 0.820 11.162
mergeClusters 9.941 0.943 10.901
pbMDS 10.398 0.440 10.849
estCutoffs 9.396 0.159 9.571
cluster 8.859 0.612 9.478
plotScatter 9.179 0.157 9.343
plotSpillmat 9.109 0.124 9.243
extractClusters 7.716 0.870 8.597
computeSpillmat 8.393 0.120 8.519
plotYields 8.423 0.090 8.520
adaptSpillmat 8.341 0.164 8.513
applyCutoffs 7.783 0.137 7.925
plotExprs 6.641 0.083 6.730
runDR 6.512 0.071 6.586
normCytof 5.228 0.041 5.273
* checking for unstated dependencies in ‘tests’ ... OK
* checking tests ...
Running ‘testthat.R’
OK
* checking for unstated dependencies in vignettes ... OK
* checking package vignettes in ‘inst/doc’ ... OK
* checking running R code from vignettes ... SKIPPED
* checking re-building of vignette outputs ... SKIPPED
* checking PDF version of manual ... OK
* DONE
Status: OK
CATALYST.Rcheck/00install.out
############################################################################## ############################################################################## ### ### Running command: ### ### /Library/Frameworks/R.framework/Resources/bin/R CMD INSTALL CATALYST ### ############################################################################## ############################################################################## * installing to library ‘/Library/Frameworks/R.framework/Versions/4.1/Resources/library’ * installing *source* package ‘CATALYST’ ... ** using staged installation ** R ** data *** moving datasets to lazyload DB ** inst ** byte-compile and prepare package for lazy loading ** help *** installing help indices ** building package indices ** installing vignettes ** testing if installed package can be loaded from temporary location ** testing if installed package can be loaded from final location ** testing if installed package keeps a record of temporary installation path * DONE (CATALYST)
CATALYST.Rcheck/tests/testthat.Rout
R version 4.1.3 (2022-03-10) -- "One Push-Up"
Copyright (C) 2022 The R Foundation for Statistical Computing
Platform: x86_64-apple-darwin17.0 (64-bit)
R is free software and comes with ABSOLUTELY NO WARRANTY.
You are welcome to redistribute it under certain conditions.
Type 'license()' or 'licence()' for distribution details.
R is a collaborative project with many contributors.
Type 'contributors()' for more information and
'citation()' on how to cite R or R packages in publications.
Type 'demo()' for some demos, 'help()' for on-line help, or
'help.start()' for an HTML browser interface to help.
Type 'q()' to quit R.
> library(testthat)
> library(CATALYST)
Loading required package: SingleCellExperiment
Loading required package: SummarizedExperiment
Loading required package: MatrixGenerics
Loading required package: matrixStats
Attaching package: 'MatrixGenerics'
The following objects are masked from 'package:matrixStats':
colAlls, colAnyNAs, colAnys, colAvgsPerRowSet, colCollapse,
colCounts, colCummaxs, colCummins, colCumprods, colCumsums,
colDiffs, colIQRDiffs, colIQRs, colLogSumExps, colMadDiffs,
colMads, colMaxs, colMeans2, colMedians, colMins, colOrderStats,
colProds, colQuantiles, colRanges, colRanks, colSdDiffs, colSds,
colSums2, colTabulates, colVarDiffs, colVars, colWeightedMads,
colWeightedMeans, colWeightedMedians, colWeightedSds,
colWeightedVars, rowAlls, rowAnyNAs, rowAnys, rowAvgsPerColSet,
rowCollapse, rowCounts, rowCummaxs, rowCummins, rowCumprods,
rowCumsums, rowDiffs, rowIQRDiffs, rowIQRs, rowLogSumExps,
rowMadDiffs, rowMads, rowMaxs, rowMeans2, rowMedians, rowMins,
rowOrderStats, rowProds, rowQuantiles, rowRanges, rowRanks,
rowSdDiffs, rowSds, rowSums2, rowTabulates, rowVarDiffs, rowVars,
rowWeightedMads, rowWeightedMeans, rowWeightedMedians,
rowWeightedSds, rowWeightedVars
Loading required package: GenomicRanges
Loading required package: stats4
Loading required package: BiocGenerics
Attaching package: 'BiocGenerics'
The following objects are masked from 'package:stats':
IQR, mad, sd, var, xtabs
The following objects are masked from 'package:base':
Filter, Find, Map, Position, Reduce, anyDuplicated, append,
as.data.frame, basename, cbind, colnames, dirname, do.call,
duplicated, eval, evalq, get, grep, grepl, intersect, is.unsorted,
lapply, mapply, match, mget, order, paste, pmax, pmax.int, pmin,
pmin.int, rank, rbind, rownames, sapply, setdiff, sort, table,
tapply, union, unique, unsplit, which.max, which.min
Loading required package: S4Vectors
Attaching package: 'S4Vectors'
The following objects are masked from 'package:base':
I, expand.grid, unname
Loading required package: IRanges
Loading required package: GenomeInfoDb
Loading required package: Biobase
Welcome to Bioconductor
Vignettes contain introductory material; view with
'browseVignettes()'. To cite Bioconductor, see
'citation("Biobase")', and for packages 'citation("pkgname")'.
Attaching package: 'Biobase'
The following object is masked from 'package:MatrixGenerics':
rowMedians
The following objects are masked from 'package:matrixStats':
anyMissing, rowMedians
>
> test_check("CATALYST")
[ FAIL 0 | WARN 21 | SKIP 0 | PASS 742 ]
[ FAIL 0 | WARN 21 | SKIP 0 | PASS 742 ]
>
> proc.time()
user system elapsed
365.059 9.418 374.858
CATALYST.Rcheck/CATALYST-Ex.timings
| name | user | system | elapsed | |
| SCE-accessors | 10.299 | 0.972 | 11.287 | |
| adaptSpillmat | 8.341 | 0.164 | 8.513 | |
| applyCutoffs | 7.783 | 0.137 | 7.925 | |
| assignPrelim | 4.115 | 0.019 | 4.137 | |
| clrDR | 10.326 | 0.820 | 11.162 | |
| cluster | 8.859 | 0.612 | 9.478 | |
| compCytof | 12.006 | 0.332 | 12.346 | |
| computeSpillmat | 8.393 | 0.120 | 8.519 | |
| data | 0.013 | 0.017 | 0.030 | |
| estCutoffs | 9.396 | 0.159 | 9.571 | |
| extractClusters | 7.716 | 0.870 | 8.597 | |
| filterSCE | 10.738 | 1.111 | 11.869 | |
| guessPanel | 0.056 | 0.007 | 0.063 | |
| mergeClusters | 9.941 | 0.943 | 10.901 | |
| normCytof | 5.228 | 0.041 | 5.273 | |
| pbMDS | 10.398 | 0.440 | 10.849 | |
| plotAbundances | 10.462 | 1.023 | 11.497 | |
| plotClusterExprs | 11.503 | 1.152 | 12.671 | |
| plotCodes | 11.300 | 0.697 | 12.010 | |
| plotCounts | 2.088 | 0.010 | 2.099 | |
| plotDR | 18.628 | 0.562 | 19.235 | |
| plotDiffHeatmap | 23.917 | 1.088 | 25.032 | |
| plotEvents | 4.491 | 0.017 | 4.512 | |
| plotExprHeatmap | 16.992 | 1.042 | 18.050 | |
| plotExprs | 6.641 | 0.083 | 6.730 | |
| plotFreqHeatmap | 10.371 | 0.824 | 11.206 | |
| plotMahal | 11.164 | 0.125 | 11.299 | |
| plotMultiHeatmap | 23.274 | 1.047 | 24.344 | |
| plotNRS | 2.266 | 0.016 | 2.286 | |
| plotPbExprs | 20.756 | 0.553 | 21.336 | |
| plotScatter | 9.179 | 0.157 | 9.343 | |
| plotSpillmat | 9.109 | 0.124 | 9.243 | |
| plotYields | 8.423 | 0.090 | 8.520 | |
| prepData | 3.940 | 0.028 | 3.970 | |
| runDR | 6.512 | 0.071 | 6.586 | |
| sce2fcs | 21.394 | 0.974 | 22.408 | |