| Back to Multiple platform build/check report for BioC 3.12 |
|
This page was generated on 2021-05-06 12:33:20 -0400 (Thu, 06 May 2021).
|
To the developers/maintainers of the rols package: Please make sure to use the following settings in order to reproduce any error or warning you see on this page. |
| Package 1566/1974 | Hostname | OS / Arch | INSTALL | BUILD | CHECK | BUILD BIN | ||||||||
| rols 2.18.3 (landing page) Laurent Gatto
| malbec1 | Linux (Ubuntu 18.04.5 LTS) / x86_64 | OK | OK | OK | |||||||||
| tokay1 | Windows Server 2012 R2 Standard / x64 | OK | OK | OK | OK | |||||||||
| merida1 | macOS 10.14.6 Mojave / x86_64 | OK | OK | OK | OK | |||||||||
| Package: rols |
| Version: 2.18.3 |
| Command: C:\Users\biocbuild\bbs-3.12-bioc\R\bin\R.exe CMD check --force-multiarch --install=check:rols.install-out.txt --library=C:\Users\biocbuild\bbs-3.12-bioc\R\library --no-vignettes --timings rols_2.18.3.tar.gz |
| StartedAt: 2021-05-06 06:24:15 -0400 (Thu, 06 May 2021) |
| EndedAt: 2021-05-06 06:43:37 -0400 (Thu, 06 May 2021) |
| EllapsedTime: 1162.4 seconds |
| RetCode: 0 |
| Status: OK |
| CheckDir: rols.Rcheck |
| Warnings: 0 |
##############################################################################
##############################################################################
###
### Running command:
###
### C:\Users\biocbuild\bbs-3.12-bioc\R\bin\R.exe CMD check --force-multiarch --install=check:rols.install-out.txt --library=C:\Users\biocbuild\bbs-3.12-bioc\R\library --no-vignettes --timings rols_2.18.3.tar.gz
###
##############################################################################
##############################################################################
* using log directory 'C:/Users/biocbuild/bbs-3.12-bioc/meat/rols.Rcheck'
* using R version 4.0.5 (2021-03-31)
* using platform: x86_64-w64-mingw32 (64-bit)
* using session charset: ISO8859-1
* using option '--no-vignettes'
* checking for file 'rols/DESCRIPTION' ... OK
* checking extension type ... Package
* this is package 'rols' version '2.18.3'
* package encoding: UTF-8
* checking package namespace information ... OK
* checking package dependencies ... OK
* checking if this is a source package ... OK
* checking if there is a namespace ... OK
* checking for hidden files and directories ... OK
* checking for portable file names ... OK
* checking whether package 'rols' can be installed ... OK
* checking installed package size ... OK
* checking package directory ... OK
* checking 'build' directory ... OK
* checking DESCRIPTION meta-information ... OK
* checking top-level files ... OK
* checking for left-over files ... OK
* checking index information ... OK
* checking package subdirectories ... OK
* checking R files for non-ASCII characters ... OK
* checking R files for syntax errors ... OK
* loading checks for arch 'i386'
** checking whether the package can be loaded ... OK
** checking whether the package can be loaded with stated dependencies ... OK
** checking whether the package can be unloaded cleanly ... OK
** checking whether the namespace can be loaded with stated dependencies ... OK
** checking whether the namespace can be unloaded cleanly ... OK
* loading checks for arch 'x64'
** checking whether the package can be loaded ... OK
** checking whether the package can be loaded with stated dependencies ... OK
** checking whether the package can be unloaded cleanly ... OK
** checking whether the namespace can be loaded with stated dependencies ... OK
** checking whether the namespace can be unloaded cleanly ... OK
* checking dependencies in R code ... OK
* checking S3 generic/method consistency ... OK
* checking replacement functions ... OK
* checking foreign function calls ... OK
* checking R code for possible problems ... OK
* checking Rd files ... OK
* checking Rd metadata ... OK
* checking Rd cross-references ... OK
* checking for missing documentation entries ... OK
* checking for code/documentation mismatches ... OK
* checking Rd \usage sections ... OK
* checking Rd contents ... OK
* checking for unstated dependencies in examples ... OK
* checking files in 'vignettes' ... OK
* checking examples ...
** running examples for arch 'i386' ... OK
Examples with CPU (user + system) or elapsed time > 5s
user system elapsed
Term-class 82.37 2.39 226.17
CVParam-class 0.62 0.00 20.81
Ontology-class 0.50 0.00 5.14
OlsSearch-class 0.20 0.02 7.83
** running examples for arch 'x64' ... OK
Examples with CPU (user + system) or elapsed time > 5s
user system elapsed
Term-class 86.31 1.53 230.15
CVParam-class 0.55 0.04 19.30
OlsSearch-class 0.26 0.00 8.04
* checking for unstated dependencies in 'tests' ... OK
* checking tests ...
** running tests for arch 'i386' ...
Running 'testthat.R'
OK
** running tests for arch 'x64' ...
Running 'testthat.R'
OK
* checking for unstated dependencies in vignettes ... OK
* checking package vignettes in 'inst/doc' ... OK
* checking running R code from vignettes ... SKIPPED
* checking re-building of vignette outputs ... SKIPPED
* checking PDF version of manual ... OK
* DONE
Status: OK
rols.Rcheck/00install.out
##############################################################################
##############################################################################
###
### Running command:
###
### C:\cygwin\bin\curl.exe -O http://172.29.0.3/BBS/3.12/bioc/src/contrib/rols_2.18.3.tar.gz && rm -rf rols.buildbin-libdir && mkdir rols.buildbin-libdir && C:\Users\biocbuild\bbs-3.12-bioc\R\bin\R.exe CMD INSTALL --merge-multiarch --build --library=rols.buildbin-libdir rols_2.18.3.tar.gz && C:\Users\biocbuild\bbs-3.12-bioc\R\bin\R.exe CMD INSTALL rols_2.18.3.zip && rm rols_2.18.3.tar.gz rols_2.18.3.zip
###
##############################################################################
##############################################################################
% Total % Received % Xferd Average Speed Time Time Time Current
Dload Upload Total Spent Left Speed
0 0 0 0 0 0 0 0 --:--:-- --:--:-- --:--:-- 0
100 30810 100 30810 0 0 1875k 0 --:--:-- --:--:-- --:--:-- 2005k
install for i386
* installing *source* package 'rols' ...
** using staged installation
** R
** inst
** byte-compile and prepare package for lazy loading
Creating a generic function for 'lapply' from package 'base' in package 'rols'
** help
*** installing help indices
converting help for package 'rols'
finding HTML links ... done
CVParam-class html
finding level-2 HTML links ... done
OlsSearch-class html
Ontology-class html
Properties-class html
Term-class html
dot-properties html
dot-term html
dot-terms html
makeOntologies html
makeOntology html
makeProperty html
makeTerm html
** building package indices
** installing vignettes
** testing if installed package can be loaded from temporary location
** testing if installed package can be loaded from final location
** testing if installed package keeps a record of temporary installation path
install for x64
* installing *source* package 'rols' ...
** testing if installed package can be loaded
* MD5 sums
packaged installation of 'rols' as rols_2.18.3.zip
* DONE (rols)
* installing to library 'C:/Users/biocbuild/bbs-3.12-bioc/R/library'
package 'rols' successfully unpacked and MD5 sums checked
|
rols.Rcheck/tests_i386/testthat.Rout
R version 4.0.5 (2021-03-31) -- "Shake and Throw"
Copyright (C) 2021 The R Foundation for Statistical Computing
Platform: i386-w64-mingw32/i386 (32-bit)
R is free software and comes with ABSOLUTELY NO WARRANTY.
You are welcome to redistribute it under certain conditions.
Type 'license()' or 'licence()' for distribution details.
R is a collaborative project with many contributors.
Type 'contributors()' for more information and
'citation()' on how to cite R or R packages in publications.
Type 'demo()' for some demos, 'help()' for on-line help, or
'help.start()' for an HTML browser interface to help.
Type 'q()' to quit R.
> # setting R_TESTS to empty string because of
> # https://github.com/hadley/testthat/issues/144
> # revert this when that issue in R is fixed.
> Sys.setenv("R_TESTS" = "")
> library("testthat")
> library("rols")
This is 'rols' version 2.18.3
>
> test_check("rols")
[, , Hello, World]
Object of class 'OlsSearch':
ontolgy: GO
query: cell
requested: 20 (out of 9737)
response(s): 0
Object of class 'Ontologies' with 263 entries
CLO, CO_321:ROOT ... RXNO, SBO
Object of class 'Ontologies' with 1 entries
CLO
Object of class 'Ontologies' with 2 entries
CLO, CO_321:ROOT
Object of class 'Ontologies' with 3 entries
CLO, CO_321:ROOT, CO_324
Object of class 'Ontologies' with 4 entries
CLO, CO_321:ROOT, CO_324, CO_327
Object of class 'Ontologies' with 5 entries
CLO, CO_321:ROOT ... CO_327, CO_333
Ontology: Gene Ontology (go)
The Gene Ontology (GO) provides a framework and set of concepts for
describing the functions of gene products from all organisms.
Loaded: 2021-05-04 Updated: 2021-05-05 Version: 2021-05-01
50605 terms 66 properties 0 individuals
Object of class 'Properties' with 92 entries
From the SO ontology
partial_evidence_for_feature, evidence_for_feature ... variant_of, DBVAR
Object of class 'Properties' with 125 entries
From the UBERON ontology
digestive system gland, abdomen element ... liver lobule, bile
A Property from the UBERON ontology: UBERON:0006925
Label: digestive system gland
Object of class 'Terms' with 2691 entries
From the SO ontology
SO:0000579, SO:0000833 ... SO:0000071, SO:0000070
Object of class 'Terms' with 1 entries
From the SO ontology
SO:0000579
Object of class 'Terms' with 2 entries
From the SO ontology
SO:0000579, SO:0000833
Object of class 'Terms' with 3 entries
From the SO ontology
SO:0000579, SO:0000833, SO:0000578
Object of class 'Terms' with 4 entries
From the SO ontology
SO:0000579, SO:0000833, SO:0000578, SO:0000011
Object of class 'Terms' with 5 entries
From the SO ontology
SO:0000579, SO:0000833 ... SO:0000011, SO:0001430
A Term from the GO ontology: GO:0032801
Label: receptor catabolic process
No description
Testing term SO:0001231
Testing term SO:0002153
Testing term SO:1000181
Testing term SO:0001102
Testing term SO:0000074
Testing term SO:0000206
Testing term SO:0000950
Testing term SO:0000547
Testing term SO:0002239
Testing term SO:1001264
[ FAIL 0 | WARN 1 | SKIP 0 | PASS 2885 ]
>
> proc.time()
user system elapsed
78.23 0.96 281.82
|
rols.Rcheck/tests_x64/testthat.Rout
R version 4.0.5 (2021-03-31) -- "Shake and Throw"
Copyright (C) 2021 The R Foundation for Statistical Computing
Platform: x86_64-w64-mingw32/x64 (64-bit)
R is free software and comes with ABSOLUTELY NO WARRANTY.
You are welcome to redistribute it under certain conditions.
Type 'license()' or 'licence()' for distribution details.
R is a collaborative project with many contributors.
Type 'contributors()' for more information and
'citation()' on how to cite R or R packages in publications.
Type 'demo()' for some demos, 'help()' for on-line help, or
'help.start()' for an HTML browser interface to help.
Type 'q()' to quit R.
> # setting R_TESTS to empty string because of
> # https://github.com/hadley/testthat/issues/144
> # revert this when that issue in R is fixed.
> Sys.setenv("R_TESTS" = "")
> library("testthat")
> library("rols")
This is 'rols' version 2.18.3
>
> test_check("rols")
[, , Hello, World]
Object of class 'OlsSearch':
ontolgy: GO
query: cell
requested: 20 (out of 9737)
response(s): 0
Object of class 'Ontologies' with 263 entries
CLO, CO_321:ROOT ... RXNO, SBO
Object of class 'Ontologies' with 1 entries
CLO
Object of class 'Ontologies' with 2 entries
CLO, CO_321:ROOT
Object of class 'Ontologies' with 3 entries
CLO, CO_321:ROOT, CO_324
Object of class 'Ontologies' with 4 entries
CLO, CO_321:ROOT, CO_324, CO_327
Object of class 'Ontologies' with 5 entries
CLO, CO_321:ROOT ... CO_327, CO_333
Ontology: Gene Ontology (go)
The Gene Ontology (GO) provides a framework and set of concepts for
describing the functions of gene products from all organisms.
Loaded: 2021-05-04 Updated: 2021-05-05 Version: 2021-05-01
50605 terms 66 properties 0 individuals
Object of class 'Properties' with 92 entries
From the SO ontology
partial_evidence_for_feature, evidence_for_feature ... variant_of, DBVAR
Object of class 'Properties' with 125 entries
From the UBERON ontology
digestive system gland, abdomen element ... liver lobule, bile
A Property from the UBERON ontology: UBERON:0006925
Label: digestive system gland
Object of class 'Terms' with 2691 entries
From the SO ontology
SO:0000579, SO:0000833 ... SO:0000071, SO:0000070
Object of class 'Terms' with 1 entries
From the SO ontology
SO:0000579
Object of class 'Terms' with 2 entries
From the SO ontology
SO:0000579, SO:0000833
Object of class 'Terms' with 3 entries
From the SO ontology
SO:0000579, SO:0000833, SO:0000578
Object of class 'Terms' with 4 entries
From the SO ontology
SO:0000579, SO:0000833, SO:0000578, SO:0000011
Object of class 'Terms' with 5 entries
From the SO ontology
SO:0000579, SO:0000833 ... SO:0000011, SO:0001430
A Term from the GO ontology: GO:0032801
Label: receptor catabolic process
No description
Testing term SO:0001305
Testing term SO:0001858
Testing term SO:0000809
Testing term SO:0000641
Testing term SO:0000449
Testing term SO:0002279
Testing term SO:0001013
Testing term SO:0000327
Testing term SO:0002155
Testing term SO:0001680
[ FAIL 0 | WARN 1 | SKIP 0 | PASS 2885 ]
>
> proc.time()
user system elapsed
97.01 1.34 303.07
|
|
rols.Rcheck/examples_i386/rols-Ex.timings
|
rols.Rcheck/examples_x64/rols-Ex.timings
|