| Back to Multiple platform build/check report for BioC 3.12 |
|
This page was generated on 2021-05-06 12:36:33 -0400 (Thu, 06 May 2021).
|
To the developers/maintainers of the rols package: Please make sure to use the following settings in order to reproduce any error or warning you see on this page. |
| Package 1566/1974 | Hostname | OS / Arch | INSTALL | BUILD | CHECK | BUILD BIN | ||||||||
| rols 2.18.3 (landing page) Laurent Gatto
| malbec1 | Linux (Ubuntu 18.04.5 LTS) / x86_64 | OK | OK | OK | |||||||||
| tokay1 | Windows Server 2012 R2 Standard / x64 | OK | OK | OK | OK | |||||||||
| merida1 | macOS 10.14.6 Mojave / x86_64 | OK | OK | OK | OK | |||||||||
| Package: rols |
| Version: 2.18.3 |
| Command: /Library/Frameworks/R.framework/Versions/Current/Resources/bin/R CMD check --install=check:rols.install-out.txt --library=/Library/Frameworks/R.framework/Versions/Current/Resources/library --no-vignettes --timings rols_2.18.3.tar.gz |
| StartedAt: 2021-05-06 05:38:46 -0400 (Thu, 06 May 2021) |
| EndedAt: 2021-05-06 05:50:49 -0400 (Thu, 06 May 2021) |
| EllapsedTime: 722.4 seconds |
| RetCode: 0 |
| Status: OK |
| CheckDir: rols.Rcheck |
| Warnings: 0 |
##############################################################################
##############################################################################
###
### Running command:
###
### /Library/Frameworks/R.framework/Versions/Current/Resources/bin/R CMD check --install=check:rols.install-out.txt --library=/Library/Frameworks/R.framework/Versions/Current/Resources/library --no-vignettes --timings rols_2.18.3.tar.gz
###
##############################################################################
##############################################################################
* using log directory ‘/Users/biocbuild/bbs-3.12-bioc/meat/rols.Rcheck’
* using R version 4.0.5 (2021-03-31)
* using platform: x86_64-apple-darwin17.0 (64-bit)
* using session charset: UTF-8
* using option ‘--no-vignettes’
* checking for file ‘rols/DESCRIPTION’ ... OK
* checking extension type ... Package
* this is package ‘rols’ version ‘2.18.3’
* package encoding: UTF-8
* checking package namespace information ... OK
* checking package dependencies ... OK
* checking if this is a source package ... OK
* checking if there is a namespace ... OK
* checking for hidden files and directories ... OK
* checking for portable file names ... OK
* checking for sufficient/correct file permissions ... OK
* checking whether package ‘rols’ can be installed ... OK
* checking installed package size ... OK
* checking package directory ... OK
* checking ‘build’ directory ... OK
* checking DESCRIPTION meta-information ... OK
* checking top-level files ... OK
* checking for left-over files ... OK
* checking index information ... OK
* checking package subdirectories ... OK
* checking R files for non-ASCII characters ... OK
* checking R files for syntax errors ... OK
* checking whether the package can be loaded ... OK
* checking whether the package can be loaded with stated dependencies ... OK
* checking whether the package can be unloaded cleanly ... OK
* checking whether the namespace can be loaded with stated dependencies ... OK
* checking whether the namespace can be unloaded cleanly ... OK
* checking dependencies in R code ... OK
* checking S3 generic/method consistency ... OK
* checking replacement functions ... OK
* checking foreign function calls ... OK
* checking R code for possible problems ... OK
* checking Rd files ... OK
* checking Rd metadata ... OK
* checking Rd cross-references ... OK
* checking for missing documentation entries ... OK
* checking for code/documentation mismatches ... OK
* checking Rd \usage sections ... OK
* checking Rd contents ... OK
* checking for unstated dependencies in examples ... OK
* checking files in ‘vignettes’ ... OK
* checking examples ... OK
Examples with CPU (user + system) or elapsed time > 5s
user system elapsed
Term-class 77.593 1.468 297.477
CVParam-class 0.813 0.042 19.799
Ontology-class 0.483 0.014 5.026
OlsSearch-class 0.294 0.014 8.064
* checking for unstated dependencies in ‘tests’ ... OK
* checking tests ...
Running ‘testthat.R’
OK
* checking for unstated dependencies in vignettes ... OK
* checking package vignettes in ‘inst/doc’ ... OK
* checking running R code from vignettes ... SKIPPED
* checking re-building of vignette outputs ... SKIPPED
* checking PDF version of manual ... OK
* DONE
Status: OK
rols.Rcheck/00install.out
############################################################################## ############################################################################## ### ### Running command: ### ### /Library/Frameworks/R.framework/Versions/Current/Resources/bin/R CMD INSTALL rols ### ############################################################################## ############################################################################## * installing to library ‘/Library/Frameworks/R.framework/Versions/4.0/Resources/library’ * installing *source* package ‘rols’ ... ** using staged installation ** R ** inst ** byte-compile and prepare package for lazy loading Creating a generic function for ‘lapply’ from package ‘base’ in package ‘rols’ ** help *** installing help indices ** building package indices ** installing vignettes ** testing if installed package can be loaded from temporary location ** testing if installed package can be loaded from final location ** testing if installed package keeps a record of temporary installation path * DONE (rols)
rols.Rcheck/tests/testthat.Rout
R version 4.0.5 (2021-03-31) -- "Shake and Throw"
Copyright (C) 2021 The R Foundation for Statistical Computing
Platform: x86_64-apple-darwin17.0 (64-bit)
R is free software and comes with ABSOLUTELY NO WARRANTY.
You are welcome to redistribute it under certain conditions.
Type 'license()' or 'licence()' for distribution details.
R is a collaborative project with many contributors.
Type 'contributors()' for more information and
'citation()' on how to cite R or R packages in publications.
Type 'demo()' for some demos, 'help()' for on-line help, or
'help.start()' for an HTML browser interface to help.
Type 'q()' to quit R.
> # setting R_TESTS to empty string because of
> # https://github.com/hadley/testthat/issues/144
> # revert this when that issue in R is fixed.
> Sys.setenv("R_TESTS" = "")
> library("testthat")
> library("rols")
This is 'rols' version 2.18.3
>
> test_check("rols")
[, , Hello, World]
Object of class 'OlsSearch':
ontolgy: GO
query: cell
requested: 20 (out of 9737)
response(s): 0
Object of class 'Ontologies' with 263 entries
CLO, CO_321:ROOT ... RXNO, SBO
Object of class 'Ontologies' with 1 entries
CLO
Object of class 'Ontologies' with 2 entries
CLO, CO_321:ROOT
Object of class 'Ontologies' with 3 entries
CLO, CO_321:ROOT, CO_324
Object of class 'Ontologies' with 4 entries
CLO, CO_321:ROOT, CO_324, CO_327
Object of class 'Ontologies' with 5 entries
CLO, CO_321:ROOT ... CO_327, CO_333
Ontology: Gene Ontology (go)
The Gene Ontology (GO) provides a framework and set of concepts for
describing the functions of gene products from all organisms.
Loaded: 2021-05-04 Updated: 2021-05-05 Version: 2021-05-01
50605 terms 66 properties 0 individuals
Object of class 'Properties' with 92 entries
From the SO ontology
partial_evidence_for_feature, evidence_for_feature ... variant_of, DBVAR
Object of class 'Properties' with 125 entries
From the UBERON ontology
digestive system gland, abdomen element ... hepatobiliary system, bile
A Property from the UBERON ontology: UBERON:0006925
Label: digestive system gland
Object of class 'Terms' with 2691 entries
From the SO ontology
SO:0000579, SO:0000833 ... SO:0000071, SO:0000070
Object of class 'Terms' with 1 entries
From the SO ontology
SO:0000579
Object of class 'Terms' with 2 entries
From the SO ontology
SO:0000579, SO:0000833
Object of class 'Terms' with 3 entries
From the SO ontology
SO:0000579, SO:0000833, SO:0000578
Object of class 'Terms' with 4 entries
From the SO ontology
SO:0000579, SO:0000833, SO:0000578, SO:0000011
Object of class 'Terms' with 5 entries
From the SO ontology
SO:0000579, SO:0000833 ... SO:0000011, SO:0001430
A Term from the GO ontology: GO:0032801
Label: receptor catabolic process
No description
Testing term SO:0000932
Testing term SO:0000176
Testing term SO:0000278
Testing term SO:0001060
Testing term SO:0000180
Testing term SO:0002153
Testing term SO:0001821
Testing term SO:0000404
Testing term SO:0001454
Testing term SO:0001419
[ FAIL 0 | WARN 1 | SKIP 0 | PASS 2885 ]
>
> proc.time()
user system elapsed
88.846 1.126 345.954
rols.Rcheck/rols-Ex.timings
| name | user | system | elapsed | |
| CVParam-class | 0.813 | 0.042 | 19.799 | |
| OlsSearch-class | 0.294 | 0.014 | 8.064 | |
| Ontology-class | 0.483 | 0.014 | 5.026 | |
| Properties-class | 0.391 | 0.010 | 4.808 | |
| Term-class | 77.593 | 1.468 | 297.477 | |