| Back to Multiple platform build/check report for BioC 3.12 |
|
This page was generated on 2021-05-06 12:36:22 -0400 (Thu, 06 May 2021).
|
To the developers/maintainers of the regioneR package: Please make sure to use the following settings in order to reproduce any error or warning you see on this page. |
| Package 1497/1974 | Hostname | OS / Arch | INSTALL | BUILD | CHECK | BUILD BIN | ||||||||
| regioneR 1.22.0 (landing page) Bernat Gel
| malbec1 | Linux (Ubuntu 18.04.5 LTS) / x86_64 | OK | OK | OK | |||||||||
| tokay1 | Windows Server 2012 R2 Standard / x64 | OK | OK | OK | OK | |||||||||
| merida1 | macOS 10.14.6 Mojave / x86_64 | OK | OK | OK | OK | |||||||||
| Package: regioneR |
| Version: 1.22.0 |
| Command: /Library/Frameworks/R.framework/Versions/Current/Resources/bin/R CMD check --install=check:regioneR.install-out.txt --library=/Library/Frameworks/R.framework/Versions/Current/Resources/library --no-vignettes --timings regioneR_1.22.0.tar.gz |
| StartedAt: 2021-05-06 05:18:32 -0400 (Thu, 06 May 2021) |
| EndedAt: 2021-05-06 05:27:28 -0400 (Thu, 06 May 2021) |
| EllapsedTime: 536.3 seconds |
| RetCode: 0 |
| Status: OK |
| CheckDir: regioneR.Rcheck |
| Warnings: 0 |
##############################################################################
##############################################################################
###
### Running command:
###
### /Library/Frameworks/R.framework/Versions/Current/Resources/bin/R CMD check --install=check:regioneR.install-out.txt --library=/Library/Frameworks/R.framework/Versions/Current/Resources/library --no-vignettes --timings regioneR_1.22.0.tar.gz
###
##############################################################################
##############################################################################
* using log directory ‘/Users/biocbuild/bbs-3.12-bioc/meat/regioneR.Rcheck’
* using R version 4.0.5 (2021-03-31)
* using platform: x86_64-apple-darwin17.0 (64-bit)
* using session charset: UTF-8
* using option ‘--no-vignettes’
* checking for file ‘regioneR/DESCRIPTION’ ... OK
* checking extension type ... Package
* this is package ‘regioneR’ version ‘1.22.0’
* package encoding: UTF-8
* checking package namespace information ... OK
* checking package dependencies ... OK
* checking if this is a source package ... OK
* checking if there is a namespace ... OK
* checking for hidden files and directories ... OK
* checking for portable file names ... OK
* checking for sufficient/correct file permissions ... OK
* checking whether package ‘regioneR’ can be installed ... OK
* checking installed package size ... OK
* checking package directory ... OK
* checking ‘build’ directory ... OK
* checking DESCRIPTION meta-information ... NOTE
Package listed in more than one of Depends, Imports, Suggests, Enhances:
‘GenomicRanges’
A package should be listed in only one of these fields.
* checking top-level files ... OK
* checking for left-over files ... OK
* checking index information ... OK
* checking package subdirectories ... OK
* checking R files for non-ASCII characters ... OK
* checking R files for syntax errors ... OK
* checking whether the package can be loaded ... OK
* checking whether the package can be loaded with stated dependencies ... OK
* checking whether the package can be unloaded cleanly ... OK
* checking whether the namespace can be loaded with stated dependencies ... OK
* checking whether the namespace can be unloaded cleanly ... OK
* checking dependencies in R code ... OK
* checking S3 generic/method consistency ... OK
* checking replacement functions ... OK
* checking foreign function calls ... OK
* checking R code for possible problems ... OK
* checking Rd files ... OK
* checking Rd metadata ... OK
* checking Rd cross-references ... OK
* checking for missing documentation entries ... OK
* checking for code/documentation mismatches ... OK
* checking Rd \usage sections ... OK
* checking Rd contents ... OK
* checking for unstated dependencies in examples ... OK
* checking files in ‘vignettes’ ... OK
* checking examples ... OK
Examples with CPU (user + system) or elapsed time > 5s
user system elapsed
circularRandomizeRegions 51.792 2.608 54.886
maskFromBSGenome 48.171 2.589 50.828
filterChromosomes 47.971 1.921 50.085
getMask 45.878 1.873 47.822
localZScore 4.722 0.464 7.259
* checking for unstated dependencies in ‘tests’ ... OK
* checking tests ...
Running ‘testthat.R’
OK
* checking for unstated dependencies in vignettes ... OK
* checking package vignettes in ‘inst/doc’ ... OK
* checking running R code from vignettes ... SKIPPED
* checking re-building of vignette outputs ... SKIPPED
* checking PDF version of manual ... OK
* DONE
Status: 1 NOTE
See
‘/Users/biocbuild/bbs-3.12-bioc/meat/regioneR.Rcheck/00check.log’
for details.
regioneR.Rcheck/00install.out
############################################################################## ############################################################################## ### ### Running command: ### ### /Library/Frameworks/R.framework/Versions/Current/Resources/bin/R CMD INSTALL regioneR ### ############################################################################## ############################################################################## * installing to library ‘/Library/Frameworks/R.framework/Versions/4.0/Resources/library’ * installing *source* package ‘regioneR’ ... ** using staged installation ** R ** inst ** byte-compile and prepare package for lazy loading ** help *** installing help indices ** building package indices ** installing vignettes ** testing if installed package can be loaded from temporary location ** testing if installed package can be loaded from final location ** testing if installed package keeps a record of temporary installation path * DONE (regioneR)
regioneR.Rcheck/tests/testthat.Rout
R version 4.0.5 (2021-03-31) -- "Shake and Throw"
Copyright (C) 2021 The R Foundation for Statistical Computing
Platform: x86_64-apple-darwin17.0 (64-bit)
R is free software and comes with ABSOLUTELY NO WARRANTY.
You are welcome to redistribute it under certain conditions.
Type 'license()' or 'licence()' for distribution details.
R is a collaborative project with many contributors.
Type 'contributors()' for more information and
'citation()' on how to cite R or R packages in publications.
Type 'demo()' for some demos, 'help()' for on-line help, or
'help.start()' for an HTML browser interface to help.
Type 'q()' to quit R.
> library(testthat)
> library(regioneR)
Loading required package: GenomicRanges
Loading required package: stats4
Loading required package: BiocGenerics
Loading required package: parallel
Attaching package: 'BiocGenerics'
The following objects are masked from 'package:parallel':
clusterApply, clusterApplyLB, clusterCall, clusterEvalQ,
clusterExport, clusterMap, parApply, parCapply, parLapply,
parLapplyLB, parRapply, parSapply, parSapplyLB
The following objects are masked from 'package:stats':
IQR, mad, sd, var, xtabs
The following objects are masked from 'package:base':
Filter, Find, Map, Position, Reduce, anyDuplicated, append,
as.data.frame, basename, cbind, colnames, dirname, do.call,
duplicated, eval, evalq, get, grep, grepl, intersect, is.unsorted,
lapply, mapply, match, mget, order, paste, pmax, pmax.int, pmin,
pmin.int, rank, rbind, rownames, sapply, setdiff, sort, table,
tapply, union, unique, unsplit, which.max, which.min
Loading required package: S4Vectors
Attaching package: 'S4Vectors'
The following object is masked from 'package:base':
expand.grid
Loading required package: IRanges
Loading required package: GenomeInfoDb
>
> test_check("regioneR")
[ FAIL 0 | WARN 0 | SKIP 0 | PASS 89 ]
>
> proc.time()
user system elapsed
67.256 3.702 71.082
regioneR.Rcheck/regioneR-Ex.timings
| name | user | system | elapsed | |
| characterToBSGenome | 1.660 | 0.477 | 2.139 | |
| circularRandomizeRegions | 51.792 | 2.608 | 54.886 | |
| commonRegions | 0.286 | 0.001 | 0.287 | |
| createFunctionsList | 0.646 | 0.014 | 0.660 | |
| createRandomRegions | 0.270 | 0.002 | 0.273 | |
| emptyCacheRegioneR | 0.001 | 0.000 | 0.002 | |
| extendRegions | 0.190 | 0.001 | 0.193 | |
| filterChromosomes | 47.971 | 1.921 | 50.085 | |
| getChromosomesByOrganism | 0.001 | 0.000 | 0.002 | |
| getGenome | 0.320 | 0.013 | 0.334 | |
| getGenomeAndMask | 0.111 | 0.002 | 0.113 | |
| getMask | 45.878 | 1.873 | 47.822 | |
| joinRegions | 0.147 | 0.001 | 0.148 | |
| listChrTypes | 0.010 | 0.001 | 0.010 | |
| localZScore | 4.722 | 0.464 | 7.259 | |
| maskFromBSGenome | 48.171 | 2.589 | 50.828 | |
| meanDistance | 0.098 | 0.000 | 0.099 | |
| meanInRegions | 0.127 | 0.001 | 0.128 | |
| mergeRegions | 0.123 | 0.002 | 0.125 | |
| numOverlaps | 0.240 | 0.001 | 0.242 | |
| overlapGraphicalSummary | 0.136 | 0.003 | 0.141 | |
| overlapPermTest | 2.319 | 0.011 | 2.335 | |
| overlapRegions | 0.062 | 0.000 | 0.063 | |
| permTest | 2.004 | 0.009 | 2.024 | |
| plot.localZScoreResults | 1.867 | 0.011 | 1.881 | |
| plot.localZScoreResultsList | 3.718 | 0.009 | 3.733 | |
| plot.permTestResults | 2.565 | 0.011 | 2.580 | |
| plot.permTestResultsList | 2.729 | 0.012 | 2.746 | |
| plotRegions | 0.052 | 0.001 | 0.054 | |
| print.permTestResults | 1.508 | 0.003 | 1.513 | |
| randomizeRegions | 0.260 | 0.001 | 0.261 | |
| recomputePermTest | 0.978 | 0.004 | 0.981 | |
| resampleRegions | 0.053 | 0.000 | 0.054 | |
| splitRegions | 0.105 | 0.001 | 0.107 | |
| subtractRegions | 0.258 | 0.002 | 0.261 | |
| toDataframe | 0.019 | 0.000 | 0.020 | |
| toGRanges | 0.906 | 0.034 | 0.942 | |
| uniqueRegions | 0.496 | 0.003 | 0.499 | |