| Back to Multiple platform build/check report for BioC 3.12 |
|
This page was generated on 2021-05-06 12:28:47 -0400 (Thu, 06 May 2021).
|
To the developers/maintainers of the regioneR package: Please make sure to use the following settings in order to reproduce any error or warning you see on this page. |
| Package 1497/1974 | Hostname | OS / Arch | INSTALL | BUILD | CHECK | BUILD BIN | ||||||||
| regioneR 1.22.0 (landing page) Bernat Gel
| malbec1 | Linux (Ubuntu 18.04.5 LTS) / x86_64 | OK | OK | OK | |||||||||
| tokay1 | Windows Server 2012 R2 Standard / x64 | OK | OK | OK | OK | |||||||||
| merida1 | macOS 10.14.6 Mojave / x86_64 | OK | OK | OK | OK | |||||||||
| Package: regioneR |
| Version: 1.22.0 |
| Command: /home/biocbuild/bbs-3.12-bioc/R/bin/R CMD check --install=check:regioneR.install-out.txt --library=/home/biocbuild/bbs-3.12-bioc/R/library --no-vignettes --timings regioneR_1.22.0.tar.gz |
| StartedAt: 2021-05-06 05:06:28 -0400 (Thu, 06 May 2021) |
| EndedAt: 2021-05-06 05:14:09 -0400 (Thu, 06 May 2021) |
| EllapsedTime: 461.4 seconds |
| RetCode: 0 |
| Status: OK |
| CheckDir: regioneR.Rcheck |
| Warnings: 0 |
##############################################################################
##############################################################################
###
### Running command:
###
### /home/biocbuild/bbs-3.12-bioc/R/bin/R CMD check --install=check:regioneR.install-out.txt --library=/home/biocbuild/bbs-3.12-bioc/R/library --no-vignettes --timings regioneR_1.22.0.tar.gz
###
##############################################################################
##############################################################################
* using log directory ‘/home/biocbuild/bbs-3.12-bioc/meat/regioneR.Rcheck’
* using R version 4.0.5 (2021-03-31)
* using platform: x86_64-pc-linux-gnu (64-bit)
* using session charset: UTF-8
* using option ‘--no-vignettes’
* checking for file ‘regioneR/DESCRIPTION’ ... OK
* checking extension type ... Package
* this is package ‘regioneR’ version ‘1.22.0’
* package encoding: UTF-8
* checking package namespace information ... OK
* checking package dependencies ... OK
* checking if this is a source package ... OK
* checking if there is a namespace ... OK
* checking for hidden files and directories ... OK
* checking for portable file names ... OK
* checking for sufficient/correct file permissions ... OK
* checking whether package ‘regioneR’ can be installed ... OK
* checking installed package size ... OK
* checking package directory ... OK
* checking ‘build’ directory ... OK
* checking DESCRIPTION meta-information ... NOTE
Package listed in more than one of Depends, Imports, Suggests, Enhances:
‘GenomicRanges’
A package should be listed in only one of these fields.
* checking top-level files ... OK
* checking for left-over files ... OK
* checking index information ... OK
* checking package subdirectories ... OK
* checking R files for non-ASCII characters ... OK
* checking R files for syntax errors ... OK
* checking whether the package can be loaded ... OK
* checking whether the package can be loaded with stated dependencies ... OK
* checking whether the package can be unloaded cleanly ... OK
* checking whether the namespace can be loaded with stated dependencies ... OK
* checking whether the namespace can be unloaded cleanly ... OK
* checking dependencies in R code ... OK
* checking S3 generic/method consistency ... OK
* checking replacement functions ... OK
* checking foreign function calls ... OK
* checking R code for possible problems ... OK
* checking Rd files ... OK
* checking Rd metadata ... OK
* checking Rd cross-references ... OK
* checking for missing documentation entries ... OK
* checking for code/documentation mismatches ... OK
* checking Rd \usage sections ... OK
* checking Rd contents ... OK
* checking for unstated dependencies in examples ... OK
* checking files in ‘vignettes’ ... OK
* checking examples ... OK
Examples with CPU (user + system) or elapsed time > 5s
user system elapsed
circularRandomizeRegions 38.936 3.556 42.610
filterChromosomes 38.284 3.244 41.647
maskFromBSGenome 36.732 3.952 38.541
getMask 34.160 3.548 37.825
localZScore 3.808 0.280 5.393
* checking for unstated dependencies in ‘tests’ ... OK
* checking tests ...
Running ‘testthat.R’
OK
* checking for unstated dependencies in vignettes ... OK
* checking package vignettes in ‘inst/doc’ ... OK
* checking running R code from vignettes ... SKIPPED
* checking re-building of vignette outputs ... SKIPPED
* checking PDF version of manual ... OK
* DONE
Status: 1 NOTE
See
‘/home/biocbuild/bbs-3.12-bioc/meat/regioneR.Rcheck/00check.log’
for details.
regioneR.Rcheck/00install.out
############################################################################## ############################################################################## ### ### Running command: ### ### /home/biocbuild/bbs-3.12-bioc/R/bin/R CMD INSTALL regioneR ### ############################################################################## ############################################################################## * installing to library ‘/home/biocbuild/bbs-3.12-bioc/R/library’ * installing *source* package ‘regioneR’ ... ** using staged installation ** R ** inst ** byte-compile and prepare package for lazy loading ** help *** installing help indices ** building package indices ** installing vignettes ** testing if installed package can be loaded from temporary location ** testing if installed package can be loaded from final location ** testing if installed package keeps a record of temporary installation path * DONE (regioneR)
regioneR.Rcheck/tests/testthat.Rout
R version 4.0.5 (2021-03-31) -- "Shake and Throw"
Copyright (C) 2021 The R Foundation for Statistical Computing
Platform: x86_64-pc-linux-gnu (64-bit)
R is free software and comes with ABSOLUTELY NO WARRANTY.
You are welcome to redistribute it under certain conditions.
Type 'license()' or 'licence()' for distribution details.
R is a collaborative project with many contributors.
Type 'contributors()' for more information and
'citation()' on how to cite R or R packages in publications.
Type 'demo()' for some demos, 'help()' for on-line help, or
'help.start()' for an HTML browser interface to help.
Type 'q()' to quit R.
> library(testthat)
> library(regioneR)
Loading required package: GenomicRanges
Loading required package: stats4
Loading required package: BiocGenerics
Loading required package: parallel
Attaching package: 'BiocGenerics'
The following objects are masked from 'package:parallel':
clusterApply, clusterApplyLB, clusterCall, clusterEvalQ,
clusterExport, clusterMap, parApply, parCapply, parLapply,
parLapplyLB, parRapply, parSapply, parSapplyLB
The following objects are masked from 'package:stats':
IQR, mad, sd, var, xtabs
The following objects are masked from 'package:base':
Filter, Find, Map, Position, Reduce, anyDuplicated, append,
as.data.frame, basename, cbind, colnames, dirname, do.call,
duplicated, eval, evalq, get, grep, grepl, intersect, is.unsorted,
lapply, mapply, match, mget, order, paste, pmax, pmax.int, pmin,
pmin.int, rank, rbind, rownames, sapply, setdiff, sort, table,
tapply, union, unique, unsplit, which.max, which.min
Loading required package: S4Vectors
Attaching package: 'S4Vectors'
The following object is masked from 'package:base':
expand.grid
Loading required package: IRanges
Loading required package: GenomeInfoDb
>
> test_check("regioneR")
[ FAIL 0 | WARN 0 | SKIP 0 | PASS 89 ]
>
> proc.time()
user system elapsed
54.436 3.864 58.499
regioneR.Rcheck/regioneR-Ex.timings
| name | user | system | elapsed | |
| characterToBSGenome | 1.852 | 0.148 | 2.031 | |
| circularRandomizeRegions | 38.936 | 3.556 | 42.610 | |
| commonRegions | 0.480 | 0.000 | 0.481 | |
| createFunctionsList | 0.784 | 0.000 | 0.784 | |
| createRandomRegions | 0.224 | 0.004 | 0.229 | |
| emptyCacheRegioneR | 0.000 | 0.000 | 0.001 | |
| extendRegions | 0.140 | 0.000 | 0.141 | |
| filterChromosomes | 38.284 | 3.244 | 41.647 | |
| getChromosomesByOrganism | 0.000 | 0.004 | 0.001 | |
| getGenome | 0.220 | 0.004 | 0.225 | |
| getGenomeAndMask | 0.092 | 0.000 | 0.092 | |
| getMask | 34.160 | 3.548 | 37.825 | |
| joinRegions | 0.188 | 0.000 | 0.185 | |
| listChrTypes | 0.008 | 0.000 | 0.008 | |
| localZScore | 3.808 | 0.280 | 5.393 | |
| maskFromBSGenome | 36.732 | 3.952 | 38.541 | |
| meanDistance | 0.092 | 0.000 | 0.091 | |
| meanInRegions | 0.120 | 0.000 | 0.117 | |
| mergeRegions | 0.096 | 0.000 | 0.094 | |
| numOverlaps | 0.188 | 0.000 | 0.188 | |
| overlapGraphicalSummary | 0.108 | 0.000 | 0.108 | |
| overlapPermTest | 2.248 | 0.004 | 2.254 | |
| overlapRegions | 0.048 | 0.000 | 0.050 | |
| permTest | 1.332 | 0.000 | 1.332 | |
| plot.localZScoreResults | 1.452 | 0.000 | 1.453 | |
| plot.localZScoreResultsList | 3.252 | 0.000 | 3.253 | |
| plot.permTestResults | 2.956 | 0.000 | 2.962 | |
| plot.permTestResultsList | 2.656 | 0.000 | 2.657 | |
| plotRegions | 0.044 | 0.000 | 0.044 | |
| print.permTestResults | 1.680 | 0.004 | 1.683 | |
| randomizeRegions | 0.236 | 0.000 | 0.236 | |
| recomputePermTest | 0.920 | 0.000 | 0.922 | |
| resampleRegions | 0.048 | 0.000 | 0.046 | |
| splitRegions | 0.072 | 0.000 | 0.075 | |
| subtractRegions | 0.208 | 0.000 | 0.210 | |
| toDataframe | 0.020 | 0.000 | 0.018 | |
| toGRanges | 1.212 | 0.004 | 1.234 | |
| uniqueRegions | 0.664 | 0.000 | 0.663 | |