| Back to Multiple platform build/check report for BioC 3.12 |
|
This page was generated on 2021-05-06 12:32:44 -0400 (Thu, 06 May 2021).
|
To the developers/maintainers of the periodicDNA package: Please make sure to use the following settings in order to reproduce any error or warning you see on this page. |
| Package 1329/1974 | Hostname | OS / Arch | INSTALL | BUILD | CHECK | BUILD BIN | ||||||||
| periodicDNA 1.0.0 (landing page) Jacques Serizay
| malbec1 | Linux (Ubuntu 18.04.5 LTS) / x86_64 | OK | OK | OK | |||||||||
| tokay1 | Windows Server 2012 R2 Standard / x64 | OK | OK | OK | OK | |||||||||
| merida1 | macOS 10.14.6 Mojave / x86_64 | OK | OK | OK | OK | |||||||||
| Package: periodicDNA |
| Version: 1.0.0 |
| Command: C:\cygwin\bin\curl.exe -O http://172.29.0.3/BBS/3.12/bioc/src/contrib/periodicDNA_1.0.0.tar.gz && rm -rf periodicDNA.buildbin-libdir && mkdir periodicDNA.buildbin-libdir && C:\Users\biocbuild\bbs-3.12-bioc\R\bin\R.exe CMD INSTALL --merge-multiarch --build --library=periodicDNA.buildbin-libdir periodicDNA_1.0.0.tar.gz && C:\Users\biocbuild\bbs-3.12-bioc\R\bin\R.exe CMD INSTALL periodicDNA_1.0.0.zip && rm periodicDNA_1.0.0.tar.gz periodicDNA_1.0.0.zip |
| StartedAt: 2021-05-05 18:19:55 -0400 (Wed, 05 May 2021) |
| EndedAt: 2021-05-05 18:20:57 -0400 (Wed, 05 May 2021) |
| EllapsedTime: 62.0 seconds |
| RetCode: 0 |
| Status: OK |
##############################################################################
##############################################################################
###
### Running command:
###
### C:\cygwin\bin\curl.exe -O http://172.29.0.3/BBS/3.12/bioc/src/contrib/periodicDNA_1.0.0.tar.gz && rm -rf periodicDNA.buildbin-libdir && mkdir periodicDNA.buildbin-libdir && C:\Users\biocbuild\bbs-3.12-bioc\R\bin\R.exe CMD INSTALL --merge-multiarch --build --library=periodicDNA.buildbin-libdir periodicDNA_1.0.0.tar.gz && C:\Users\biocbuild\bbs-3.12-bioc\R\bin\R.exe CMD INSTALL periodicDNA_1.0.0.zip && rm periodicDNA_1.0.0.tar.gz periodicDNA_1.0.0.zip
###
##############################################################################
##############################################################################
% Total % Received % Xferd Average Speed Time Time Time Current
Dload Upload Total Spent Left Speed
0 0 0 0 0 0 0 0 --:--:-- --:--:-- --:--:-- 0
100 2761k 100 2761k 0 0 44.8M 0 --:--:-- --:--:-- --:--:-- 45.7M
install for i386
* installing *source* package 'periodicDNA' ...
** using staged installation
** R
** data
** byte-compile and prepare package for lazy loading
** help
*** installing help indices
converting help for package 'periodicDNA'
finding HTML links ... done
ce11_ATACseq html
ce11_TSSs html
ce11_WW_10bp html
ce11_all_REs html
ce11_proms html
ce11_proms_seqs html
getPeriodicity html
getPeriodicityTrack html
getPeriodicityWithIterations html
plotAggregateCoverage html
plotPeriodicityResults html
setUpBPPARAM html
theme_ggplot2 html
*** copying figures
** building package indices
** installing vignettes
** testing if installed package can be loaded from temporary location
** testing if installed package can be loaded from final location
** testing if installed package keeps a record of temporary installation path
install for x64
* installing *source* package 'periodicDNA' ...
** testing if installed package can be loaded
* MD5 sums
packaged installation of 'periodicDNA' as periodicDNA_1.0.0.zip
* DONE (periodicDNA)
* installing to library 'C:/Users/biocbuild/bbs-3.12-bioc/R/library'
package 'periodicDNA' successfully unpacked and MD5 sums checked