| Back to Multiple platform build/check report for BioC 3.12 |
|
This page was generated on 2021-05-06 12:32:44 -0400 (Thu, 06 May 2021).
|
To the developers/maintainers of the periodicDNA package: Please make sure to use the following settings in order to reproduce any error or warning you see on this page. |
| Package 1329/1974 | Hostname | OS / Arch | INSTALL | BUILD | CHECK | BUILD BIN | ||||||||
| periodicDNA 1.0.0 (landing page) Jacques Serizay
| malbec1 | Linux (Ubuntu 18.04.5 LTS) / x86_64 | OK | OK | OK | |||||||||
| tokay1 | Windows Server 2012 R2 Standard / x64 | OK | OK | OK | OK | |||||||||
| merida1 | macOS 10.14.6 Mojave / x86_64 | OK | OK | OK | OK | |||||||||
| Package: periodicDNA |
| Version: 1.0.0 |
| Command: rm -rf periodicDNA.buildbin-libdir && mkdir periodicDNA.buildbin-libdir && C:\Users\biocbuild\bbs-3.12-bioc\R\bin\R.exe CMD INSTALL --merge-multiarch --build --library=periodicDNA.buildbin-libdir periodicDNA_1.0.0.tar.gz |
| StartedAt: 2021-05-06 09:44:50 -0400 (Thu, 06 May 2021) |
| EndedAt: 2021-05-06 09:45:36 -0400 (Thu, 06 May 2021) |
| EllapsedTime: 46.4 seconds |
| RetCode: 0 |
| Status: OK |
| PackageFile: periodicDNA_1.0.0.zip |
| PackageFileSize: 2.973 MiB |
##############################################################################
##############################################################################
###
### Running command:
###
### rm -rf periodicDNA.buildbin-libdir && mkdir periodicDNA.buildbin-libdir && C:\Users\biocbuild\bbs-3.12-bioc\R\bin\R.exe CMD INSTALL --merge-multiarch --build --library=periodicDNA.buildbin-libdir periodicDNA_1.0.0.tar.gz
###
##############################################################################
##############################################################################
install for i386
* installing *source* package 'periodicDNA' ...
** using staged installation
** R
** data
** inst
** byte-compile and prepare package for lazy loading
** help
*** installing help indices
converting help for package 'periodicDNA'
finding HTML links ... done
ce11_ATACseq html
ce11_TSSs html
ce11_WW_10bp html
ce11_all_REs html
ce11_proms html
ce11_proms_seqs html
getPeriodicity html
getPeriodicityTrack html
getPeriodicityWithIterations html
plotAggregateCoverage html
plotPeriodicityResults html
setUpBPPARAM html
theme_ggplot2 html
*** copying figures
** building package indices
** installing vignettes
** testing if installed package can be loaded from temporary location
** testing if installed package can be loaded from final location
** testing if installed package keeps a record of temporary installation path
install for x64
* installing *source* package 'periodicDNA' ...
** testing if installed package can be loaded
* MD5 sums
packaged installation of 'periodicDNA' as periodicDNA_1.0.0.zip
* DONE (periodicDNA)