| Back to Multiple platform build/check report for BioC 3.12 |
|
This page was generated on 2021-05-06 12:32:24 -0400 (Thu, 06 May 2021).
|
To the developers/maintainers of the musicatk package: Please make sure to use the following settings in order to reproduce any error or warning you see on this page. |
| Package 1188/1974 | Hostname | OS / Arch | INSTALL | BUILD | CHECK | BUILD BIN | ||||||||
| musicatk 1.0.0 (landing page) Aaron Chevalier
| malbec1 | Linux (Ubuntu 18.04.5 LTS) / x86_64 | OK | OK | OK | |||||||||
| tokay1 | Windows Server 2012 R2 Standard / x64 | OK | OK | OK | OK | |||||||||
| merida1 | macOS 10.14.6 Mojave / x86_64 | OK | OK | OK | OK | |||||||||
| Package: musicatk |
| Version: 1.0.0 |
| Command: rm -rf musicatk.buildbin-libdir && mkdir musicatk.buildbin-libdir && C:\Users\biocbuild\bbs-3.12-bioc\R\bin\R.exe CMD INSTALL --merge-multiarch --build --library=musicatk.buildbin-libdir musicatk_1.0.0.tar.gz |
| StartedAt: 2021-05-06 09:36:53 -0400 (Thu, 06 May 2021) |
| EndedAt: 2021-05-06 09:37:58 -0400 (Thu, 06 May 2021) |
| EllapsedTime: 64.3 seconds |
| RetCode: 0 |
| Status: OK |
| PackageFile: musicatk_1.0.0.zip |
| PackageFileSize: 2.726 MiB |
##############################################################################
##############################################################################
###
### Running command:
###
### rm -rf musicatk.buildbin-libdir && mkdir musicatk.buildbin-libdir && C:\Users\biocbuild\bbs-3.12-bioc\R\bin\R.exe CMD INSTALL --merge-multiarch --build --library=musicatk.buildbin-libdir musicatk_1.0.0.tar.gz
###
##############################################################################
##############################################################################
install for i386
* installing *source* package 'musicatk' ...
** using staged installation
** R
** data
** inst
** byte-compile and prepare package for lazy loading
** help
*** installing help indices
converting help for package 'musicatk'
finding HTML links ... done
add_flank_to_variants html
finding level-2 HTML links ... done
add_variant_type html
annotate_replication_strand html
annotate_transcript_strand html
annotate_variant_length html
annotate_variant_type html
auto_predict_grid html
auto_subset_sigs html
build_custom_table html
build_standard_table html
combine_count_tables html
combine_predict_grid html
compare_cosmic_v2 html
compare_cosmic_v3 html
compare_results html
cosmic_v2_sigs html
cosmic_v2_subtype_map html
cosmic_v3_dbs_sigs html
cosmic_v3_indel_sigs html
cosmic_v3_sbs_sigs html
cosmic_v3_sbs_sigs_exome html
count_table-class html
create_dbs_table html
create_musica html
create_sbs192_table html
create_sbs96_table html
create_umap html
dbs_musica html
discover_signatures html
dot-jsd html
drop_annotation html
exposures html
extract_count_tables html
extract_variants html
extract_variants_from_maf html
extract_variants_from_maf_file html
extract_variants_from_matrix html
extract_variants_from_vcf html
extract_variants_from_vcf_file html
generate_result_grid html
indel_musica html
musica-class html
musica html
musica_annot html
musica_result-class html
musica_result_grid-class html
musica_sbs96 html
musica_sbs96_tiny html
name_signatures html
pipe html
plot_exposures html
plot_sample_counts html
plot_sample_reconstruction_error html
plot_signatures html
plot_umap html
predict_exposure html
rc html
rep_range html
res html
res_annot html
samp_annot html
sample_names html
select_genome html
signatures html
subset_musica_by_annotation html
subset_musica_by_counts html
subset_variant_by_type html
subset_variants_by_samples html
table_96 html
table_name html
tables html
umap html
variants html
** building package indices
** installing vignettes
** testing if installed package can be loaded from temporary location
** testing if installed package can be loaded from final location
** testing if installed package keeps a record of temporary installation path
install for x64
* installing *source* package 'musicatk' ...
** testing if installed package can be loaded
* MD5 sums
packaged installation of 'musicatk' as musicatk_1.0.0.zip
* DONE (musicatk)