| Back to Multiple platform build/check report for BioC 3.12 |
|
This page was generated on 2021-05-06 12:28:22 -0400 (Thu, 06 May 2021).
|
To the developers/maintainers of the musicatk package: Please make sure to use the following settings in order to reproduce any error or warning you see on this page. |
| Package 1188/1974 | Hostname | OS / Arch | INSTALL | BUILD | CHECK | BUILD BIN | ||||||||
| musicatk 1.0.0 (landing page) Aaron Chevalier
| malbec1 | Linux (Ubuntu 18.04.5 LTS) / x86_64 | OK | OK | OK | |||||||||
| tokay1 | Windows Server 2012 R2 Standard / x64 | OK | OK | OK | OK | |||||||||
| merida1 | macOS 10.14.6 Mojave / x86_64 | OK | OK | OK | OK | |||||||||
| Package: musicatk |
| Version: 1.0.0 |
| Command: /home/biocbuild/bbs-3.12-bioc/R/bin/R CMD check --install=check:musicatk.install-out.txt --library=/home/biocbuild/bbs-3.12-bioc/R/library --no-vignettes --timings musicatk_1.0.0.tar.gz |
| StartedAt: 2021-05-06 03:52:08 -0400 (Thu, 06 May 2021) |
| EndedAt: 2021-05-06 03:59:42 -0400 (Thu, 06 May 2021) |
| EllapsedTime: 453.6 seconds |
| RetCode: 0 |
| Status: OK |
| CheckDir: musicatk.Rcheck |
| Warnings: 0 |
##############################################################################
##############################################################################
###
### Running command:
###
### /home/biocbuild/bbs-3.12-bioc/R/bin/R CMD check --install=check:musicatk.install-out.txt --library=/home/biocbuild/bbs-3.12-bioc/R/library --no-vignettes --timings musicatk_1.0.0.tar.gz
###
##############################################################################
##############################################################################
* using log directory ‘/home/biocbuild/bbs-3.12-bioc/meat/musicatk.Rcheck’
* using R version 4.0.5 (2021-03-31)
* using platform: x86_64-pc-linux-gnu (64-bit)
* using session charset: UTF-8
* using option ‘--no-vignettes’
* checking for file ‘musicatk/DESCRIPTION’ ... OK
* checking extension type ... Package
* this is package ‘musicatk’ version ‘1.0.0’
* package encoding: UTF-8
* checking package namespace information ... OK
* checking package dependencies ... OK
* checking if this is a source package ... OK
* checking if there is a namespace ... OK
* checking for hidden files and directories ... OK
* checking for portable file names ... OK
* checking for sufficient/correct file permissions ... OK
* checking whether package ‘musicatk’ can be installed ... OK
* checking installed package size ... OK
* checking package directory ... OK
* checking ‘build’ directory ... OK
* checking DESCRIPTION meta-information ... OK
* checking top-level files ... OK
* checking for left-over files ... OK
* checking index information ... OK
* checking package subdirectories ... OK
* checking R files for non-ASCII characters ... OK
* checking R files for syntax errors ... OK
* checking whether the package can be loaded ... OK
* checking whether the package can be loaded with stated dependencies ... OK
* checking whether the package can be unloaded cleanly ... OK
* checking whether the namespace can be loaded with stated dependencies ... OK
* checking whether the namespace can be unloaded cleanly ... OK
* checking dependencies in R code ... OK
* checking S3 generic/method consistency ... OK
* checking replacement functions ... OK
* checking foreign function calls ... OK
* checking R code for possible problems ... OK
* checking Rd files ... OK
* checking Rd metadata ... OK
* checking Rd cross-references ... OK
* checking for missing documentation entries ... OK
* checking for code/documentation mismatches ... OK
* checking Rd \usage sections ... OK
* checking Rd contents ... OK
* checking for unstated dependencies in examples ... OK
* checking contents of ‘data’ directory ... OK
* checking data for non-ASCII characters ... OK
* checking data for ASCII and uncompressed saves ... OK
* checking R/sysdata.rda ... OK
* checking files in ‘vignettes’ ... OK
* checking examples ... OK
Examples with CPU (user + system) or elapsed time > 5s
user system elapsed
build_standard_table 14.120 0.664 14.821
extract_variants 6.512 0.020 6.989
create_umap 5.892 0.008 5.933
create_musica 1.244 0.144 5.518
* checking for unstated dependencies in ‘tests’ ... OK
* checking tests ...
Running ‘testthat.R’
OK
* checking for unstated dependencies in vignettes ... OK
* checking package vignettes in ‘inst/doc’ ... OK
* checking running R code from vignettes ... SKIPPED
* checking re-building of vignette outputs ... SKIPPED
* checking PDF version of manual ... OK
* DONE
Status: OK
musicatk.Rcheck/00install.out
############################################################################## ############################################################################## ### ### Running command: ### ### /home/biocbuild/bbs-3.12-bioc/R/bin/R CMD INSTALL musicatk ### ############################################################################## ############################################################################## * installing to library ‘/home/biocbuild/bbs-3.12-bioc/R/library’ * installing *source* package ‘musicatk’ ... ** using staged installation ** R ** data ** inst ** byte-compile and prepare package for lazy loading ** help *** installing help indices ** building package indices ** installing vignettes ** testing if installed package can be loaded from temporary location ** testing if installed package can be loaded from final location ** testing if installed package keeps a record of temporary installation path * DONE (musicatk)
musicatk.Rcheck/tests/testthat.Rout
R version 4.0.5 (2021-03-31) -- "Shake and Throw"
Copyright (C) 2021 The R Foundation for Statistical Computing
Platform: x86_64-pc-linux-gnu (64-bit)
R is free software and comes with ABSOLUTELY NO WARRANTY.
You are welcome to redistribute it under certain conditions.
Type 'license()' or 'licence()' for distribution details.
R is a collaborative project with many contributors.
Type 'contributors()' for more information and
'citation()' on how to cite R or R packages in publications.
Type 'demo()' for some demos, 'help()' for on-line help, or
'help.start()' for an HTML browser interface to help.
Type 'q()' to quit R.
> library("testthat")
> library("musicatk")
Loading required package: NMF
Loading required package: pkgmaker
Loading required package: registry
Loading required package: rngtools
Loading required package: cluster
NMF - BioConductor layer [OK] | Shared memory capabilities [NO: synchronicity] | Cores 19/20
To enable shared memory capabilities, try: install.extras('
NMF
')
Attaching package: 'NMF'
The following object is masked from 'package:testthat':
compare
>
> test_check("musicatk")
[ FAIL 0 | WARN 0 | SKIP 0 | PASS 7 ]
>
> proc.time()
user system elapsed
20.092 0.568 22.260
musicatk.Rcheck/musicatk-Ex.timings
| name | user | system | elapsed | |
| add_flank_to_variants | 3.344 | 0.196 | 3.569 | |
| add_variant_type | 0.036 | 0.008 | 0.044 | |
| annotate_replication_strand | 0.960 | 0.068 | 1.030 | |
| annotate_transcript_strand | 1.984 | 0.032 | 2.020 | |
| annotate_variant_length | 0.024 | 0.000 | 0.026 | |
| annotate_variant_type | 0.012 | 0.008 | 0.016 | |
| auto_predict_grid | 4.316 | 0.024 | 4.365 | |
| build_custom_table | 1.172 | 0.012 | 1.190 | |
| build_standard_table | 14.120 | 0.664 | 14.821 | |
| combine_count_tables | 3.056 | 0.148 | 3.209 | |
| combine_predict_grid | 3.564 | 0.016 | 3.589 | |
| compare_cosmic_v2 | 3.760 | 0.012 | 3.801 | |
| compare_cosmic_v3 | 1.696 | 0.008 | 1.715 | |
| compare_results | 2.216 | 0.000 | 2.218 | |
| cosmic_v2_subtype_map | 0.000 | 0.000 | 0.001 | |
| create_musica | 1.244 | 0.144 | 5.518 | |
| create_umap | 5.892 | 0.008 | 5.933 | |
| discover_signatures | 1.156 | 0.052 | 1.209 | |
| drop_annotation | 0.004 | 0.012 | 0.020 | |
| exposures | 0.020 | 0.016 | 0.038 | |
| extract_count_tables | 0.024 | 0.000 | 0.023 | |
| extract_variants | 6.512 | 0.020 | 6.989 | |
| extract_variants_from_maf | 0.180 | 0.004 | 0.173 | |
| extract_variants_from_maf_file | 0.160 | 0.004 | 0.154 | |
| extract_variants_from_matrix | 0.196 | 0.000 | 0.186 | |
| extract_variants_from_vcf | 1.084 | 0.004 | 1.090 | |
| extract_variants_from_vcf_file | 0.672 | 0.000 | 0.670 | |
| generate_result_grid | 0.376 | 0.000 | 0.375 | |
| musica | 0.028 | 0.000 | 0.026 | |
| name_signatures | 0.016 | 0.004 | 0.020 | |
| pipe | 0.004 | 0.000 | 0.005 | |
| plot_exposures | 0.260 | 0.012 | 0.271 | |
| plot_sample_counts | 0.520 | 0.012 | 0.533 | |
| plot_sample_reconstruction_error | 0.820 | 0.000 | 0.821 | |
| plot_signatures | 0.880 | 0.000 | 0.881 | |
| plot_umap | 4.200 | 0.016 | 4.232 | |
| predict_exposure | 1.608 | 0.068 | 1.676 | |
| rc | 0.004 | 0.000 | 0.002 | |
| samp_annot | 0.020 | 0.012 | 0.033 | |
| sample_names | 0.016 | 0.008 | 0.021 | |
| select_genome | 0 | 0 | 0 | |
| signatures | 0.016 | 0.024 | 0.040 | |
| subset_musica_by_annotation | 0.020 | 0.004 | 0.037 | |
| subset_musica_by_counts | 0.016 | 0.008 | 0.025 | |
| subset_variant_by_type | 0.020 | 0.008 | 0.027 | |
| subset_variants_by_samples | 0.024 | 0.000 | 0.023 | |
| table_name | 0.012 | 0.008 | 0.019 | |
| tables | 0.032 | 0.016 | 0.047 | |
| umap | 0.024 | 0.012 | 0.034 | |
| variants | 0.024 | 0.008 | 0.032 | |