| Back to Multiple platform build/check report for BioC 3.12 |
|
This page was generated on 2021-05-06 12:31:44 -0400 (Thu, 06 May 2021).
|
To the developers/maintainers of the heatmaps package: Please make sure to use the following settings in order to reproduce any error or warning you see on this page. |
| Package 821/1974 | Hostname | OS / Arch | INSTALL | BUILD | CHECK | BUILD BIN | ||||||||
| heatmaps 1.14.0 (landing page) Malcolm Perry
| malbec1 | Linux (Ubuntu 18.04.5 LTS) / x86_64 | OK | OK | OK | |||||||||
| tokay1 | Windows Server 2012 R2 Standard / x64 | OK | OK | OK | OK | |||||||||
| merida1 | macOS 10.14.6 Mojave / x86_64 | OK | OK | OK | OK | |||||||||
| Package: heatmaps |
| Version: 1.14.0 |
| Command: C:\cygwin\bin\curl.exe -O http://172.29.0.3/BBS/3.12/bioc/src/contrib/heatmaps_1.14.0.tar.gz && rm -rf heatmaps.buildbin-libdir && mkdir heatmaps.buildbin-libdir && C:\Users\biocbuild\bbs-3.12-bioc\R\bin\R.exe CMD INSTALL --merge-multiarch --build --library=heatmaps.buildbin-libdir heatmaps_1.14.0.tar.gz && C:\Users\biocbuild\bbs-3.12-bioc\R\bin\R.exe CMD INSTALL heatmaps_1.14.0.zip && rm heatmaps_1.14.0.tar.gz heatmaps_1.14.0.zip |
| StartedAt: 2021-05-05 17:04:54 -0400 (Wed, 05 May 2021) |
| EndedAt: 2021-05-05 17:05:41 -0400 (Wed, 05 May 2021) |
| EllapsedTime: 46.1 seconds |
| RetCode: 0 |
| Status: OK |
##############################################################################
##############################################################################
###
### Running command:
###
### C:\cygwin\bin\curl.exe -O http://172.29.0.3/BBS/3.12/bioc/src/contrib/heatmaps_1.14.0.tar.gz && rm -rf heatmaps.buildbin-libdir && mkdir heatmaps.buildbin-libdir && C:\Users\biocbuild\bbs-3.12-bioc\R\bin\R.exe CMD INSTALL --merge-multiarch --build --library=heatmaps.buildbin-libdir heatmaps_1.14.0.tar.gz && C:\Users\biocbuild\bbs-3.12-bioc\R\bin\R.exe CMD INSTALL heatmaps_1.14.0.zip && rm heatmaps_1.14.0.tar.gz heatmaps_1.14.0.zip
###
##############################################################################
##############################################################################
% Total % Received % Xferd Average Speed Time Time Time Current
Dload Upload Total Spent Left Speed
0 0 0 0 0 0 0 0 --:--:-- --:--:-- --:--:-- 0
100 6696k 100 6696k 0 0 74.0M 0 --:--:-- --:--:-- --:--:-- 75.1M
install for i386
* installing *source* package 'heatmaps' ...
** using staged installation
** R
** data
** inst
** byte-compile and prepare package for lazy loading
Creating a new generic function for 'scale' in package 'heatmaps'
** help
*** installing help indices
converting help for package 'heatmaps'
finding HTML links ... done
CoverageHeatmap html
Heatmap-class html
Heatmap html
HeatmapExamples html
PWMScanHeatmap html
PatternHeatmap html
coords html
default_color html
getScale html
heatmapOptions html
image html
label html
length-Heatmap-method html
metadata html
nseq html
plotHeatmap html
plotHeatmapList html
plotHeatmapMeta html
plotPatternDensityMap html
plot_clusters html
plot_legend html
rev-Heatmap-method html
scale html
smoothHeatmap html
width-Heatmap-method html
xm html
ym html
** building package indices
** installing vignettes
** testing if installed package can be loaded from temporary location
** testing if installed package can be loaded from final location
** testing if installed package keeps a record of temporary installation path
install for x64
* installing *source* package 'heatmaps' ...
** testing if installed package can be loaded
* MD5 sums
packaged installation of 'heatmaps' as heatmaps_1.14.0.zip
* DONE (heatmaps)
* installing to library 'C:/Users/biocbuild/bbs-3.12-bioc/R/library'
package 'heatmaps' successfully unpacked and MD5 sums checked