| Back to Multiple platform build/check report for BioC 3.12 |
|
This page was generated on 2021-05-06 12:31:44 -0400 (Thu, 06 May 2021).
|
To the developers/maintainers of the heatmaps package: Please make sure to use the following settings in order to reproduce any error or warning you see on this page. |
| Package 821/1974 | Hostname | OS / Arch | INSTALL | BUILD | CHECK | BUILD BIN | ||||||||
| heatmaps 1.14.0 (landing page) Malcolm Perry
| malbec1 | Linux (Ubuntu 18.04.5 LTS) / x86_64 | OK | OK | OK | |||||||||
| tokay1 | Windows Server 2012 R2 Standard / x64 | OK | OK | OK | OK | |||||||||
| merida1 | macOS 10.14.6 Mojave / x86_64 | OK | OK | OK | OK | |||||||||
| Package: heatmaps |
| Version: 1.14.0 |
| Command: rm -rf heatmaps.buildbin-libdir && mkdir heatmaps.buildbin-libdir && C:\Users\biocbuild\bbs-3.12-bioc\R\bin\R.exe CMD INSTALL --merge-multiarch --build --library=heatmaps.buildbin-libdir heatmaps_1.14.0.tar.gz |
| StartedAt: 2021-05-06 09:16:11 -0400 (Thu, 06 May 2021) |
| EndedAt: 2021-05-06 09:17:04 -0400 (Thu, 06 May 2021) |
| EllapsedTime: 53.1 seconds |
| RetCode: 0 |
| Status: OK |
| PackageFile: heatmaps_1.14.0.zip |
| PackageFileSize: 8.383 MiB |
##############################################################################
##############################################################################
###
### Running command:
###
### rm -rf heatmaps.buildbin-libdir && mkdir heatmaps.buildbin-libdir && C:\Users\biocbuild\bbs-3.12-bioc\R\bin\R.exe CMD INSTALL --merge-multiarch --build --library=heatmaps.buildbin-libdir heatmaps_1.14.0.tar.gz
###
##############################################################################
##############################################################################
install for i386
* installing *source* package 'heatmaps' ...
** using staged installation
** R
** data
** inst
** byte-compile and prepare package for lazy loading
Creating a new generic function for 'scale' in package 'heatmaps'
** help
*** installing help indices
converting help for package 'heatmaps'
finding HTML links ... done
CoverageHeatmap html
Heatmap-class html
Heatmap html
HeatmapExamples html
PWMScanHeatmap html
PatternHeatmap html
coords html
default_color html
getScale html
heatmapOptions html
image html
label html
length-Heatmap-method html
metadata html
nseq html
plotHeatmap html
plotHeatmapList html
plotHeatmapMeta html
plotPatternDensityMap html
plot_clusters html
plot_legend html
rev-Heatmap-method html
scale html
smoothHeatmap html
width-Heatmap-method html
xm html
ym html
** building package indices
** installing vignettes
** testing if installed package can be loaded from temporary location
** testing if installed package can be loaded from final location
** testing if installed package keeps a record of temporary installation path
install for x64
* installing *source* package 'heatmaps' ...
** testing if installed package can be loaded
* MD5 sums
packaged installation of 'heatmaps' as heatmaps_1.14.0.zip
* DONE (heatmaps)