| Back to Multiple platform build/check report for BioC 3.12 |
|
This page was generated on 2021-05-06 12:33:57 -0400 (Thu, 06 May 2021).
|
To the developers/maintainers of the TFHAZ package: Please make sure to use the following settings in order to reproduce any error or warning you see on this page. |
| Package 1853/1974 | Hostname | OS / Arch | INSTALL | BUILD | CHECK | BUILD BIN | ||||||||
| TFHAZ 1.12.0 (landing page) Alberto Marchesi
| malbec1 | Linux (Ubuntu 18.04.5 LTS) / x86_64 | OK | OK | OK | |||||||||
| tokay1 | Windows Server 2012 R2 Standard / x64 | OK | OK | OK | OK | |||||||||
| merida1 | macOS 10.14.6 Mojave / x86_64 | OK | OK | OK | OK | |||||||||
| Package: TFHAZ |
| Version: 1.12.0 |
| Command: C:\Users\biocbuild\bbs-3.12-bioc\R\bin\R.exe CMD check --force-multiarch --install=check:TFHAZ.install-out.txt --library=C:\Users\biocbuild\bbs-3.12-bioc\R\library --no-vignettes --timings TFHAZ_1.12.0.tar.gz |
| StartedAt: 2021-05-06 07:30:24 -0400 (Thu, 06 May 2021) |
| EndedAt: 2021-05-06 07:32:53 -0400 (Thu, 06 May 2021) |
| EllapsedTime: 149.0 seconds |
| RetCode: 0 |
| Status: OK |
| CheckDir: TFHAZ.Rcheck |
| Warnings: 0 |
##############################################################################
##############################################################################
###
### Running command:
###
### C:\Users\biocbuild\bbs-3.12-bioc\R\bin\R.exe CMD check --force-multiarch --install=check:TFHAZ.install-out.txt --library=C:\Users\biocbuild\bbs-3.12-bioc\R\library --no-vignettes --timings TFHAZ_1.12.0.tar.gz
###
##############################################################################
##############################################################################
* using log directory 'C:/Users/biocbuild/bbs-3.12-bioc/meat/TFHAZ.Rcheck'
* using R version 4.0.5 (2021-03-31)
* using platform: x86_64-w64-mingw32 (64-bit)
* using session charset: ISO8859-1
* using option '--no-vignettes'
* checking for file 'TFHAZ/DESCRIPTION' ... OK
* checking extension type ... Package
* this is package 'TFHAZ' version '1.12.0'
* package encoding: UTF-8
* checking package namespace information ... OK
* checking package dependencies ... OK
* checking if this is a source package ... OK
* checking if there is a namespace ... OK
* checking for hidden files and directories ... OK
* checking for portable file names ... OK
* checking whether package 'TFHAZ' can be installed ... OK
* checking installed package size ... OK
* checking package directory ... OK
* checking 'build' directory ... OK
* checking DESCRIPTION meta-information ... OK
* checking top-level files ... OK
* checking for left-over files ... OK
* checking index information ... OK
* checking package subdirectories ... OK
* checking R files for non-ASCII characters ... OK
* checking R files for syntax errors ... OK
* loading checks for arch 'i386'
** checking whether the package can be loaded ... OK
** checking whether the package can be loaded with stated dependencies ... OK
** checking whether the package can be unloaded cleanly ... OK
** checking whether the namespace can be loaded with stated dependencies ... OK
** checking whether the namespace can be unloaded cleanly ... OK
* loading checks for arch 'x64'
** checking whether the package can be loaded ... OK
** checking whether the package can be loaded with stated dependencies ... OK
** checking whether the package can be unloaded cleanly ... OK
** checking whether the namespace can be loaded with stated dependencies ... OK
** checking whether the namespace can be unloaded cleanly ... OK
* checking dependencies in R code ... OK
* checking S3 generic/method consistency ... OK
* checking replacement functions ... OK
* checking foreign function calls ... OK
* checking R code for possible problems ... OK
* checking Rd files ... OK
* checking Rd metadata ... OK
* checking Rd cross-references ... OK
* checking for missing documentation entries ... OK
* checking for code/documentation mismatches ... OK
* checking Rd \usage sections ... OK
* checking Rd contents ... OK
* checking for unstated dependencies in examples ... OK
* checking contents of 'data' directory ... OK
* checking data for non-ASCII characters ... OK
* checking data for ASCII and uncompressed saves ... OK
* checking files in 'vignettes' ... OK
* checking examples ...
** running examples for arch 'i386' ... OK
Examples with CPU (user + system) or elapsed time > 5s
user system elapsed
dense_zones 8.41 0.05 8.45
accumulation 5.43 0.01 5.44
** running examples for arch 'x64' ... OK
Examples with CPU (user + system) or elapsed time > 5s
user system elapsed
dense_zones 12.06 0.02 12.08
accumulation 6.27 0.04 6.31
* checking for unstated dependencies in vignettes ... OK
* checking package vignettes in 'inst/doc' ... OK
* checking running R code from vignettes ... SKIPPED
* checking re-building of vignette outputs ... SKIPPED
* checking PDF version of manual ... OK
* DONE
Status: OK
TFHAZ.Rcheck/00install.out
##############################################################################
##############################################################################
###
### Running command:
###
### C:\cygwin\bin\curl.exe -O http://172.29.0.3/BBS/3.12/bioc/src/contrib/TFHAZ_1.12.0.tar.gz && rm -rf TFHAZ.buildbin-libdir && mkdir TFHAZ.buildbin-libdir && C:\Users\biocbuild\bbs-3.12-bioc\R\bin\R.exe CMD INSTALL --merge-multiarch --build --library=TFHAZ.buildbin-libdir TFHAZ_1.12.0.tar.gz && C:\Users\biocbuild\bbs-3.12-bioc\R\bin\R.exe CMD INSTALL TFHAZ_1.12.0.zip && rm TFHAZ_1.12.0.tar.gz TFHAZ_1.12.0.zip
###
##############################################################################
##############################################################################
% Total % Received % Xferd Average Speed Time Time Time Current
Dload Upload Total Spent Left Speed
0 0 0 0 0 0 0 0 --:--:-- --:--:-- --:--:-- 0
100 2066k 100 2066k 0 0 44.8M 0 --:--:-- --:--:-- --:--:-- 45.8M
install for i386
* installing *source* package 'TFHAZ' ...
** using staged installation
** R
** data
*** moving datasets to lazyload DB
** byte-compile and prepare package for lazy loading
** help
*** installing help indices
converting help for package 'TFHAZ'
finding HTML links ... done
Ishikawa html
TF_acc_w_0 html
TF_dense_w_0 html
TF_dense_w_10 html
TF_dense_w_100 html
TF_dense_w_1000 html
TF_dense_w_10000 html
accumulation html
base_dense_w_10 html
dense_zones html
high_accumulation_zones html
n_zones_PCA html
plot_accumulation html
plot_n_zones html
reg_dense_w_10 html
w_analysis html
** building package indices
** installing vignettes
** testing if installed package can be loaded from temporary location
** testing if installed package can be loaded from final location
** testing if installed package keeps a record of temporary installation path
install for x64
* installing *source* package 'TFHAZ' ...
** testing if installed package can be loaded
* MD5 sums
packaged installation of 'TFHAZ' as TFHAZ_1.12.0.zip
* DONE (TFHAZ)
* installing to library 'C:/Users/biocbuild/bbs-3.12-bioc/R/library'
package 'TFHAZ' successfully unpacked and MD5 sums checked
|
TFHAZ.Rcheck/examples_i386/TFHAZ-Ex.timings
|
TFHAZ.Rcheck/examples_x64/TFHAZ-Ex.timings
|