| Back to Multiple platform build/check report for BioC 3.12 |
|
This page was generated on 2021-05-06 12:35:34 -0400 (Thu, 06 May 2021).
|
To the developers/maintainers of the MAGeCKFlute package: Please make sure to use the following settings in order to reproduce any error or warning you see on this page. |
| Package 991/1974 | Hostname | OS / Arch | INSTALL | BUILD | CHECK | BUILD BIN | ||||||||
| MAGeCKFlute 1.10.0 (landing page) Wubing Zhang
| malbec1 | Linux (Ubuntu 18.04.5 LTS) / x86_64 | OK | OK | OK | |||||||||
| tokay1 | Windows Server 2012 R2 Standard / x64 | OK | OK | OK | OK | |||||||||
| merida1 | macOS 10.14.6 Mojave / x86_64 | OK | OK | OK | OK | |||||||||
| Package: MAGeCKFlute |
| Version: 1.10.0 |
| Command: /Library/Frameworks/R.framework/Versions/Current/Resources/bin/R CMD check --install=check:MAGeCKFlute.install-out.txt --library=/Library/Frameworks/R.framework/Versions/Current/Resources/library --no-vignettes --timings MAGeCKFlute_1.10.0.tar.gz |
| StartedAt: 2021-05-06 03:15:28 -0400 (Thu, 06 May 2021) |
| EndedAt: 2021-05-06 03:19:07 -0400 (Thu, 06 May 2021) |
| EllapsedTime: 218.8 seconds |
| RetCode: 0 |
| Status: OK |
| CheckDir: MAGeCKFlute.Rcheck |
| Warnings: 0 |
##############################################################################
##############################################################################
###
### Running command:
###
### /Library/Frameworks/R.framework/Versions/Current/Resources/bin/R CMD check --install=check:MAGeCKFlute.install-out.txt --library=/Library/Frameworks/R.framework/Versions/Current/Resources/library --no-vignettes --timings MAGeCKFlute_1.10.0.tar.gz
###
##############################################################################
##############################################################################
* using log directory ‘/Users/biocbuild/bbs-3.12-bioc/meat/MAGeCKFlute.Rcheck’
* using R version 4.0.5 (2021-03-31)
* using platform: x86_64-apple-darwin17.0 (64-bit)
* using session charset: UTF-8
* using option ‘--no-vignettes’
* checking for file ‘MAGeCKFlute/DESCRIPTION’ ... OK
* checking extension type ... Package
* this is package ‘MAGeCKFlute’ version ‘1.10.0’
* package encoding: UTF-8
* checking package namespace information ... OK
* checking package dependencies ... OK
* checking if this is a source package ... OK
* checking if there is a namespace ... OK
* checking for hidden files and directories ... NOTE
Found the following hidden files and directories:
.travis.yml
These were most likely included in error. See section ‘Package
structure’ in the ‘Writing R Extensions’ manual.
* checking for portable file names ... OK
* checking for sufficient/correct file permissions ... OK
* checking whether package ‘MAGeCKFlute’ can be installed ... OK
* checking installed package size ... NOTE
installed size is 13.9Mb
sub-directories of 1Mb or more:
extdata 13.5Mb
* checking package directory ... OK
* checking ‘build’ directory ... OK
* checking DESCRIPTION meta-information ... OK
* checking top-level files ... OK
* checking for left-over files ... OK
* checking index information ... OK
* checking package subdirectories ... OK
* checking R files for non-ASCII characters ... OK
* checking R files for syntax errors ... OK
* checking whether the package can be loaded ... OK
* checking whether the package can be loaded with stated dependencies ... OK
* checking whether the package can be unloaded cleanly ... OK
* checking whether the namespace can be loaded with stated dependencies ... OK
* checking whether the namespace can be unloaded cleanly ... OK
* checking dependencies in R code ... NOTE
'library' or 'require' call to ‘pathview’ in package code.
Please use :: or requireNamespace() instead.
See section 'Suggested packages' in the 'Writing R Extensions' manual.
* checking S3 generic/method consistency ... OK
* checking replacement functions ... OK
* checking foreign function calls ... OK
* checking R code for possible problems ... NOTE
arrangePathview: no visible global function definition for ‘pathview’
Undefined global functions or variables:
pathview
* checking Rd files ... OK
* checking Rd metadata ... OK
* checking Rd cross-references ... OK
* checking for missing documentation entries ... OK
* checking for code/documentation mismatches ... OK
* checking Rd \usage sections ... OK
* checking Rd contents ... OK
* checking for unstated dependencies in examples ... OK
* checking files in ‘vignettes’ ... OK
* checking examples ... OK
Examples with CPU (user + system) or elapsed time > 5s
user system elapsed
enrich.ORT 6.796 0.108 6.913
TransGeneID 6.140 0.064 6.215
ReadGMT 3.964 0.081 5.161
* checking for unstated dependencies in vignettes ... OK
* checking package vignettes in ‘inst/doc’ ... OK
* checking running R code from vignettes ... SKIPPED
* checking re-building of vignette outputs ... SKIPPED
* checking PDF version of manual ... OK
* DONE
Status: 4 NOTEs
See
‘/Users/biocbuild/bbs-3.12-bioc/meat/MAGeCKFlute.Rcheck/00check.log’
for details.
MAGeCKFlute.Rcheck/00install.out
############################################################################## ############################################################################## ### ### Running command: ### ### /Library/Frameworks/R.framework/Versions/Current/Resources/bin/R CMD INSTALL MAGeCKFlute ### ############################################################################## ############################################################################## * installing to library ‘/Library/Frameworks/R.framework/Versions/4.0/Resources/library’ * installing *source* package ‘MAGeCKFlute’ ... ** using staged installation ** R ** inst ** byte-compile and prepare package for lazy loading ** help *** installing help indices ** building package indices ** installing vignettes ** testing if installed package can be loaded from temporary location ** testing if installed package can be loaded from final location ** testing if installed package keeps a record of temporary installation path * DONE (MAGeCKFlute)
MAGeCKFlute.Rcheck/MAGeCKFlute-Ex.timings
| name | user | system | elapsed | |
| BarView | 0.219 | 0.016 | 0.236 | |
| BatchRemove | 2.212 | 0.058 | 2.276 | |
| ConsistencyView | 0.431 | 0.024 | 0.457 | |
| CutoffCalling | 0.004 | 0.001 | 0.006 | |
| DensityDiffView | 0.619 | 0.019 | 0.638 | |
| DensityView | 0.577 | 0.009 | 0.587 | |
| EnrichAnalyzer | 0.031 | 0.001 | 0.032 | |
| EnrichedFilter | 0.009 | 0.001 | 0.009 | |
| EnrichedGeneView | 0.010 | 0.001 | 0.011 | |
| EnrichedView | 0.014 | 0.001 | 0.015 | |
| FluteMLE | 0.001 | 0.000 | 0.002 | |
| FluteRRA | 0.002 | 0.000 | 0.003 | |
| HeatmapView | 0.172 | 0.005 | 0.178 | |
| IdentBarView | 0.169 | 0.018 | 0.186 | |
| IncorporateDepmap | 0.096 | 0.006 | 0.101 | |
| MAView | 4.248 | 0.055 | 4.308 | |
| MapRatesView | 0.442 | 0.005 | 0.448 | |
| NormalizeBeta | 0.332 | 0.010 | 0.342 | |
| OmitCommonEssential | 0.120 | 0.003 | 0.123 | |
| RankView | 0.521 | 0.023 | 0.545 | |
| ReadBeta | 0.106 | 0.003 | 0.109 | |
| ReadGMT | 3.964 | 0.081 | 5.161 | |
| ReadRRA | 0.087 | 0.002 | 0.089 | |
| ReadsgRRA | 0.576 | 0.013 | 0.589 | |
| ResembleDepmap | 0.085 | 0.001 | 0.087 | |
| ScatterView | 0.685 | 0.023 | 0.711 | |
| Selector | 0.368 | 0.006 | 0.373 | |
| SquareView | 0.719 | 0.020 | 0.740 | |
| TransGeneID | 6.140 | 0.064 | 6.215 | |
| ViolinView | 0.933 | 0.029 | 0.969 | |
| VolcanoView | 1.228 | 0.042 | 1.273 | |
| arrangePathview | 0.116 | 0.002 | 0.118 | |
| enrich.GSE | 0.012 | 0.001 | 0.013 | |
| enrich.HGT | 3.892 | 0.075 | 3.971 | |
| enrich.ORT | 6.796 | 0.108 | 6.913 | |
| getCols | 0.007 | 0.001 | 0.008 | |
| getGeneAnn | 0.000 | 0.000 | 0.001 | |
| getOrg | 0.001 | 0.000 | 0.001 | |
| getOrtAnn | 0 | 0 | 0 | |
| gsGetter | 0.343 | 0.012 | 0.357 | |
| hclustView | 0.302 | 0.007 | 0.310 | |
| normalize.loess | 0.286 | 0.005 | 0.293 | |
| sgRankView | 1.582 | 0.034 | 1.619 | |