| Back to Multiple platform build/check report for BioC 3.12 |
|
This page was generated on 2021-05-06 12:28:07 -0400 (Thu, 06 May 2021).
|
To the developers/maintainers of the MAGeCKFlute package: Please make sure to use the following settings in order to reproduce any error or warning you see on this page. |
| Package 991/1974 | Hostname | OS / Arch | INSTALL | BUILD | CHECK | BUILD BIN | ||||||||
| MAGeCKFlute 1.10.0 (landing page) Wubing Zhang
| malbec1 | Linux (Ubuntu 18.04.5 LTS) / x86_64 | OK | OK | OK | |||||||||
| tokay1 | Windows Server 2012 R2 Standard / x64 | OK | OK | OK | OK | |||||||||
| merida1 | macOS 10.14.6 Mojave / x86_64 | OK | OK | OK | OK | |||||||||
| Package: MAGeCKFlute |
| Version: 1.10.0 |
| Command: /home/biocbuild/bbs-3.12-bioc/R/bin/R CMD check --install=check:MAGeCKFlute.install-out.txt --library=/home/biocbuild/bbs-3.12-bioc/R/library --no-vignettes --timings MAGeCKFlute_1.10.0.tar.gz |
| StartedAt: 2021-05-06 03:02:11 -0400 (Thu, 06 May 2021) |
| EndedAt: 2021-05-06 03:05:32 -0400 (Thu, 06 May 2021) |
| EllapsedTime: 200.9 seconds |
| RetCode: 0 |
| Status: OK |
| CheckDir: MAGeCKFlute.Rcheck |
| Warnings: 0 |
##############################################################################
##############################################################################
###
### Running command:
###
### /home/biocbuild/bbs-3.12-bioc/R/bin/R CMD check --install=check:MAGeCKFlute.install-out.txt --library=/home/biocbuild/bbs-3.12-bioc/R/library --no-vignettes --timings MAGeCKFlute_1.10.0.tar.gz
###
##############################################################################
##############################################################################
* using log directory ‘/home/biocbuild/bbs-3.12-bioc/meat/MAGeCKFlute.Rcheck’
* using R version 4.0.5 (2021-03-31)
* using platform: x86_64-pc-linux-gnu (64-bit)
* using session charset: UTF-8
* using option ‘--no-vignettes’
* checking for file ‘MAGeCKFlute/DESCRIPTION’ ... OK
* checking extension type ... Package
* this is package ‘MAGeCKFlute’ version ‘1.10.0’
* package encoding: UTF-8
* checking package namespace information ... OK
* checking package dependencies ... OK
* checking if this is a source package ... OK
* checking if there is a namespace ... OK
* checking for hidden files and directories ... NOTE
Found the following hidden files and directories:
.travis.yml
These were most likely included in error. See section ‘Package
structure’ in the ‘Writing R Extensions’ manual.
* checking for portable file names ... OK
* checking for sufficient/correct file permissions ... OK
* checking whether package ‘MAGeCKFlute’ can be installed ... OK
* checking installed package size ... NOTE
installed size is 13.9Mb
sub-directories of 1Mb or more:
extdata 13.5Mb
* checking package directory ... OK
* checking ‘build’ directory ... OK
* checking DESCRIPTION meta-information ... OK
* checking top-level files ... OK
* checking for left-over files ... OK
* checking index information ... OK
* checking package subdirectories ... OK
* checking R files for non-ASCII characters ... OK
* checking R files for syntax errors ... OK
* checking whether the package can be loaded ... OK
* checking whether the package can be loaded with stated dependencies ... OK
* checking whether the package can be unloaded cleanly ... OK
* checking whether the namespace can be loaded with stated dependencies ... OK
* checking whether the namespace can be unloaded cleanly ... OK
* checking dependencies in R code ... NOTE
'library' or 'require' call to ‘pathview’ in package code.
Please use :: or requireNamespace() instead.
See section 'Suggested packages' in the 'Writing R Extensions' manual.
* checking S3 generic/method consistency ... OK
* checking replacement functions ... OK
* checking foreign function calls ... OK
* checking R code for possible problems ... NOTE
arrangePathview: no visible global function definition for ‘pathview’
Undefined global functions or variables:
pathview
* checking Rd files ... OK
* checking Rd metadata ... OK
* checking Rd cross-references ... OK
* checking for missing documentation entries ... OK
* checking for code/documentation mismatches ... OK
* checking Rd \usage sections ... OK
* checking Rd contents ... OK
* checking for unstated dependencies in examples ... OK
* checking files in ‘vignettes’ ... OK
* checking examples ... OK
Examples with CPU (user + system) or elapsed time > 5s
user system elapsed
enrich.ORT 8.576 0.008 8.598
TransGeneID 6.944 0.032 6.993
ReadGMT 4.120 0.028 5.276
* checking for unstated dependencies in vignettes ... OK
* checking package vignettes in ‘inst/doc’ ... OK
* checking running R code from vignettes ... SKIPPED
* checking re-building of vignette outputs ... SKIPPED
* checking PDF version of manual ... OK
* DONE
Status: 4 NOTEs
See
‘/home/biocbuild/bbs-3.12-bioc/meat/MAGeCKFlute.Rcheck/00check.log’
for details.
MAGeCKFlute.Rcheck/00install.out
############################################################################## ############################################################################## ### ### Running command: ### ### /home/biocbuild/bbs-3.12-bioc/R/bin/R CMD INSTALL MAGeCKFlute ### ############################################################################## ############################################################################## * installing to library ‘/home/biocbuild/bbs-3.12-bioc/R/library’ * installing *source* package ‘MAGeCKFlute’ ... ** using staged installation ** R ** inst ** byte-compile and prepare package for lazy loading ** help *** installing help indices ** building package indices ** installing vignettes ** testing if installed package can be loaded from temporary location ** testing if installed package can be loaded from final location ** testing if installed package keeps a record of temporary installation path * DONE (MAGeCKFlute)
MAGeCKFlute.Rcheck/MAGeCKFlute-Ex.timings
| name | user | system | elapsed | |
| BarView | 0.148 | 0.004 | 0.151 | |
| BatchRemove | 2.488 | 0.308 | 2.817 | |
| ConsistencyView | 0.392 | 0.012 | 0.415 | |
| CutoffCalling | 0.004 | 0.000 | 0.004 | |
| DensityDiffView | 0.432 | 0.012 | 0.442 | |
| DensityView | 0.416 | 0.000 | 0.417 | |
| EnrichAnalyzer | 0.028 | 0.004 | 0.045 | |
| EnrichedFilter | 0.008 | 0.000 | 0.009 | |
| EnrichedGeneView | 0.008 | 0.000 | 0.010 | |
| EnrichedView | 0.012 | 0.000 | 0.011 | |
| FluteMLE | 0.000 | 0.000 | 0.001 | |
| FluteRRA | 0.004 | 0.000 | 0.001 | |
| HeatmapView | 0.124 | 0.000 | 0.123 | |
| IdentBarView | 0.104 | 0.012 | 0.115 | |
| IncorporateDepmap | 0.072 | 0.004 | 0.078 | |
| MAView | 2.636 | 0.036 | 2.681 | |
| MapRatesView | 0.368 | 0.000 | 0.370 | |
| NormalizeBeta | 0.352 | 0.004 | 0.372 | |
| OmitCommonEssential | 0.116 | 0.000 | 0.119 | |
| RankView | 0.612 | 0.004 | 0.614 | |
| ReadBeta | 0.080 | 0.000 | 0.081 | |
| ReadGMT | 4.120 | 0.028 | 5.276 | |
| ReadRRA | 0.112 | 0.000 | 0.112 | |
| ReadsgRRA | 1.176 | 0.004 | 1.180 | |
| ResembleDepmap | 0.120 | 0.000 | 0.121 | |
| ScatterView | 1.136 | 0.008 | 1.148 | |
| Selector | 0.364 | 0.008 | 0.375 | |
| SquareView | 1.160 | 0.000 | 1.164 | |
| TransGeneID | 6.944 | 0.032 | 6.993 | |
| ViolinView | 0.652 | 0.004 | 0.657 | |
| VolcanoView | 1.140 | 0.008 | 1.149 | |
| arrangePathview | 0.112 | 0.000 | 0.115 | |
| enrich.GSE | 0.016 | 0.000 | 0.015 | |
| enrich.HGT | 4.380 | 0.004 | 4.396 | |
| enrich.ORT | 8.576 | 0.008 | 8.598 | |
| getCols | 0.004 | 0.000 | 0.005 | |
| getGeneAnn | 0.000 | 0.000 | 0.001 | |
| getOrg | 0.000 | 0.000 | 0.001 | |
| getOrtAnn | 0.004 | 0.000 | 0.000 | |
| gsGetter | 0.420 | 0.004 | 0.432 | |
| hclustView | 0.316 | 0.004 | 0.321 | |
| normalize.loess | 0.276 | 0.000 | 0.274 | |
| sgRankView | 1.784 | 0.000 | 1.785 | |