| Back to Multiple platform build/check report for BioC 3.12 |
|
This page was generated on 2021-05-06 12:31:32 -0400 (Thu, 06 May 2021).
|
To the developers/maintainers of the GOstats package: Please make sure to use the following settings in order to reproduce any error or warning you see on this page. |
| Package 767/1974 | Hostname | OS / Arch | INSTALL | BUILD | CHECK | BUILD BIN | ||||||||
| GOstats 2.56.0 (landing page) Bioconductor Package Maintainer
| malbec1 | Linux (Ubuntu 18.04.5 LTS) / x86_64 | OK | OK | OK | |||||||||
| tokay1 | Windows Server 2012 R2 Standard / x64 | OK | OK | WARNINGS | OK | |||||||||
| merida1 | macOS 10.14.6 Mojave / x86_64 | OK | OK | OK | OK | |||||||||
| Package: GOstats |
| Version: 2.56.0 |
| Command: C:\cygwin\bin\curl.exe -O http://172.29.0.3/BBS/3.12/bioc/src/contrib/GOstats_2.56.0.tar.gz && rm -rf GOstats.buildbin-libdir && mkdir GOstats.buildbin-libdir && C:\Users\biocbuild\bbs-3.12-bioc\R\bin\R.exe CMD INSTALL --merge-multiarch --build --library=GOstats.buildbin-libdir GOstats_2.56.0.tar.gz && C:\Users\biocbuild\bbs-3.12-bioc\R\bin\R.exe CMD INSTALL GOstats_2.56.0.zip && rm GOstats_2.56.0.tar.gz GOstats_2.56.0.zip |
| StartedAt: 2021-05-05 18:10:08 -0400 (Wed, 05 May 2021) |
| EndedAt: 2021-05-05 18:11:03 -0400 (Wed, 05 May 2021) |
| EllapsedTime: 55.7 seconds |
| RetCode: 0 |
| Status: OK |
##############################################################################
##############################################################################
###
### Running command:
###
### C:\cygwin\bin\curl.exe -O http://172.29.0.3/BBS/3.12/bioc/src/contrib/GOstats_2.56.0.tar.gz && rm -rf GOstats.buildbin-libdir && mkdir GOstats.buildbin-libdir && C:\Users\biocbuild\bbs-3.12-bioc\R\bin\R.exe CMD INSTALL --merge-multiarch --build --library=GOstats.buildbin-libdir GOstats_2.56.0.tar.gz && C:\Users\biocbuild\bbs-3.12-bioc\R\bin\R.exe CMD INSTALL GOstats_2.56.0.zip && rm GOstats_2.56.0.tar.gz GOstats_2.56.0.zip
###
##############################################################################
##############################################################################
% Total % Received % Xferd Average Speed Time Time Time Current
Dload Upload Total Spent Left Speed
0 0 0 0 0 0 0 0 --:--:-- --:--:-- --:--:-- 0
100 1570k 100 1570k 0 0 31.3M 0 --:--:-- --:--:-- --:--:-- 31.9M
install for i386
* installing *source* package 'GOstats' ...
** using staged installation
** R
** data
** inst
** byte-compile and prepare package for lazy loading
** help
*** installing help indices
converting help for package 'GOstats'
finding HTML links ... done
GOHyperGResult-class html
GOstats-defunct html
GOstats-package html
Ndists html
OBOHyperGResult-class html
compCorrGraph html
compGdist html
hyperGTest html
Rd warning: C:/Users/biocbuild/bbs-3.12-bioc/tmpdir/RtmpYxjiKK/R.INSTALL156868f16793/GOstats/man/hyperGTest.Rd:47: file link 'geneGoHyperGeoTest' in package 'Category' does not exist and so has been treated as a topic
Rd warning: C:/Users/biocbuild/bbs-3.12-bioc/tmpdir/RtmpYxjiKK/R.INSTALL156868f16793/GOstats/man/hyperGTest.Rd:48: file link 'geneKeggHyperGeoTest' in package 'Category' does not exist and so has been treated as a topic
idx2dimnames html
makeGOGraph html
notConn html
oneGOGraph html
probeSetSummary html
shortestPath html
simLL html
termGraphs html
triadCensus html
** building package indices
** installing vignettes
** testing if installed package can be loaded from temporary location
** testing if installed package can be loaded from final location
** testing if installed package keeps a record of temporary installation path
install for x64
* installing *source* package 'GOstats' ...
** testing if installed package can be loaded
* MD5 sums
packaged installation of 'GOstats' as GOstats_2.56.0.zip
* DONE (GOstats)
* installing to library 'C:/Users/biocbuild/bbs-3.12-bioc/R/library'
package 'GOstats' successfully unpacked and MD5 sums checked