| Back to Multiple platform build/check report for BioC 3.12 |
|
This page was generated on 2021-05-06 12:31:32 -0400 (Thu, 06 May 2021).
|
To the developers/maintainers of the GOstats package: Please make sure to use the following settings in order to reproduce any error or warning you see on this page. |
| Package 767/1974 | Hostname | OS / Arch | INSTALL | BUILD | CHECK | BUILD BIN | ||||||||
| GOstats 2.56.0 (landing page) Bioconductor Package Maintainer
| malbec1 | Linux (Ubuntu 18.04.5 LTS) / x86_64 | OK | OK | OK | |||||||||
| tokay1 | Windows Server 2012 R2 Standard / x64 | OK | OK | WARNINGS | OK | |||||||||
| merida1 | macOS 10.14.6 Mojave / x86_64 | OK | OK | OK | OK | |||||||||
| Package: GOstats |
| Version: 2.56.0 |
| Command: rm -rf GOstats.buildbin-libdir && mkdir GOstats.buildbin-libdir && C:\Users\biocbuild\bbs-3.12-bioc\R\bin\R.exe CMD INSTALL --merge-multiarch --build --library=GOstats.buildbin-libdir GOstats_2.56.0.tar.gz |
| StartedAt: 2021-05-06 09:13:24 -0400 (Thu, 06 May 2021) |
| EndedAt: 2021-05-06 09:13:53 -0400 (Thu, 06 May 2021) |
| EllapsedTime: 28.9 seconds |
| RetCode: 0 |
| Status: OK |
| PackageFile: GOstats_2.56.0.zip |
| PackageFileSize: 2.223 MiB |
##############################################################################
##############################################################################
###
### Running command:
###
### rm -rf GOstats.buildbin-libdir && mkdir GOstats.buildbin-libdir && C:\Users\biocbuild\bbs-3.12-bioc\R\bin\R.exe CMD INSTALL --merge-multiarch --build --library=GOstats.buildbin-libdir GOstats_2.56.0.tar.gz
###
##############################################################################
##############################################################################
install for i386
* installing *source* package 'GOstats' ...
** using staged installation
** R
** data
** inst
** byte-compile and prepare package for lazy loading
** help
*** installing help indices
converting help for package 'GOstats'
finding HTML links ... done
GOHyperGResult-class html
GOstats-defunct html
GOstats-package html
Ndists html
OBOHyperGResult-class html
compCorrGraph html
compGdist html
hyperGTest html
Rd warning: C:/Users/biocbuild/bbs-3.12-bioc/tmpdir/RtmpiCjvBz/R.INSTALL3cdc7bbe7c78/GOstats/man/hyperGTest.Rd:47: file link 'geneGoHyperGeoTest' in package 'Category' does not exist and so has been treated as a topic
Rd warning: C:/Users/biocbuild/bbs-3.12-bioc/tmpdir/RtmpiCjvBz/R.INSTALL3cdc7bbe7c78/GOstats/man/hyperGTest.Rd:48: file link 'geneKeggHyperGeoTest' in package 'Category' does not exist and so has been treated as a topic
idx2dimnames html
makeGOGraph html
notConn html
oneGOGraph html
probeSetSummary html
shortestPath html
simLL html
termGraphs html
triadCensus html
** building package indices
** installing vignettes
** testing if installed package can be loaded from temporary location
** testing if installed package can be loaded from final location
** testing if installed package keeps a record of temporary installation path
install for x64
* installing *source* package 'GOstats' ...
** testing if installed package can be loaded
* MD5 sums
packaged installation of 'GOstats' as GOstats_2.56.0.zip
* DONE (GOstats)