| Back to Multiple platform build/check report for BioC 3.12 |
|
This page was generated on 2021-05-06 12:30:41 -0400 (Thu, 06 May 2021).
|
To the developers/maintainers of the DEqMS package: Please make sure to use the following settings in order to reproduce any error or warning you see on this page. |
| Package 459/1974 | Hostname | OS / Arch | INSTALL | BUILD | CHECK | BUILD BIN | ||||||||
| DEqMS 1.8.0 (landing page) Yafeng Zhu
| malbec1 | Linux (Ubuntu 18.04.5 LTS) / x86_64 | OK | OK | OK | |||||||||
| tokay1 | Windows Server 2012 R2 Standard / x64 | OK | OK | OK | OK | |||||||||
| merida1 | macOS 10.14.6 Mojave / x86_64 | OK | OK | OK | OK | |||||||||
| Package: DEqMS |
| Version: 1.8.0 |
| Command: C:\cygwin\bin\curl.exe -O http://172.29.0.3/BBS/3.12/bioc/src/contrib/DEqMS_1.8.0.tar.gz && rm -rf DEqMS.buildbin-libdir && mkdir DEqMS.buildbin-libdir && C:\Users\biocbuild\bbs-3.12-bioc\R\bin\R.exe CMD INSTALL --merge-multiarch --build --library=DEqMS.buildbin-libdir DEqMS_1.8.0.tar.gz && C:\Users\biocbuild\bbs-3.12-bioc\R\bin\R.exe CMD INSTALL DEqMS_1.8.0.zip && rm DEqMS_1.8.0.tar.gz DEqMS_1.8.0.zip |
| StartedAt: 2021-05-05 17:22:38 -0400 (Wed, 05 May 2021) |
| EndedAt: 2021-05-05 17:22:59 -0400 (Wed, 05 May 2021) |
| EllapsedTime: 21.2 seconds |
| RetCode: 0 |
| Status: OK |
##############################################################################
##############################################################################
###
### Running command:
###
### C:\cygwin\bin\curl.exe -O http://172.29.0.3/BBS/3.12/bioc/src/contrib/DEqMS_1.8.0.tar.gz && rm -rf DEqMS.buildbin-libdir && mkdir DEqMS.buildbin-libdir && C:\Users\biocbuild\bbs-3.12-bioc\R\bin\R.exe CMD INSTALL --merge-multiarch --build --library=DEqMS.buildbin-libdir DEqMS_1.8.0.tar.gz && C:\Users\biocbuild\bbs-3.12-bioc\R\bin\R.exe CMD INSTALL DEqMS_1.8.0.zip && rm DEqMS_1.8.0.tar.gz DEqMS_1.8.0.zip
###
##############################################################################
##############################################################################
% Total % Received % Xferd Average Speed Time Time Time Current
Dload Upload Total Spent Left Speed
0 0 0 0 0 0 0 0 --:--:-- --:--:-- --:--:-- 0
100 109k 100 109k 0 0 6137k 0 --:--:-- --:--:-- --:--:-- 6433k
install for i386
* installing *source* package 'DEqMS' ...
** using staged installation
** R
** inst
** byte-compile and prepare package for lazy loading
** help
*** installing help indices
converting help for package 'DEqMS'
finding HTML links ... done
Residualplot html
VarianceBoxplot html
VarianceScatterplot html
equalMedianNormalization html
farmsSummary html
medianSummary html
medianSweeping html
medpolishSummary html
outputResult html
peptideProfilePlot html
spectraCounteBayes html
** building package indices
** installing vignettes
** testing if installed package can be loaded from temporary location
** testing if installed package can be loaded from final location
** testing if installed package keeps a record of temporary installation path
install for x64
* installing *source* package 'DEqMS' ...
** testing if installed package can be loaded
* MD5 sums
packaged installation of 'DEqMS' as DEqMS_1.8.0.zip
* DONE (DEqMS)
* installing to library 'C:/Users/biocbuild/bbs-3.12-bioc/R/library'
package 'DEqMS' successfully unpacked and MD5 sums checked