| Back to Multiple platform build/check report for BioC 3.12 |
|
This page was generated on 2021-05-06 12:34:47 -0400 (Thu, 06 May 2021).
|
To the developers/maintainers of the DEqMS package: Please make sure to use the following settings in order to reproduce any error or warning you see on this page. |
| Package 459/1974 | Hostname | OS / Arch | INSTALL | BUILD | CHECK | BUILD BIN | ||||||||
| DEqMS 1.8.0 (landing page) Yafeng Zhu
| malbec1 | Linux (Ubuntu 18.04.5 LTS) / x86_64 | OK | OK | OK | |||||||||
| tokay1 | Windows Server 2012 R2 Standard / x64 | OK | OK | OK | OK | |||||||||
| merida1 | macOS 10.14.6 Mojave / x86_64 | OK | OK | OK | OK | |||||||||
| Package: DEqMS |
| Version: 1.8.0 |
| Command: /Library/Frameworks/R.framework/Versions/Current/Resources/bin/R CMD check --install=check:DEqMS.install-out.txt --library=/Library/Frameworks/R.framework/Versions/Current/Resources/library --no-vignettes --timings DEqMS_1.8.0.tar.gz |
| StartedAt: 2021-05-06 01:02:50 -0400 (Thu, 06 May 2021) |
| EndedAt: 2021-05-06 01:07:55 -0400 (Thu, 06 May 2021) |
| EllapsedTime: 304.7 seconds |
| RetCode: 0 |
| Status: OK |
| CheckDir: DEqMS.Rcheck |
| Warnings: 0 |
##############################################################################
##############################################################################
###
### Running command:
###
### /Library/Frameworks/R.framework/Versions/Current/Resources/bin/R CMD check --install=check:DEqMS.install-out.txt --library=/Library/Frameworks/R.framework/Versions/Current/Resources/library --no-vignettes --timings DEqMS_1.8.0.tar.gz
###
##############################################################################
##############################################################################
* using log directory ‘/Users/biocbuild/bbs-3.12-bioc/meat/DEqMS.Rcheck’
* using R version 4.0.5 (2021-03-31)
* using platform: x86_64-apple-darwin17.0 (64-bit)
* using session charset: UTF-8
* using option ‘--no-vignettes’
* checking for file ‘DEqMS/DESCRIPTION’ ... OK
* this is package ‘DEqMS’ version ‘1.8.0’
* checking package namespace information ... OK
* checking package dependencies ... OK
* checking if this is a source package ... OK
* checking if there is a namespace ... OK
* checking for hidden files and directories ... OK
* checking for portable file names ... OK
* checking for sufficient/correct file permissions ... OK
* checking whether package ‘DEqMS’ can be installed ... OK
* checking installed package size ... OK
* checking package directory ... OK
* checking ‘build’ directory ... OK
* checking DESCRIPTION meta-information ... NOTE
Malformed Title field: should not end in a period.
* checking top-level files ... OK
* checking for left-over files ... OK
* checking index information ... OK
* checking package subdirectories ... OK
* checking R files for non-ASCII characters ... OK
* checking R files for syntax errors ... OK
* checking whether the package can be loaded ... OK
* checking whether the package can be loaded with stated dependencies ... OK
* checking whether the package can be unloaded cleanly ... OK
* checking whether the namespace can be loaded with stated dependencies ... OK
* checking whether the namespace can be unloaded cleanly ... OK
* checking dependencies in R code ... OK
* checking S3 generic/method consistency ... OK
* checking replacement functions ... OK
* checking foreign function calls ... OK
* checking R code for possible problems ... NOTE
Residualplot: no visible global function definition for ‘fitted’
Residualplot: no visible global function definition for ‘residuals’
VarianceScatterplot: no visible global function definition for ‘fitted’
peptideProfilePlot: no visible binding for global variable ‘variable’
peptideProfilePlot: no visible binding for global variable ‘value’
peptideProfilePlot: no visible binding for global variable ‘PSM_id’
peptideProfilePlot: no visible binding for global variable ‘Peptide’
spectraCounteBayes: no visible global function definition for ‘fitted’
Undefined global functions or variables:
PSM_id Peptide fitted residuals value variable
Consider adding
importFrom("stats", "fitted", "residuals")
to your NAMESPACE file.
* checking Rd files ... OK
* checking Rd metadata ... OK
* checking Rd cross-references ... OK
* checking for missing documentation entries ... OK
* checking for code/documentation mismatches ... OK
* checking Rd \usage sections ... OK
* checking Rd contents ... OK
* checking for unstated dependencies in examples ... OK
* checking files in ‘vignettes’ ... OK
* checking examples ... OK
Examples with CPU (user + system) or elapsed time > 5s
user system elapsed
medpolishSummary 109.643 0.366 110.461
farmsSummary 42.392 0.713 45.406
Residualplot 17.490 0.959 18.815
VarianceBoxplot 10.658 0.194 11.062
VarianceScatterplot 10.381 0.194 10.818
medianSweeping 10.140 0.165 13.727
equalMedianNormalization 10.104 0.160 10.461
spectraCounteBayes 9.670 0.112 9.969
medianSummary 9.633 0.133 10.656
outputResult 8.868 0.123 9.244
* checking for unstated dependencies in vignettes ... OK
* checking package vignettes in ‘inst/doc’ ... OK
* checking running R code from vignettes ... SKIPPED
* checking re-building of vignette outputs ... SKIPPED
* checking PDF version of manual ... OK
* DONE
Status: 2 NOTEs
See
‘/Users/biocbuild/bbs-3.12-bioc/meat/DEqMS.Rcheck/00check.log’
for details.
DEqMS.Rcheck/00install.out
############################################################################## ############################################################################## ### ### Running command: ### ### /Library/Frameworks/R.framework/Versions/Current/Resources/bin/R CMD INSTALL DEqMS ### ############################################################################## ############################################################################## * installing to library ‘/Library/Frameworks/R.framework/Versions/4.0/Resources/library’ * installing *source* package ‘DEqMS’ ... ** using staged installation ** R ** inst ** byte-compile and prepare package for lazy loading ** help *** installing help indices ** building package indices ** installing vignettes ** testing if installed package can be loaded from temporary location ** testing if installed package can be loaded from final location ** testing if installed package keeps a record of temporary installation path * DONE (DEqMS)
DEqMS.Rcheck/DEqMS-Ex.timings
| name | user | system | elapsed | |
| Residualplot | 17.490 | 0.959 | 18.815 | |
| VarianceBoxplot | 10.658 | 0.194 | 11.062 | |
| VarianceScatterplot | 10.381 | 0.194 | 10.818 | |
| equalMedianNormalization | 10.104 | 0.160 | 10.461 | |
| farmsSummary | 42.392 | 0.713 | 45.406 | |
| medianSummary | 9.633 | 0.133 | 10.656 | |
| medianSweeping | 10.140 | 0.165 | 13.727 | |
| medpolishSummary | 109.643 | 0.366 | 110.461 | |
| outputResult | 8.868 | 0.123 | 9.244 | |
| peptideProfilePlot | 4.103 | 0.074 | 4.351 | |
| spectraCounteBayes | 9.670 | 0.112 | 9.969 | |