| Back to Multiple platform build/check report for BioC 3.12 |
|
This page was generated on 2021-05-06 12:33:05 -0400 (Thu, 06 May 2021).
|
To the developers/maintainers of the RadioGx package: Please make sure to use the following settings in order to reproduce any error or warning you see on this page. |
| Package 1445/1974 | Hostname | OS / Arch | INSTALL | BUILD | CHECK | BUILD BIN | ||||||||
| RadioGx 1.0.0 (landing page) Benjamin Haibe-Kains
| malbec1 | Linux (Ubuntu 18.04.5 LTS) / x86_64 | OK | OK | OK | |||||||||
| tokay1 | Windows Server 2012 R2 Standard / x64 | OK | OK | OK | OK | |||||||||
| merida1 | macOS 10.14.6 Mojave / x86_64 | OK | OK | OK | OK | |||||||||
| Package: RadioGx |
| Version: 1.0.0 |
| Command: C:\cygwin\bin\curl.exe -O http://172.29.0.3/BBS/3.12/bioc/src/contrib/RadioGx_1.0.0.tar.gz && rm -rf RadioGx.buildbin-libdir && mkdir RadioGx.buildbin-libdir && C:\Users\biocbuild\bbs-3.12-bioc\R\bin\R.exe CMD INSTALL --merge-multiarch --build --library=RadioGx.buildbin-libdir RadioGx_1.0.0.tar.gz && C:\Users\biocbuild\bbs-3.12-bioc\R\bin\R.exe CMD INSTALL RadioGx_1.0.0.zip && rm RadioGx_1.0.0.tar.gz RadioGx_1.0.0.zip |
| StartedAt: 2021-05-05 17:46:05 -0400 (Wed, 05 May 2021) |
| EndedAt: 2021-05-05 17:47:15 -0400 (Wed, 05 May 2021) |
| EllapsedTime: 69.5 seconds |
| RetCode: 0 |
| Status: OK |
##############################################################################
##############################################################################
###
### Running command:
###
### C:\cygwin\bin\curl.exe -O http://172.29.0.3/BBS/3.12/bioc/src/contrib/RadioGx_1.0.0.tar.gz && rm -rf RadioGx.buildbin-libdir && mkdir RadioGx.buildbin-libdir && C:\Users\biocbuild\bbs-3.12-bioc\R\bin\R.exe CMD INSTALL --merge-multiarch --build --library=RadioGx.buildbin-libdir RadioGx_1.0.0.tar.gz && C:\Users\biocbuild\bbs-3.12-bioc\R\bin\R.exe CMD INSTALL RadioGx_1.0.0.zip && rm RadioGx_1.0.0.tar.gz RadioGx_1.0.0.zip
###
##############################################################################
##############################################################################
% Total % Received % Xferd Average Speed Time Time Time Current
Dload Upload Total Spent Left Speed
0 0 0 0 0 0 0 0 --:--:-- --:--:-- --:--:-- 0
100 2237k 100 2237k 0 0 48.2M 0 --:--:-- --:--:-- --:--:-- 49.6M
install for i386
* installing *source* package 'RadioGx' ...
** using staged installation
** R
** data
*** moving datasets to lazyload DB
** inst
** byte-compile and prepare package for lazy loading
** help
*** installing help indices
converting help for package 'RadioGx'
finding HTML links ... done
RadioSet-class html
RadioSet html
RadioSig html
availableRSets html
checkRSetStructure html
clevelandSmall html
computeAUC html
computeD10 html
computeSF2 html
dim-RadioSet-method html
doseResponseCurve html
downloadRSet html
linearQuadraticModel html
mDataNames-RadioSet-method html
plotCurve html
radSensitivitySig html
radiationInfo-set html
radiationInfo html
radiationTypes-set html
radiationTypes html
show-RadioSet-method html
show-RadioSig-method html
showSigAnnot-RadioSig-method html
sub-RadioSet-ANY-ANY-ANY-method html
subsetTo-RadioSet-method html
summarizeMolecularProfiles-RadioSet-method
html
summarizeSensitivityProfiles-RadioSet-method
html
** building package indices
** installing vignettes
** testing if installed package can be loaded from temporary location
** testing if installed package can be loaded from final location
** testing if installed package keeps a record of temporary installation path
install for x64
* installing *source* package 'RadioGx' ...
** testing if installed package can be loaded
* MD5 sums
packaged installation of 'RadioGx' as RadioGx_1.0.0.zip
* DONE (RadioGx)
* installing to library 'C:/Users/biocbuild/bbs-3.12-bioc/R/library'
package 'RadioGx' successfully unpacked and MD5 sums checked