| Back to Multiple platform build/check report for BioC 3.12 |
|
This page was generated on 2021-05-06 12:28:06 -0400 (Thu, 06 May 2021).
|
To the developers/maintainers of the LowMACA package: Please make sure to use the following settings in order to reproduce any error or warning you see on this page. |
| Package 972/1974 | Hostname | OS / Arch | INSTALL | BUILD | CHECK | BUILD BIN | ||||||||
| LowMACA 1.20.0 (landing page) Stefano de Pretis
| malbec1 | Linux (Ubuntu 18.04.5 LTS) / x86_64 | OK | OK | OK | |||||||||
| tokay1 | Windows Server 2012 R2 Standard / x64 | OK | OK | OK | OK | |||||||||
| merida1 | macOS 10.14.6 Mojave / x86_64 | OK | OK | OK | OK | |||||||||
| Package: LowMACA |
| Version: 1.20.0 |
| Command: /home/biocbuild/bbs-3.12-bioc/R/bin/R CMD check --install=check:LowMACA.install-out.txt --library=/home/biocbuild/bbs-3.12-bioc/R/library --no-vignettes --timings LowMACA_1.20.0.tar.gz |
| StartedAt: 2021-05-06 02:59:23 -0400 (Thu, 06 May 2021) |
| EndedAt: 2021-05-06 03:08:04 -0400 (Thu, 06 May 2021) |
| EllapsedTime: 520.6 seconds |
| RetCode: 0 |
| Status: OK |
| CheckDir: LowMACA.Rcheck |
| Warnings: 0 |
##############################################################################
##############################################################################
###
### Running command:
###
### /home/biocbuild/bbs-3.12-bioc/R/bin/R CMD check --install=check:LowMACA.install-out.txt --library=/home/biocbuild/bbs-3.12-bioc/R/library --no-vignettes --timings LowMACA_1.20.0.tar.gz
###
##############################################################################
##############################################################################
* using log directory ‘/home/biocbuild/bbs-3.12-bioc/meat/LowMACA.Rcheck’
* using R version 4.0.5 (2021-03-31)
* using platform: x86_64-pc-linux-gnu (64-bit)
* using session charset: UTF-8
* using option ‘--no-vignettes’
* checking for file ‘LowMACA/DESCRIPTION’ ... OK
* checking extension type ... Package
* this is package ‘LowMACA’ version ‘1.20.0’
* checking package namespace information ... OK
* checking package dependencies ... OK
* checking if this is a source package ... OK
* checking if there is a namespace ... OK
* checking for hidden files and directories ... OK
* checking for portable file names ... OK
* checking for sufficient/correct file permissions ... OK
* checking whether package ‘LowMACA’ can be installed ... OK
* checking installed package size ... OK
* checking package directory ... OK
* checking ‘build’ directory ... OK
* checking DESCRIPTION meta-information ... OK
* checking top-level files ... OK
* checking for left-over files ... OK
* checking index information ... OK
* checking package subdirectories ... OK
* checking R files for non-ASCII characters ... OK
* checking R files for syntax errors ... OK
* checking whether the package can be loaded ... OK
* checking whether the package can be loaded with stated dependencies ... OK
* checking whether the package can be unloaded cleanly ... OK
* checking whether the namespace can be loaded with stated dependencies ... OK
* checking whether the namespace can be unloaded cleanly ... OK
* checking dependencies in R code ... OK
* checking S3 generic/method consistency ... OK
* checking replacement functions ... OK
* checking foreign function calls ... OK
* checking R code for possible problems ... OK
* checking Rd files ... OK
* checking Rd metadata ... OK
* checking Rd cross-references ... OK
* checking for missing documentation entries ... OK
* checking for code/documentation mismatches ... OK
* checking Rd \usage sections ... OK
* checking Rd contents ... OK
* checking for unstated dependencies in examples ... OK
* checking contents of ‘data’ directory ... OK
* checking data for non-ASCII characters ... OK
* checking data for ASCII and uncompressed saves ... OK
* checking files in ‘vignettes’ ... OK
* checking examples ... OK
Examples with CPU (user + system) or elapsed time > 5s
user system elapsed
allPfamAnalysis 174.364 7.888 183.183
lfmSingleSequence 93.100 3.988 97.612
setup 13.364 0.828 32.753
LowMACA-class 11.884 0.456 21.375
LowMACA-package 7.460 0.176 12.837
alignSequences 5.640 0.500 17.208
lmPlotSingleSequence 5.040 0.148 5.204
* checking for unstated dependencies in vignettes ... OK
* checking package vignettes in ‘inst/doc’ ... OK
* checking running R code from vignettes ... SKIPPED
* checking re-building of vignette outputs ... SKIPPED
* checking PDF version of manual ... OK
* DONE
Status: OK
LowMACA.Rcheck/00install.out
############################################################################## ############################################################################## ### ### Running command: ### ### /home/biocbuild/bbs-3.12-bioc/R/bin/R CMD INSTALL LowMACA ### ############################################################################## ############################################################################## * installing to library ‘/home/biocbuild/bbs-3.12-bioc/R/library’ * installing *source* package ‘LowMACA’ ... ** using staged installation ** R ** data ** inst ** byte-compile and prepare package for lazy loading ** help *** installing help indices ** building package indices ** installing vignettes ** testing if installed package can be loaded from temporary location Checking if clustalo is in the PATH... Checking clustalo Version... Checking perl installation... Checking perl modules XML::Simple and LWP... ** testing if installed package can be loaded from final location Checking if clustalo is in the PATH... Checking clustalo Version... Checking perl installation... Checking perl modules XML::Simple and LWP... ** testing if installed package keeps a record of temporary installation path * DONE (LowMACA)
LowMACA.Rcheck/LowMACA-Ex.timings
| name | user | system | elapsed | |
| BLOSUM62 | 0.020 | 0.000 | 0.018 | |
| LowMACA-class | 11.884 | 0.456 | 21.375 | |
| LowMACA-package | 7.460 | 0.176 | 12.837 | |
| LowMACA_AML | 0.036 | 0.004 | 0.037 | |
| alignSequences | 5.640 | 0.500 | 17.208 | |
| allPfamAnalysis | 174.364 | 7.888 | 183.183 | |
| bpAll | 1.052 | 0.008 | 1.059 | |
| entropy | 1.016 | 0.000 | 1.015 | |
| getMutations | 1.760 | 0.148 | 3.958 | |
| lfm | 1.920 | 0.012 | 1.935 | |
| lfmSingleSequence | 93.100 | 3.988 | 97.612 | |
| lmAlignment | 0.060 | 0.000 | 0.061 | |
| lmEntropy | 0.876 | 0.020 | 0.897 | |
| lmMutations | 0.048 | 0.000 | 0.048 | |
| lmObj | 0.152 | 0.004 | 0.159 | |
| lmParams | 0.688 | 0.108 | 0.821 | |
| lmPlot | 4.488 | 0.064 | 4.560 | |
| lmPlotSingleSequence | 5.040 | 0.148 | 5.204 | |
| mapMutations | 0.844 | 0.008 | 0.854 | |
| newLowMACA | 3.160 | 0.048 | 3.213 | |
| nullProfile | 0.916 | 0.000 | 0.917 | |
| parallelize | 0.812 | 0.000 | 0.812 | |
| protter | 1.196 | 0.000 | 3.322 | |
| setup | 13.364 | 0.828 | 32.753 | |
| showTumorType | 0.072 | 0.068 | 0.205 | |