| Back to Multiple platform build/check report for BioC 3.12 |
|
This page was generated on 2021-05-06 12:31:43 -0400 (Thu, 06 May 2021).
|
To the developers/maintainers of the GWENA package: Please make sure to use the following settings in order to reproduce any error or warning you see on this page. |
| Package 811/1974 | Hostname | OS / Arch | INSTALL | BUILD | CHECK | BUILD BIN | ||||||||
| GWENA 1.0.1 (landing page) Gwenaƫlle Lemoine
| malbec1 | Linux (Ubuntu 18.04.5 LTS) / x86_64 | OK | OK | OK | |||||||||
| tokay1 | Windows Server 2012 R2 Standard / x64 | OK | OK | OK | OK | |||||||||
| merida1 | macOS 10.14.6 Mojave / x86_64 | OK | OK | OK | OK | |||||||||
| Package: GWENA |
| Version: 1.0.1 |
| Command: rm -rf GWENA.buildbin-libdir && mkdir GWENA.buildbin-libdir && C:\Users\biocbuild\bbs-3.12-bioc\R\bin\R.exe CMD INSTALL --merge-multiarch --build --library=GWENA.buildbin-libdir GWENA_1.0.1.tar.gz |
| StartedAt: 2021-05-06 09:15:46 -0400 (Thu, 06 May 2021) |
| EndedAt: 2021-05-06 09:16:50 -0400 (Thu, 06 May 2021) |
| EllapsedTime: 63.6 seconds |
| RetCode: 0 |
| Status: OK |
| PackageFile: GWENA_1.0.1.zip |
| PackageFileSize: 7.293 MiB |
##############################################################################
##############################################################################
###
### Running command:
###
### rm -rf GWENA.buildbin-libdir && mkdir GWENA.buildbin-libdir && C:\Users\biocbuild\bbs-3.12-bioc\R\bin\R.exe CMD INSTALL --merge-multiarch --build --library=GWENA.buildbin-libdir GWENA_1.0.1.tar.gz
###
##############################################################################
##############################################################################
install for i386
* installing *source* package 'GWENA' ...
** using staged installation
** R
** data
*** moving datasets to lazyload DB
** inst
** byte-compile and prepare package for lazy loading
** help
*** installing help indices
converting help for package 'GWENA'
finding HTML links ... done
associate_phenotype html
bio_enrich html
build_graph_from_sq_mat html
build_net html
finding level-2 HTML links ... done
compare_conditions html
detect_modules html
dot-check_data_expr html
dot-check_gost html
dot-check_module html
dot-check_network html
dot-contingencyTable html
dot-cor_func_match html
filter_RNA_seq html
filter_low_var html
get_fit.cor html
get_fit.expr html
get_hub_degree html
get_hub_genes html
get_hub_high_co html
get_hub_kleinberg html
gtex_expr html
gtex_traits html
is_data_expr html
is_gost html
is_module html
is_network html
join_gost html
kuehne_expr html
kuehne_traits html
matchsub html
orderAsNumeric html
plot_comparison_stats html
plot_enrichment html
plot_expression_profiles html
plot_module html
plot_modules_merge html
plot_modules_phenotype html
quiet html
z_summary html
** building package indices
** installing vignettes
** testing if installed package can be loaded from temporary location
** testing if installed package can be loaded from final location
** testing if installed package keeps a record of temporary installation path
install for x64
* installing *source* package 'GWENA' ...
** testing if installed package can be loaded
* MD5 sums
packaged installation of 'GWENA' as GWENA_1.0.1.zip
* DONE (GWENA)