| Back to Multiple platform build/check report for BioC 3.12 |
|
This page was generated on 2021-05-06 12:27:51 -0400 (Thu, 06 May 2021).
|
To the developers/maintainers of the GWENA package: Please make sure to use the following settings in order to reproduce any error or warning you see on this page. |
| Package 811/1974 | Hostname | OS / Arch | INSTALL | BUILD | CHECK | BUILD BIN | ||||||||
| GWENA 1.0.1 (landing page) Gwenaëlle Lemoine
| malbec1 | Linux (Ubuntu 18.04.5 LTS) / x86_64 | OK | OK | OK | |||||||||
| tokay1 | Windows Server 2012 R2 Standard / x64 | OK | OK | OK | OK | |||||||||
| merida1 | macOS 10.14.6 Mojave / x86_64 | OK | OK | OK | OK | |||||||||
| Package: GWENA |
| Version: 1.0.1 |
| Command: /home/biocbuild/bbs-3.12-bioc/R/bin/R CMD check --install=check:GWENA.install-out.txt --library=/home/biocbuild/bbs-3.12-bioc/R/library --no-vignettes --timings GWENA_1.0.1.tar.gz |
| StartedAt: 2021-05-06 02:20:00 -0400 (Thu, 06 May 2021) |
| EndedAt: 2021-05-06 02:29:53 -0400 (Thu, 06 May 2021) |
| EllapsedTime: 592.3 seconds |
| RetCode: 0 |
| Status: OK |
| CheckDir: GWENA.Rcheck |
| Warnings: 0 |
##############################################################################
##############################################################################
###
### Running command:
###
### /home/biocbuild/bbs-3.12-bioc/R/bin/R CMD check --install=check:GWENA.install-out.txt --library=/home/biocbuild/bbs-3.12-bioc/R/library --no-vignettes --timings GWENA_1.0.1.tar.gz
###
##############################################################################
##############################################################################
* using log directory ‘/home/biocbuild/bbs-3.12-bioc/meat/GWENA.Rcheck’
* using R version 4.0.5 (2021-03-31)
* using platform: x86_64-pc-linux-gnu (64-bit)
* using session charset: UTF-8
* using option ‘--no-vignettes’
* checking for file ‘GWENA/DESCRIPTION’ ... OK
* this is package ‘GWENA’ version ‘1.0.1’
* package encoding: UTF-8
* checking package namespace information ... OK
* checking package dependencies ... OK
* checking if this is a source package ... OK
* checking if there is a namespace ... OK
* checking for hidden files and directories ... OK
* checking for portable file names ... OK
* checking for sufficient/correct file permissions ... OK
* checking whether package ‘GWENA’ can be installed ... OK
* checking installed package size ... NOTE
installed size is 5.9Mb
sub-directories of 1Mb or more:
data 5.6Mb
* checking package directory ... OK
* checking ‘build’ directory ... OK
* checking DESCRIPTION meta-information ... OK
* checking top-level files ... OK
* checking for left-over files ... OK
* checking index information ... OK
* checking package subdirectories ... OK
* checking R files for non-ASCII characters ... OK
* checking R files for syntax errors ... OK
* checking whether the package can be loaded ... OK
* checking whether the package can be loaded with stated dependencies ... OK
* checking whether the package can be unloaded cleanly ... OK
* checking whether the namespace can be loaded with stated dependencies ... OK
* checking whether the namespace can be unloaded cleanly ... OK
* checking dependencies in R code ... OK
* checking S3 generic/method consistency ... OK
* checking replacement functions ... OK
* checking foreign function calls ... OK
* checking R code for possible problems ... OK
* checking Rd files ... OK
* checking Rd metadata ... OK
* checking Rd cross-references ... OK
* checking for missing documentation entries ... OK
* checking for code/documentation mismatches ... OK
* checking Rd \usage sections ... OK
* checking Rd contents ... OK
* checking for unstated dependencies in examples ... OK
* checking contents of ‘data’ directory ... OK
* checking data for non-ASCII characters ... OK
* checking data for ASCII and uncompressed saves ... OK
* checking files in ‘vignettes’ ... OK
* checking examples ... OK
Examples with CPU (user + system) or elapsed time > 5s
user system elapsed
z_summary 14.516 0.420 17.370
compare_conditions 8.988 0.216 10.135
plot_enrichment 1.736 0.104 8.026
bio_enrich 0.152 0.016 11.608
* checking for unstated dependencies in ‘tests’ ... OK
* checking tests ...
Running ‘testthat.R’
OK
* checking for unstated dependencies in vignettes ... OK
* checking package vignettes in ‘inst/doc’ ... OK
* checking running R code from vignettes ... SKIPPED
* checking re-building of vignette outputs ... SKIPPED
* checking PDF version of manual ... OK
* DONE
Status: 1 NOTE
See
‘/home/biocbuild/bbs-3.12-bioc/meat/GWENA.Rcheck/00check.log’
for details.
GWENA.Rcheck/00install.out
############################################################################## ############################################################################## ### ### Running command: ### ### /home/biocbuild/bbs-3.12-bioc/R/bin/R CMD INSTALL GWENA ### ############################################################################## ############################################################################## * installing to library ‘/home/biocbuild/bbs-3.12-bioc/R/library’ * installing *source* package ‘GWENA’ ... ** using staged installation ** R ** data *** moving datasets to lazyload DB ** inst ** byte-compile and prepare package for lazy loading ** help *** installing help indices ** building package indices ** installing vignettes ** testing if installed package can be loaded from temporary location ** testing if installed package can be loaded from final location ** testing if installed package keeps a record of temporary installation path * DONE (GWENA)
GWENA.Rcheck/tests/testthat.Rout
R version 4.0.5 (2021-03-31) -- "Shake and Throw"
Copyright (C) 2021 The R Foundation for Statistical Computing
Platform: x86_64-pc-linux-gnu (64-bit)
R is free software and comes with ABSOLUTELY NO WARRANTY.
You are welcome to redistribute it under certain conditions.
Type 'license()' or 'licence()' for distribution details.
R is a collaborative project with many contributors.
Type 'contributors()' for more information and
'citation()' on how to cite R or R packages in publications.
Type 'demo()' for some demos, 'help()' for on-line help, or
'help.start()' for an HTML browser interface to help.
Type 'q()' to quit R.
> library(testthat)
> library(GWENA)
>
> test_check("GWENA")
[ FAIL 0 | WARN 0 | SKIP 0 | PASS 275 ]
>
> proc.time()
user system elapsed
575.184 3.948 299.007
GWENA.Rcheck/GWENA-Ex.timings
| name | user | system | elapsed | |
| associate_phenotype | 0.036 | 0.000 | 0.035 | |
| bio_enrich | 0.152 | 0.016 | 11.608 | |
| build_graph_from_sq_mat | 0.220 | 0.000 | 0.222 | |
| build_net | 3.244 | 0.028 | 3.277 | |
| compare_conditions | 8.988 | 0.216 | 10.135 | |
| detect_modules | 1.552 | 0.016 | 1.574 | |
| filter_RNA_seq | 0.004 | 0.000 | 0.001 | |
| filter_low_var | 0.012 | 0.000 | 0.014 | |
| get_fit.cor | 0.872 | 0.000 | 0.884 | |
| get_fit.expr | 0.844 | 0.000 | 0.849 | |
| get_hub_degree | 0.148 | 0.000 | 0.145 | |
| get_hub_genes | 0.000 | 0.000 | 0.001 | |
| get_hub_high_co | 0.000 | 0.000 | 0.001 | |
| get_hub_kleinberg | 0.292 | 0.000 | 0.293 | |
| is_data_expr | 0.000 | 0.000 | 0.001 | |
| is_gost | 0.044 | 0.000 | 2.401 | |
| is_module | 0.004 | 0.000 | 0.001 | |
| is_network | 0.000 | 0.000 | 0.001 | |
| join_gost | 0.020 | 0.004 | 1.232 | |
| plot_comparison_stats | 0.356 | 0.000 | 0.359 | |
| plot_enrichment | 1.736 | 0.104 | 8.026 | |
| plot_expression_profiles | 3.548 | 0.028 | 3.580 | |
| plot_module | 0.296 | 0.000 | 0.294 | |
| plot_modules_merge | 2.088 | 0.012 | 2.107 | |
| plot_modules_phenotype | 0.380 | 0.000 | 0.379 | |
| z_summary | 14.516 | 0.420 | 17.370 | |