| Back to Multiple platform build/check report for BioC 3.11 |
|
This page was generated on 2020-01-16 13:37:35 -0500 (Thu, 16 Jan 2020).
| Package 1751/1818 | Hostname | OS / Arch | INSTALL | BUILD | CHECK | BUILD BIN | ||||||
| trio 3.25.1 Holger Schwender
| malbec2 | Linux (Ubuntu 18.04.3 LTS) / x86_64 | OK | OK | OK | |||||||
| tokay2 | Windows Server 2012 R2 Standard / x64 | OK | OK | OK | NA | |||||||
| celaya2 | OS X 10.11.6 El Capitan / x86_64 | OK | OK | [ OK ] | OK |
| Package: trio |
| Version: 3.25.1 |
| Command: /Library/Frameworks/R.framework/Versions/Current/Resources/bin/R CMD check --install=check:trio.install-out.txt --library=/Library/Frameworks/R.framework/Versions/Current/Resources/library --no-vignettes --timings trio_3.25.1.tar.gz |
| StartedAt: 2020-01-16 09:37:36 -0500 (Thu, 16 Jan 2020) |
| EndedAt: 2020-01-16 09:42:10 -0500 (Thu, 16 Jan 2020) |
| EllapsedTime: 273.6 seconds |
| RetCode: 0 |
| Status: OK |
| CheckDir: trio.Rcheck |
| Warnings: 0 |
##############################################################################
##############################################################################
###
### Running command:
###
### /Library/Frameworks/R.framework/Versions/Current/Resources/bin/R CMD check --install=check:trio.install-out.txt --library=/Library/Frameworks/R.framework/Versions/Current/Resources/library --no-vignettes --timings trio_3.25.1.tar.gz
###
##############################################################################
##############################################################################
* using log directory ‘/Users/biocbuild/bbs-3.11-bioc/meat/trio.Rcheck’
* using R Under development (unstable) (2019-12-14 r77572)
* using platform: x86_64-apple-darwin15.6.0 (64-bit)
* using session charset: UTF-8
* using option ‘--no-vignettes’
* checking for file ‘trio/DESCRIPTION’ ... OK
* checking extension type ... Package
* this is package ‘trio’ version ‘3.25.1’
* checking package namespace information ... OK
* checking package dependencies ... OK
* checking if this is a source package ... OK
* checking if there is a namespace ... OK
* checking for hidden files and directories ... OK
* checking for portable file names ... OK
* checking for sufficient/correct file permissions ... OK
* checking whether package ‘trio’ can be installed ... OK
* checking installed package size ... OK
* checking package directory ... OK
* checking ‘build’ directory ... OK
* checking DESCRIPTION meta-information ... OK
* checking top-level files ... OK
* checking for left-over files ... OK
* checking index information ... OK
* checking package subdirectories ... OK
* checking R files for non-ASCII characters ... OK
* checking R files for syntax errors ... OK
* checking whether the package can be loaded ... OK
* checking whether the package can be loaded with stated dependencies ... OK
* checking whether the package can be unloaded cleanly ... OK
* checking whether the namespace can be loaded with stated dependencies ... OK
* checking whether the namespace can be unloaded cleanly ... OK
* checking dependencies in R code ... OK
* checking S3 generic/method consistency ... OK
* checking replacement functions ... OK
* checking foreign function calls ... NOTE
Foreign function call to a different package:
.C("clogreg", ..., PACKAGE = "LogicReg")
See chapter ‘System and foreign language interfaces’ in the ‘Writing R
Extensions’ manual.
* checking R code for possible problems ... OK
* checking Rd files ... OK
* checking Rd metadata ... OK
* checking Rd cross-references ... OK
* checking for missing documentation entries ... OK
* checking for code/documentation mismatches ... OK
* checking Rd \usage sections ... OK
* checking Rd contents ... OK
* checking for unstated dependencies in examples ... OK
* checking contents of ‘data’ directory ... OK
* checking data for non-ASCII characters ... OK
* checking data for ASCII and uncompressed saves ... OK
* checking sizes of PDF files under ‘inst/doc’ ... OK
* checking installed files from ‘inst/doc’ ... OK
* checking files in ‘vignettes’ ... OK
* checking examples ... OK
Examples with CPU (user + system) or elapsed time > 5s
user system elapsed
print.trioFS 8.848 0.236 9.087
colGxGPerms 7.597 0.677 8.275
trioFS 7.689 0.153 7.843
plot.trioLR 7.321 0.391 7.720
trio.permTest 7.312 0.166 7.479
* checking for unstated dependencies in vignettes ... OK
* checking package vignettes in ‘inst/doc’ ... OK
* checking running R code from vignettes ... SKIPPED
* checking re-building of vignette outputs ... SKIPPED
* checking PDF version of manual ... OK
* DONE
Status: 1 NOTE
See
‘/Users/biocbuild/bbs-3.11-bioc/meat/trio.Rcheck/00check.log’
for details.
trio.Rcheck/00install.out
############################################################################## ############################################################################## ### ### Running command: ### ### /Library/Frameworks/R.framework/Versions/Current/Resources/bin/R CMD INSTALL trio ### ############################################################################## ############################################################################## * installing to library ‘/Library/Frameworks/R.framework/Versions/4.0/Resources/library’ * installing *source* package ‘trio’ ... ** using staged installation ** R ** data ** inst ** byte-compile and prepare package for lazy loading ** help *** installing help indices ** building package indices ** installing vignettes ‘trio.Rnw’ ** testing if installed package can be loaded from temporary location ** testing if installed package can be loaded from final location ** testing if installed package keeps a record of temporary installation path * DONE (trio)
trio.Rcheck/trio-Ex.timings
| name | user | system | elapsed | |
| allelicTDT | 0.048 | 0.009 | 0.056 | |
| colEMlrt | 0.182 | 0.016 | 0.198 | |
| colGxE | 0.009 | 0.001 | 0.010 | |
| colGxGPerms | 7.597 | 0.677 | 8.275 | |
| colPOlrt | 0.044 | 0.020 | 0.064 | |
| colTDTmaxTest | 0.067 | 0.006 | 0.072 | |
| colTDTsam | 0.061 | 0.005 | 0.065 | |
| findLDblocks | 0.054 | 0.021 | 0.075 | |
| getLD | 0.027 | 0.005 | 0.032 | |
| getMatPseudo | 0.011 | 0.002 | 0.013 | |
| lrControl | 0.001 | 0.000 | 0.000 | |
| ped2geno | 0.000 | 0.001 | 0.001 | |
| plot.LDblocks | 0.105 | 0.028 | 0.133 | |
| plot.getLD | 0.040 | 0.006 | 0.048 | |
| plot.trioLR | 7.321 | 0.391 | 7.720 | |
| poly4root | 0.001 | 0.001 | 0.001 | |
| print.colGxE | 0.088 | 0.008 | 0.097 | |
| print.trioFS | 8.848 | 0.236 | 9.087 | |
| print.trioLR | 4.154 | 0.121 | 4.304 | |
| probTDT | 0.100 | 0.032 | 0.132 | |
| read.pedfile | 0.000 | 0.001 | 0.000 | |
| removeSNPs | 0.010 | 0.003 | 0.013 | |
| scoreTDT | 0.016 | 0.003 | 0.020 | |
| tdt | 0.037 | 0.005 | 0.041 | |
| tdtGxG | 1.883 | 0.151 | 2.034 | |
| trio.check | 1.262 | 0.022 | 1.285 | |
| trio.data | 0.006 | 0.002 | 0.007 | |
| trio.permTest | 7.312 | 0.166 | 7.479 | |
| trio.power | 0.015 | 0.000 | 0.016 | |
| trio.prepare | 4.583 | 0.118 | 4.702 | |
| trio.sim | 0.508 | 0.020 | 0.527 | |
| trioFS | 7.689 | 0.153 | 7.843 | |
| trioLR | 4.531 | 0.111 | 4.642 | |