| Back to Multiple platform build/check report for BioC 3.11 |
|
This page was generated on 2020-10-17 11:55:58 -0400 (Sat, 17 Oct 2020).
| TO THE DEVELOPERS/MAINTAINERS OF THE trio PACKAGE: Please make sure to use the following settings in order to reproduce any error or warning you see on this page. |
| Package 1835/1905 | Hostname | OS / Arch | INSTALL | BUILD | CHECK | BUILD BIN | ||||||
| trio 3.26.0 Holger Schwender
| malbec2 | Linux (Ubuntu 18.04.4 LTS) / x86_64 | OK | OK | [ OK ] | |||||||
| tokay2 | Windows Server 2012 R2 Standard / x64 | OK | OK | OK | NA | |||||||
| machv2 | macOS 10.14.6 Mojave / x86_64 | OK | OK | OK | OK |
| Package: trio |
| Version: 3.26.0 |
| Command: /home/biocbuild/bbs-3.11-bioc/R/bin/R CMD check --install=check:trio.install-out.txt --library=/home/biocbuild/bbs-3.11-bioc/R/library --no-vignettes --timings trio_3.26.0.tar.gz |
| StartedAt: 2020-10-17 06:13:23 -0400 (Sat, 17 Oct 2020) |
| EndedAt: 2020-10-17 06:16:34 -0400 (Sat, 17 Oct 2020) |
| EllapsedTime: 191.1 seconds |
| RetCode: 0 |
| Status: OK |
| CheckDir: trio.Rcheck |
| Warnings: 0 |
##############################################################################
##############################################################################
###
### Running command:
###
### /home/biocbuild/bbs-3.11-bioc/R/bin/R CMD check --install=check:trio.install-out.txt --library=/home/biocbuild/bbs-3.11-bioc/R/library --no-vignettes --timings trio_3.26.0.tar.gz
###
##############################################################################
##############################################################################
* using log directory ‘/home/biocbuild/bbs-3.11-bioc/meat/trio.Rcheck’
* using R version 4.0.3 (2020-10-10)
* using platform: x86_64-pc-linux-gnu (64-bit)
* using session charset: UTF-8
* using option ‘--no-vignettes’
* checking for file ‘trio/DESCRIPTION’ ... OK
* checking extension type ... Package
* this is package ‘trio’ version ‘3.26.0’
* checking package namespace information ... OK
* checking package dependencies ... OK
* checking if this is a source package ... OK
* checking if there is a namespace ... OK
* checking for hidden files and directories ... OK
* checking for portable file names ... OK
* checking for sufficient/correct file permissions ... OK
* checking whether package ‘trio’ can be installed ... OK
* checking installed package size ... OK
* checking package directory ... OK
* checking ‘build’ directory ... OK
* checking DESCRIPTION meta-information ... OK
* checking top-level files ... OK
* checking for left-over files ... OK
* checking index information ... OK
* checking package subdirectories ... OK
* checking R files for non-ASCII characters ... OK
* checking R files for syntax errors ... OK
* checking whether the package can be loaded ... OK
* checking whether the package can be loaded with stated dependencies ... OK
* checking whether the package can be unloaded cleanly ... OK
* checking whether the namespace can be loaded with stated dependencies ... OK
* checking whether the namespace can be unloaded cleanly ... OK
* checking dependencies in R code ... OK
* checking S3 generic/method consistency ... OK
* checking replacement functions ... OK
* checking foreign function calls ... NOTE
Foreign function call to a different package:
.C("clogreg", ..., PACKAGE = "LogicReg")
See chapter ‘System and foreign language interfaces’ in the ‘Writing R
Extensions’ manual.
* checking R code for possible problems ... OK
* checking Rd files ... OK
* checking Rd metadata ... OK
* checking Rd cross-references ... OK
* checking for missing documentation entries ... OK
* checking for code/documentation mismatches ... OK
* checking Rd \usage sections ... OK
* checking Rd contents ... OK
* checking for unstated dependencies in examples ... OK
* checking contents of ‘data’ directory ... OK
* checking data for non-ASCII characters ... OK
* checking data for ASCII and uncompressed saves ... OK
* checking installed files from ‘inst/doc’ ... OK
* checking files in ‘vignettes’ ... OK
* checking examples ... OK
Examples with CPU (user + system) or elapsed time > 5s
user system elapsed
print.trioFS 7.586 0.104 7.690
trioFS 7.219 0.112 7.331
colGxGPerms 6.932 0.004 6.945
trio.permTest 6.349 0.075 6.425
* checking for unstated dependencies in vignettes ... OK
* checking package vignettes in ‘inst/doc’ ... OK
* checking running R code from vignettes ... SKIPPED
* checking re-building of vignette outputs ... SKIPPED
* checking PDF version of manual ... OK
* DONE
Status: 1 NOTE
See
‘/home/biocbuild/bbs-3.11-bioc/meat/trio.Rcheck/00check.log’
for details.
trio.Rcheck/00install.out
############################################################################## ############################################################################## ### ### Running command: ### ### /home/biocbuild/bbs-3.11-bioc/R/bin/R CMD INSTALL trio ### ############################################################################## ############################################################################## * installing to library ‘/home/biocbuild/bbs-3.11-bioc/R/library’ * installing *source* package ‘trio’ ... ** using staged installation ** R ** data ** inst ** byte-compile and prepare package for lazy loading ** help *** installing help indices ** building package indices ** installing vignettes ‘trio.Rnw’ ** testing if installed package can be loaded from temporary location ** testing if installed package can be loaded from final location ** testing if installed package keeps a record of temporary installation path * DONE (trio)
trio.Rcheck/trio-Ex.timings
| name | user | system | elapsed | |
| allelicTDT | 0.025 | 0.000 | 0.025 | |
| colEMlrt | 0.097 | 0.000 | 0.097 | |
| colGxE | 0.008 | 0.000 | 0.009 | |
| colGxGPerms | 6.932 | 0.004 | 6.945 | |
| colPOlrt | 0.025 | 0.000 | 0.025 | |
| colTDTmaxTest | 0.069 | 0.000 | 0.069 | |
| colTDTsam | 0.055 | 0.000 | 0.055 | |
| findLDblocks | 0.040 | 0.000 | 0.039 | |
| getLD | 0.023 | 0.000 | 0.024 | |
| getMatPseudo | 0.013 | 0.000 | 0.013 | |
| lrControl | 0.001 | 0.000 | 0.000 | |
| ped2geno | 0.000 | 0.000 | 0.001 | |
| plot.LDblocks | 0.085 | 0.000 | 0.085 | |
| plot.getLD | 0.040 | 0.004 | 0.045 | |
| plot.trioLR | 4.709 | 0.155 | 4.877 | |
| poly4root | 0.001 | 0.000 | 0.001 | |
| print.colGxE | 0.051 | 0.000 | 0.050 | |
| print.trioFS | 7.586 | 0.104 | 7.690 | |
| print.trioLR | 3.773 | 0.004 | 3.777 | |
| probTDT | 0.055 | 0.008 | 0.063 | |
| read.pedfile | 0 | 0 | 0 | |
| removeSNPs | 0.007 | 0.000 | 0.007 | |
| scoreTDT | 0.01 | 0.00 | 0.01 | |
| tdt | 0.026 | 0.000 | 0.026 | |
| tdtGxG | 1.904 | 0.000 | 1.905 | |
| trio.check | 1.167 | 0.000 | 1.167 | |
| trio.data | 0.008 | 0.000 | 0.008 | |
| trio.permTest | 6.349 | 0.075 | 6.425 | |
| trio.power | 0.021 | 0.001 | 0.021 | |
| trio.prepare | 3.207 | 0.000 | 3.207 | |
| trio.sim | 0.336 | 0.000 | 0.336 | |
| trioFS | 7.219 | 0.112 | 7.331 | |
| trioLR | 3.062 | 0.003 | 3.066 | |