| Back to Multiple platform build/check report for BioC 3.11 | 
  | 
This page was generated on 2020-10-16 11:58:55 -0400 (Fri, 16 Oct 2020).
| TO THE DEVELOPERS/MAINTAINERS OF THE soGGi PACKAGE: Please make sure to use the following settings in order to reproduce any error or warning you see on this page. | 
| Package 1696/1905 | Hostname | OS / Arch | INSTALL | BUILD | CHECK | BUILD BIN | ||||||
| soGGi 1.20.0 Tom Carroll 
  | malbec2 | Linux (Ubuntu 18.04.4 LTS) / x86_64 | OK | OK | OK | |||||||
| tokay2 | Windows Server 2012 R2 Standard / x64 | OK | OK | OK | [ OK ] | |||||||
| machv2 | macOS 10.14.6 Mojave / x86_64 | OK | OK | OK | OK | 
| Package: soGGi | 
| Version: 1.20.0 | 
| Command: rm -rf soGGi.buildbin-libdir && mkdir soGGi.buildbin-libdir && C:\Users\biocbuild\bbs-3.11-bioc\R\bin\R.exe CMD INSTALL --merge-multiarch --build --library=soGGi.buildbin-libdir soGGi_1.20.0.tar.gz | 
| StartedAt: 2020-10-16 11:22:31 -0400 (Fri, 16 Oct 2020) | 
| EndedAt: 2020-10-16 11:23:52 -0400 (Fri, 16 Oct 2020) | 
| EllapsedTime: 81.6 seconds | 
| RetCode: 0 | 
| Status: OK | 
| PackageFile: soGGi_1.20.0.zip | 
| PackageFileSize: 3.395 MiB | 
##############################################################################
##############################################################################
###
### Running command:
###
###   rm -rf soGGi.buildbin-libdir && mkdir soGGi.buildbin-libdir && C:\Users\biocbuild\bbs-3.11-bioc\R\bin\R.exe CMD INSTALL --merge-multiarch --build --library=soGGi.buildbin-libdir soGGi_1.20.0.tar.gz
###
##############################################################################
##############################################################################
install for i386
* installing *source* package 'soGGi' ...
** using staged installation
** R
** data
** inst
** byte-compile and prepare package for lazy loading
** help
*** installing help indices
  converting help for package 'soGGi'
    finding HTML links ... done
    ChIPprofile                             html  
    Ops                                     html  
    chipExampleBig                          html  
    findconsensusRegions                    html  
    groupByOverlaps                         html  
    ik_Example                              html  
    ik_Profiles                             html  
    manipulateObjects                       html  
    normalise                               html  
    normaliseQuantiles                      html  
    orientBy                                html  
    plotRegion                              html  
    pwmCov                                  html  
    pwmToCoverage                           html  
    singleGRange                            html  
** building package indices
** installing vignettes
** testing if installed package can be loaded from temporary location
** testing if installed package can be loaded from final location
** testing if installed package keeps a record of temporary installation path
install for x64
* installing *source* package 'soGGi' ...
** testing if installed package can be loaded
* MD5 sums
packaged installation of 'soGGi' as soGGi_1.20.0.zip
* DONE (soGGi)