| Back to Multiple platform build/check report for BioC 3.11 |
|
This page was generated on 2020-10-17 11:57:45 -0400 (Sat, 17 Oct 2020).
| TO THE DEVELOPERS/MAINTAINERS OF THE scds PACKAGE: Please make sure to use the following settings in order to reproduce any error or warning you see on this page. |
| Package 1591/1905 | Hostname | OS / Arch | INSTALL | BUILD | CHECK | BUILD BIN | ||||||
| scds 1.4.0 Dennis Kostka
| malbec2 | Linux (Ubuntu 18.04.4 LTS) / x86_64 | OK | OK | OK | |||||||
| tokay2 | Windows Server 2012 R2 Standard / x64 | [ OK ] | OK | OK | OK | |||||||
| machv2 | macOS 10.14.6 Mojave / x86_64 | OK | OK | OK | OK |
| Package: scds |
| Version: 1.4.0 |
| Command: C:\cygwin\bin\curl.exe -O https://malbec2.bioconductor.org/BBS/3.11/bioc/src/contrib/scds_1.4.0.tar.gz && rm -rf scds.buildbin-libdir && mkdir scds.buildbin-libdir && C:\Users\biocbuild\bbs-3.11-bioc\R\bin\R.exe CMD INSTALL --merge-multiarch --build --library=scds.buildbin-libdir scds_1.4.0.tar.gz && C:\Users\biocbuild\bbs-3.11-bioc\R\bin\R.exe CMD INSTALL scds_1.4.0.zip && rm scds_1.4.0.tar.gz scds_1.4.0.zip |
| StartedAt: 2020-10-16 17:57:40 -0400 (Fri, 16 Oct 2020) |
| EndedAt: 2020-10-16 17:58:35 -0400 (Fri, 16 Oct 2020) |
| EllapsedTime: 54.9 seconds |
| RetCode: 0 |
| Status: OK |
##############################################################################
##############################################################################
###
### Running command:
###
### C:\cygwin\bin\curl.exe -O https://malbec2.bioconductor.org/BBS/3.11/bioc/src/contrib/scds_1.4.0.tar.gz && rm -rf scds.buildbin-libdir && mkdir scds.buildbin-libdir && C:\Users\biocbuild\bbs-3.11-bioc\R\bin\R.exe CMD INSTALL --merge-multiarch --build --library=scds.buildbin-libdir scds_1.4.0.tar.gz && C:\Users\biocbuild\bbs-3.11-bioc\R\bin\R.exe CMD INSTALL scds_1.4.0.zip && rm scds_1.4.0.tar.gz scds_1.4.0.zip
###
##############################################################################
##############################################################################
% Total % Received % Xferd Average Speed Time Time Time Current
Dload Upload Total Spent Left Speed
0 0 0 0 0 0 0 0 --:--:-- --:--:-- --:--:-- 0
0 726k 0 0 0 0 0 0 --:--:-- 0:00:01 --:--:-- 0
100 726k 100 726k 0 0 590k 0 0:00:01 0:00:01 --:--:-- 593k
install for i386
* installing *source* package 'scds' ...
** using staged installation
** R
** data
** inst
** byte-compile and prepare package for lazy loading
** help
*** installing help indices
converting help for package 'scds'
finding HTML links ... done
bcds html
cxds html
cxds_bcds_hybrid html
cxds_getTopPairs html
get_dblCalls_ALL html
get_dblCalls_ROC html
get_dblCalls_dist html
sce_chcl html
** building package indices
** installing vignettes
** testing if installed package can be loaded from temporary location
** testing if installed package can be loaded from final location
** testing if installed package keeps a record of temporary installation path
install for x64
* installing *source* package 'scds' ...
** testing if installed package can be loaded
* MD5 sums
packaged installation of 'scds' as scds_1.4.0.zip
* DONE (scds)
* installing to library 'C:/Users/biocbuild/bbs-3.11-bioc/R/library'
package 'scds' successfully unpacked and MD5 sums checked