| Back to Multiple platform build/check report for BioC 3.11 |
|
This page was generated on 2020-01-16 13:38:11 -0500 (Thu, 16 Jan 2020).
| Package 1460/1818 | Hostname | OS / Arch | INSTALL | BUILD | CHECK | BUILD BIN | ||||||
| roar 1.23.0 Elena Grassi
| malbec2 | Linux (Ubuntu 18.04.3 LTS) / x86_64 | OK | OK | OK | |||||||
| tokay2 | Windows Server 2012 R2 Standard / x64 | OK | OK | OK | OK | |||||||
| celaya2 | OS X 10.11.6 El Capitan / x86_64 | OK | OK | [ OK ] | OK |
| Package: roar |
| Version: 1.23.0 |
| Command: /Library/Frameworks/R.framework/Versions/Current/Resources/bin/R CMD check --install=check:roar.install-out.txt --library=/Library/Frameworks/R.framework/Versions/Current/Resources/library --no-vignettes --timings roar_1.23.0.tar.gz |
| StartedAt: 2020-01-16 08:20:21 -0500 (Thu, 16 Jan 2020) |
| EndedAt: 2020-01-16 08:26:13 -0500 (Thu, 16 Jan 2020) |
| EllapsedTime: 352.3 seconds |
| RetCode: 0 |
| Status: OK |
| CheckDir: roar.Rcheck |
| Warnings: 0 |
############################################################################## ############################################################################## ### ### Running command: ### ### /Library/Frameworks/R.framework/Versions/Current/Resources/bin/R CMD check --install=check:roar.install-out.txt --library=/Library/Frameworks/R.framework/Versions/Current/Resources/library --no-vignettes --timings roar_1.23.0.tar.gz ### ############################################################################## ############################################################################## * using log directory ‘/Users/biocbuild/bbs-3.11-bioc/meat/roar.Rcheck’ * using R Under development (unstable) (2019-12-14 r77572) * using platform: x86_64-apple-darwin15.6.0 (64-bit) * using session charset: UTF-8 * using option ‘--no-vignettes’ * checking for file ‘roar/DESCRIPTION’ ... OK * checking extension type ... Package * this is package ‘roar’ version ‘1.23.0’ * checking package namespace information ... OK * checking package dependencies ... OK * checking if this is a source package ... OK * checking if there is a namespace ... OK * checking for hidden files and directories ... OK * checking for portable file names ... OK * checking for sufficient/correct file permissions ... OK * checking whether package ‘roar’ can be installed ... OK * checking installed package size ... OK * checking package directory ... OK * checking ‘build’ directory ... OK * checking DESCRIPTION meta-information ... OK * checking top-level files ... OK * checking for left-over files ... OK * checking index information ... OK * checking package subdirectories ... OK * checking R files for non-ASCII characters ... OK * checking R files for syntax errors ... OK * checking whether the package can be loaded ... OK * checking whether the package can be loaded with stated dependencies ... OK * checking whether the package can be unloaded cleanly ... OK * checking whether the namespace can be loaded with stated dependencies ... OK * checking whether the namespace can be unloaded cleanly ... OK * checking dependencies in R code ... OK * checking S3 generic/method consistency ... OK * checking replacement functions ... OK * checking foreign function calls ... OK * checking R code for possible problems ... OK * checking Rd files ... OK * checking Rd metadata ... OK * checking Rd cross-references ... OK * checking for missing documentation entries ... OK * checking for code/documentation mismatches ... OK * checking Rd \usage sections ... OK * checking Rd contents ... OK * checking for unstated dependencies in examples ... OK * checking sizes of PDF files under ‘inst/doc’ ... OK * checking files in ‘vignettes’ ... OK * checking examples ... OK * checking for unstated dependencies in ‘tests’ ... OK * checking tests ... Running ‘testthat.R’ OK * checking for unstated dependencies in vignettes ... OK * checking package vignettes in ‘inst/doc’ ... OK * checking running R code from vignettes ... SKIPPED * checking re-building of vignette outputs ... SKIPPED * checking PDF version of manual ... OK * DONE Status: OK
roar.Rcheck/00install.out
############################################################################## ############################################################################## ### ### Running command: ### ### /Library/Frameworks/R.framework/Versions/Current/Resources/bin/R CMD INSTALL roar ### ############################################################################## ############################################################################## * installing to library ‘/Library/Frameworks/R.framework/Versions/4.0/Resources/library’ * installing *source* package ‘roar’ ... ** using staged installation ** R ** inst ** byte-compile and prepare package for lazy loading ** help *** installing help indices ** building package indices ** installing vignettes ** testing if installed package can be loaded from temporary location ** testing if installed package can be loaded from final location ** testing if installed package keeps a record of temporary installation path * DONE (roar)
roar.Rcheck/tests/testthat.Rout
R Under development (unstable) (2019-12-14 r77572) -- "Unsuffered Consequences"
Copyright (C) 2019 The R Foundation for Statistical Computing
Platform: x86_64-apple-darwin15.6.0 (64-bit)
R is free software and comes with ABSOLUTELY NO WARRANTY.
You are welcome to redistribute it under certain conditions.
Type 'license()' or 'licence()' for distribution details.
R is a collaborative project with many contributors.
Type 'contributors()' for more information and
'citation()' on how to cite R or R packages in publications.
Type 'demo()' for some demos, 'help()' for on-line help, or
'help.start()' for an HTML browser interface to help.
Type 'q()' to quit R.
> library(testthat)
> library(roar)
>
> test_check("roar")
══ testthat results ═══════════════════════════════════════════════════════════
[ OK: 137 | SKIPPED: 0 | WARNINGS: 0 | FAILED: 0 ]
>
> proc.time()
user system elapsed
45.981 1.841 47.768
roar.Rcheck/roar-Ex.timings
| name | user | system | elapsed | |
| RoarDataset-class | 0.005 | 0.001 | 0.006 | |
| RoarDataset-constructor | 0.704 | 0.020 | 0.724 | |
| RoarDatasetFromFiles-constructor | 0.000 | 0.000 | 0.001 | |
| RoarDatasetMultipleAPA-class | 0.002 | 0.002 | 0.002 | |
| RoarDatasetMultipleAPA-constructor | 0.980 | 0.136 | 1.116 | |
| RoarDatasetMultipleAPAFromFiles-constructor | 0.001 | 0.001 | 0.000 | |
| computePairedPvals-method | 2.341 | 0.036 | 2.377 | |
| computePvals-method | 1.191 | 0.027 | 1.218 | |
| computeRoars-method | 1.292 | 0.030 | 1.323 | |
| countPrePost-method | 1.051 | 0.019 | 1.070 | |
| countResults-method | 1.315 | 0.024 | 1.340 | |
| fpkmResults-method | 1.462 | 0.019 | 1.481 | |
| pvalueCorrectFilter-method | 1.501 | 0.022 | 1.524 | |
| pvalueFilter-method | 1.351 | 0.024 | 1.375 | |
| standardFilter-method | 1.330 | 0.020 | 1.349 | |
| totalResults-method | 1.299 | 0.027 | 1.326 | |