| Back to Multiple platform build/check report for BioC 3.11 |
|
This page was generated on 2020-10-17 11:57:40 -0400 (Sat, 17 Oct 2020).
| TO THE DEVELOPERS/MAINTAINERS OF THE roar PACKAGE: Please make sure to use the following settings in order to reproduce any error or warning you see on this page. |
| Package 1520/1905 | Hostname | OS / Arch | INSTALL | BUILD | CHECK | BUILD BIN | ||||||
| roar 1.24.0 Elena Grassi
| malbec2 | Linux (Ubuntu 18.04.4 LTS) / x86_64 | OK | OK | OK | |||||||
| tokay2 | Windows Server 2012 R2 Standard / x64 | [ OK ] | OK | OK | OK | |||||||
| machv2 | macOS 10.14.6 Mojave / x86_64 | OK | OK | OK | OK |
| Package: roar |
| Version: 1.24.0 |
| Command: C:\cygwin\bin\curl.exe -O https://malbec2.bioconductor.org/BBS/3.11/bioc/src/contrib/roar_1.24.0.tar.gz && rm -rf roar.buildbin-libdir && mkdir roar.buildbin-libdir && C:\Users\biocbuild\bbs-3.11-bioc\R\bin\R.exe CMD INSTALL --merge-multiarch --build --library=roar.buildbin-libdir roar_1.24.0.tar.gz && C:\Users\biocbuild\bbs-3.11-bioc\R\bin\R.exe CMD INSTALL roar_1.24.0.zip && rm roar_1.24.0.tar.gz roar_1.24.0.zip |
| StartedAt: 2020-10-16 18:42:11 -0400 (Fri, 16 Oct 2020) |
| EndedAt: 2020-10-16 18:43:17 -0400 (Fri, 16 Oct 2020) |
| EllapsedTime: 65.6 seconds |
| RetCode: 0 |
| Status: OK |
##############################################################################
##############################################################################
###
### Running command:
###
### C:\cygwin\bin\curl.exe -O https://malbec2.bioconductor.org/BBS/3.11/bioc/src/contrib/roar_1.24.0.tar.gz && rm -rf roar.buildbin-libdir && mkdir roar.buildbin-libdir && C:\Users\biocbuild\bbs-3.11-bioc\R\bin\R.exe CMD INSTALL --merge-multiarch --build --library=roar.buildbin-libdir roar_1.24.0.tar.gz && C:\Users\biocbuild\bbs-3.11-bioc\R\bin\R.exe CMD INSTALL roar_1.24.0.zip && rm roar_1.24.0.tar.gz roar_1.24.0.zip
###
##############################################################################
##############################################################################
% Total % Received % Xferd Average Speed Time Time Time Current
Dload Upload Total Spent Left Speed
0 0 0 0 0 0 0 0 --:--:-- --:--:-- --:--:-- 0
100 528k 100 528k 0 0 4777k 0 --:--:-- --:--:-- --:--:-- 5078k
install for i386
* installing *source* package 'roar' ...
** using staged installation
** R
** inst
** byte-compile and prepare package for lazy loading
** help
*** installing help indices
converting help for package 'roar'
finding HTML links ... done
RoarDataset-class html
finding level-2 HTML links ... done
RoarDataset-constructor html
RoarDatasetFromFiles-constructor html
RoarDatasetMultipleAPA-class html
RoarDatasetMultipleAPA-constructor html
RoarDatasetMultipleAPAFromFiles-constructor
html
checkStep-method html
combineFisherMethod-method html
computePairedPvals-method html
computePvals-method html
computeRoars-method html
cores-method html
countPrePost-method html
countResults-method html
fpkmResults-method html
getFisher-method html
meanAcrossAssays-method html
pvalueCorrectFilter-method html
pvalueFilter-method html
roar-package html
standardFilter-method html
totalResults-method html
** building package indices
** installing vignettes
** testing if installed package can be loaded from temporary location
** testing if installed package can be loaded from final location
** testing if installed package keeps a record of temporary installation path
install for x64
* installing *source* package 'roar' ...
** testing if installed package can be loaded
* MD5 sums
packaged installation of 'roar' as roar_1.24.0.zip
* DONE (roar)
* installing to library 'C:/Users/biocbuild/bbs-3.11-bioc/R/library'
package 'roar' successfully unpacked and MD5 sums checked