| Back to Multiple platform build/check report for BioC 3.11 |
|
This page was generated on 2020-10-17 11:55:28 -0400 (Sat, 17 Oct 2020).
| TO THE DEVELOPERS/MAINTAINERS OF THE qsea PACKAGE: Please make sure to use the following settings in order to reproduce any error or warning you see on this page. |
| Package 1393/1905 | Hostname | OS / Arch | INSTALL | BUILD | CHECK | BUILD BIN | ||||||
| qsea 1.14.0 Matthias Lienhard
| malbec2 | Linux (Ubuntu 18.04.4 LTS) / x86_64 | OK | OK | [ OK ] | |||||||
| tokay2 | Windows Server 2012 R2 Standard / x64 | OK | OK | OK | OK | |||||||
| machv2 | macOS 10.14.6 Mojave / x86_64 | OK | OK | OK | OK |
| Package: qsea |
| Version: 1.14.0 |
| Command: /home/biocbuild/bbs-3.11-bioc/R/bin/R CMD check --install=check:qsea.install-out.txt --library=/home/biocbuild/bbs-3.11-bioc/R/library --no-vignettes --timings qsea_1.14.0.tar.gz |
| StartedAt: 2020-10-17 04:25:53 -0400 (Sat, 17 Oct 2020) |
| EndedAt: 2020-10-17 04:30:24 -0400 (Sat, 17 Oct 2020) |
| EllapsedTime: 270.4 seconds |
| RetCode: 0 |
| Status: OK |
| CheckDir: qsea.Rcheck |
| Warnings: 0 |
##############################################################################
##############################################################################
###
### Running command:
###
### /home/biocbuild/bbs-3.11-bioc/R/bin/R CMD check --install=check:qsea.install-out.txt --library=/home/biocbuild/bbs-3.11-bioc/R/library --no-vignettes --timings qsea_1.14.0.tar.gz
###
##############################################################################
##############################################################################
* using log directory ‘/home/biocbuild/bbs-3.11-bioc/meat/qsea.Rcheck’
* using R version 4.0.3 (2020-10-10)
* using platform: x86_64-pc-linux-gnu (64-bit)
* using session charset: UTF-8
* using option ‘--no-vignettes’
* checking for file ‘qsea/DESCRIPTION’ ... OK
* checking extension type ... Package
* this is package ‘qsea’ version ‘1.14.0’
* checking package namespace information ... OK
* checking package dependencies ... OK
* checking if this is a source package ... OK
* checking if there is a namespace ... OK
* checking for hidden files and directories ... OK
* checking for portable file names ... OK
* checking for sufficient/correct file permissions ... OK
* checking whether package ‘qsea’ can be installed ... OK
* checking installed package size ... OK
* checking package directory ... OK
* checking ‘build’ directory ... OK
* checking DESCRIPTION meta-information ... OK
* checking top-level files ... OK
* checking for left-over files ... OK
* checking index information ... OK
* checking package subdirectories ... OK
* checking R files for non-ASCII characters ... OK
* checking R files for syntax errors ... OK
* checking whether the package can be loaded ... OK
* checking whether the package can be loaded with stated dependencies ... OK
* checking whether the package can be unloaded cleanly ... OK
* checking whether the namespace can be loaded with stated dependencies ... OK
* checking whether the namespace can be unloaded cleanly ... OK
* checking dependencies in R code ... NOTE
Namespaces in Imports field not imported from:
‘KernSmooth’ ‘MASS’
All declared Imports should be used.
* checking S3 generic/method consistency ... OK
* checking replacement functions ... OK
* checking foreign function calls ... OK
* checking R code for possible problems ... OK
* checking Rd files ... OK
* checking Rd metadata ... OK
* checking Rd cross-references ... OK
* checking for missing documentation entries ... OK
* checking for code/documentation mismatches ... OK
* checking Rd \usage sections ... OK
* checking Rd contents ... OK
* checking for unstated dependencies in examples ... OK
* checking R/sysdata.rda ... OK
* checking line endings in C/C++/Fortran sources/headers ... OK
* checking compiled code ... NOTE
Note: information on .o files is not available
* checking files in ‘vignettes’ ... OK
* checking examples ... OK
Examples with CPU (user + system) or elapsed time > 5s
user system elapsed
addNewSamples 17.561 0.420 18.553
addPatternDensity 6.595 0.056 6.655
addCNV 6.099 0.176 6.297
* checking for unstated dependencies in ‘tests’ ... OK
* checking tests ...
Running ‘testthat.R’
OK
* checking for unstated dependencies in vignettes ... OK
* checking package vignettes in ‘inst/doc’ ... OK
* checking running R code from vignettes ... SKIPPED
* checking re-building of vignette outputs ... SKIPPED
* checking PDF version of manual ... OK
* DONE
Status: 2 NOTEs
See
‘/home/biocbuild/bbs-3.11-bioc/meat/qsea.Rcheck/00check.log’
for details.
qsea.Rcheck/00install.out
############################################################################## ############################################################################## ### ### Running command: ### ### /home/biocbuild/bbs-3.11-bioc/R/bin/R CMD INSTALL qsea ### ############################################################################## ############################################################################## * installing to library ‘/home/biocbuild/bbs-3.11-bioc/R/library’ * installing *source* package ‘qsea’ ... ** using staged installation ** libs gcc -I"/home/biocbuild/bbs-3.11-bioc/R/include" -DNDEBUG -I/usr/local/include -fpic -g -O2 -Wall -c lm.c -o lm.o gcc -shared -L/home/biocbuild/bbs-3.11-bioc/R/lib -L/usr/local/lib -o qsea.so lm.o -L/home/biocbuild/bbs-3.11-bioc/R/lib -lR installing to /home/biocbuild/bbs-3.11-bioc/R/library/00LOCK-qsea/00new/qsea/libs ** R ** inst ** preparing package for lazy loading ** help *** installing help indices ** building package indices ** installing vignettes ** testing if installed package can be loaded from temporary location ** checking absolute paths in shared objects and dynamic libraries ** testing if installed package can be loaded from final location ** testing if installed package keeps a record of temporary installation path * DONE (qsea)
qsea.Rcheck/tests/testthat.Rout
R version 4.0.3 (2020-10-10) -- "Bunny-Wunnies Freak Out"
Copyright (C) 2020 The R Foundation for Statistical Computing
Platform: x86_64-pc-linux-gnu (64-bit)
R is free software and comes with ABSOLUTELY NO WARRANTY.
You are welcome to redistribute it under certain conditions.
Type 'license()' or 'licence()' for distribution details.
R is a collaborative project with many contributors.
Type 'contributors()' for more information and
'citation()' on how to cite R or R packages in publications.
Type 'demo()' for some demos, 'help()' for on-line help, or
'help.start()' for an HTML browser interface to help.
Type 'q()' to quit R.
> library(testthat)
> library(qsea)
>
> test_check("qsea")
══ testthat results ═══════════════════════════════════════════════════════════
[ OK: 3 | SKIPPED: 0 | WARNINGS: 0 | FAILED: 0 ]
>
> proc.time()
user system elapsed
12.078 0.311 12.376
qsea.Rcheck/qsea-Ex.timings
| name | user | system | elapsed | |
| addCNV | 6.099 | 0.176 | 6.297 | |
| addContrast | 2.005 | 0.000 | 2.005 | |
| addCoverage | 2.995 | 0.044 | 3.039 | |
| addEnrichmentParameters | 0.629 | 0.000 | 0.628 | |
| addLibraryFactors | 1.640 | 0.012 | 1.652 | |
| addNewSamples | 17.561 | 0.420 | 18.553 | |
| addOffset | 0.331 | 0.000 | 0.330 | |
| addPatternDensity | 6.595 | 0.056 | 6.655 | |
| createQseaSet | 0.192 | 0.004 | 0.195 | |
| example | 0.257 | 0.000 | 0.257 | |
| fitNBglm | 0.849 | 0.000 | 0.849 | |
| getPCA | 0.851 | 0.004 | 0.855 | |
| isSignificant | 1.809 | 0.000 | 1.809 | |
| makeTable | 2.339 | 0.008 | 2.347 | |
| normMethod | 0.002 | 0.000 | 0.002 | |
| plotCNV | 0.455 | 0.000 | 0.454 | |
| plotCoverage | 0.980 | 0.004 | 0.984 | |
| plotEnrichmentProfile | 0.484 | 0.000 | 0.484 | |
| plotPCA | 0.552 | 0.000 | 0.553 | |
| qseaGLM-class | 0.001 | 0.000 | 0.001 | |
| qseaPCA-class | 0.001 | 0.000 | 0.000 | |
| qseaSet-class | 0.001 | 0.000 | 0.001 | |
| regionStats | 0.625 | 0.000 | 0.625 | |